BEGIN:VCALENDAR
VERSION:2.0
PRODID:-//Jagstheim - ECPv6.15.20//NONSGML v1.0//EN
CALSCALE:GREGORIAN
METHOD:PUBLISH
X-WR-CALNAME:Jagstheim
X-ORIGINAL-URL:https://jagstheim.de/?lang=bg
X-WR-CALDESC:Събития за Jagstheim
REFRESH-INTERVAL;VALUE=DURATION:PT1H
X-Robots-Tag:noindex
X-PUBLISHED-TTL:PT1H
BEGIN:VTIMEZONE
TZID:Europe/Helsinki
BEGIN:DAYLIGHT
TZOFFSETFROM:+0200
TZOFFSETTO:+0300
TZNAME:EEST
DTSTART:20270328T010000
END:DAYLIGHT
BEGIN:STANDARD
TZOFFSETFROM:+0300
TZOFFSETTO:+0200
TZNAME:EET
DTSTART:20271031T010000
END:STANDARD
BEGIN:DAYLIGHT
TZOFFSETFROM:+0200
TZOFFSETTO:+0300
TZNAME:EEST
DTSTART:20280326T010000
END:DAYLIGHT
BEGIN:STANDARD
TZOFFSETFROM:+0300
TZOFFSETTO:+0200
TZNAME:EET
DTSTART:20281029T010000
END:STANDARD
BEGIN:DAYLIGHT
TZOFFSETFROM:+0200
TZOFFSETTO:+0300
TZNAME:EEST
DTSTART:20290325T010000
END:DAYLIGHT
BEGIN:STANDARD
TZOFFSETFROM:+0300
TZOFFSETTO:+0200
TZNAME:EET
DTSTART:20291028T010000
END:STANDARD
END:VTIMEZONE
BEGIN:VEVENT
DTSTART;VALUE=DATE:20280104
DTEND;VALUE=DATE:20280105
DTSTAMP:20260423T141903
CREATED:20250102T070320Z
LAST-MODIFIED:20250102T070320Z
UID:10005473-1830556800-1830643199@jagstheim.de
SUMMARY:Органични отпадъци и остатъчни отпадъци
DESCRIPTION:Crailsheim – District 4Дати насъбиране: Район Швебиш Хол \n  \n 
URL:https://jagstheim.de/event/%d0%be%d1%80%d0%b3%d0%b0%d0%bd%d0%b8%d1%87%d0%bd%d0%b8-%d0%be%d1%82%d0%bf%d0%b0%d0%b4%d1%8a%d1%86%d0%b8-%d0%b8-%d0%be%d1%81%d1%82%d0%b0%d1%82%d1%8a%d1%87%d0%bd%d0%b8-%d0%be%d1%82%d0%bf%d0%b0%d0%b4-17/2028-01-04/?lang=bg
LOCATION:Baden-Württemberg
CATEGORIES:Изхвърляне на отпадъци
ATTACH;FMTTYPE=image/webp:https://jagstheim.de/wp-content/uploads/2023/07/BioRest.webp
END:VEVENT
BEGIN:VEVENT
DTSTART;TZID=Europe/Helsinki:20280105T181500
DTEND;TZID=Europe/Helsinki:20280105T193000
DTSTAMP:20260423T141903
CREATED:20230825T194007Z
LAST-MODIFIED:20230825T194206Z
UID:10001545-1830708900-1830713400@jagstheim.de
SUMMARY:KICK 4 Fit е фитнес програма
DESCRIPTION:KICK 4 Fit е фитнес програма с динамични елементи от бойното изкуство таекуондо.\nНапълно без насилие\, ние тренираме скорост\, издръжливост\, сила и координация с млади и стари.\nПодобряваме реакциите и представянето си и стимулираме нервната система\, мускулите\, сухожилията и ставите по един изключително динамичен начин.\nПродължава и след лятната ваканция – идеалната възможност да се включите!\nПРИСЪЕДИНЕТЕ СЕ КЪМ НАС! ОТ 13 СЕПТЕМВРИ 2023 Г.\, 18.15 – 19.30 Ч.\nТреньори:\nПаскал Меле\, 5-ти дан TKD & Изабел Шефер\, 3-ти дан TKD\nЗапочнете:\nсряда 13 септември 2023 г.\, 18.15 – 19.30 ч.\nПроцедура:\nНепрекъснат курс\, влизане възможно по всяко време\nТакса за курса:\n8\,00 € на учебна единица + членство в Landfrauen Jagstheim\nМясто:\nJagstauenhalle\, Jagstheimer Hauptstraße 157\, 74564 Crailsheim\nДа вземете със себе си:\nУдобно спортно облекло\, напитка\nРегистриране с обвързваща сила:\nС Kathrin Lenz (0176.426 01912) \n 
URL:https://jagstheim.de/event/kick-4-fit-%d0%b5-%d1%84%d0%b8%d1%82%d0%bd%d0%b5%d1%81-%d0%bf%d1%80%d0%be%d0%b3%d1%80%d0%b0%d0%bc%d0%b0/2028-01-05/?lang=bg
LOCATION:Jagstauenhalle\, Главна улица Jagstheimer 157\, Crailsheim\, Баден-Вюртемберг\, 74564\, Deutschland
CATEGORIES:Countrywomen,Асоциация,Спортен
END:VEVENT
BEGIN:VEVENT
DTSTART;TZID=Europe/Helsinki:20280112T181500
DTEND;TZID=Europe/Helsinki:20280112T193000
DTSTAMP:20260423T141903
CREATED:20230825T194007Z
LAST-MODIFIED:20230825T194206Z
UID:10001546-1831313700-1831318200@jagstheim.de
SUMMARY:KICK 4 Fit е фитнес програма
DESCRIPTION:KICK 4 Fit е фитнес програма с динамични елементи от бойното изкуство таекуондо.\nНапълно без насилие\, ние тренираме скорост\, издръжливост\, сила и координация с млади и стари.\nПодобряваме реакциите и представянето си и стимулираме нервната система\, мускулите\, сухожилията и ставите по един изключително динамичен начин.\nПродължава и след лятната ваканция – идеалната възможност да се включите!\nПРИСЪЕДИНЕТЕ СЕ КЪМ НАС! ОТ 13 СЕПТЕМВРИ 2023 Г.\, 18.15 – 19.30 Ч.\nТреньори:\nПаскал Меле\, 5-ти дан TKD & Изабел Шефер\, 3-ти дан TKD\nЗапочнете:\nсряда 13 септември 2023 г.\, 18.15 – 19.30 ч.\nПроцедура:\nНепрекъснат курс\, влизане възможно по всяко време\nТакса за курса:\n8\,00 € на учебна единица + членство в Landfrauen Jagstheim\nМясто:\nJagstauenhalle\, Jagstheimer Hauptstraße 157\, 74564 Crailsheim\nДа вземете със себе си:\nУдобно спортно облекло\, напитка\nРегистриране с обвързваща сила:\nС Kathrin Lenz (0176.426 01912) \n 
URL:https://jagstheim.de/event/kick-4-fit-%d0%b5-%d1%84%d0%b8%d1%82%d0%bd%d0%b5%d1%81-%d0%bf%d1%80%d0%be%d0%b3%d1%80%d0%b0%d0%bc%d0%b0/2028-01-12/?lang=bg
LOCATION:Jagstauenhalle\, Главна улица Jagstheimer 157\, Crailsheim\, Баден-Вюртемберг\, 74564\, Deutschland
CATEGORIES:Countrywomen,Асоциация,Спортен
END:VEVENT
BEGIN:VEVENT
DTSTART;VALUE=DATE:20280114
DTEND;VALUE=DATE:20280115
DTSTAMP:20260423T141903
CREATED:20250102T070715Z
LAST-MODIFIED:20250102T070715Z
UID:10007068-1831420800-1831507199@jagstheim.de
SUMMARY:Жълта торба и кошче за хартия
DESCRIPTION:Crailsheim – District 4Дати насъбиране: Район Швебиш Хол \n  \n 
URL:https://jagstheim.de/event/%d0%b6%d1%8a%d0%bb%d1%82%d0%b0-%d1%82%d0%be%d1%80%d0%b1%d0%b0-%d0%b8-%d0%ba%d0%be%d1%88%d1%87%d0%b5-%d0%b7%d0%b0-%d1%85%d0%b0%d1%80%d1%82%d0%b8%d1%8f-9/2028-01-14/?lang=bg
LOCATION:Baden-Württemberg
CATEGORIES:Изхвърляне на отпадъци
ATTACH;FMTTYPE=image/webp:https://jagstheim.de/wp-content/uploads/2023/07/GelbPapier.webp
END:VEVENT
BEGIN:VEVENT
DTSTART;VALUE=DATE:20280118
DTEND;VALUE=DATE:20280119
DTSTAMP:20260423T141903
CREATED:20250102T070320Z
LAST-MODIFIED:20250102T070320Z
UID:10005474-1831766400-1831852799@jagstheim.de
SUMMARY:Органични отпадъци и остатъчни отпадъци
DESCRIPTION:Crailsheim – District 4Дати насъбиране: Район Швебиш Хол \n  \n 
URL:https://jagstheim.de/event/%d0%be%d1%80%d0%b3%d0%b0%d0%bd%d0%b8%d1%87%d0%bd%d0%b8-%d0%be%d1%82%d0%bf%d0%b0%d0%b4%d1%8a%d1%86%d0%b8-%d0%b8-%d0%be%d1%81%d1%82%d0%b0%d1%82%d1%8a%d1%87%d0%bd%d0%b8-%d0%be%d1%82%d0%bf%d0%b0%d0%b4-17/2028-01-18/?lang=bg
LOCATION:Baden-Württemberg
CATEGORIES:Изхвърляне на отпадъци
ATTACH;FMTTYPE=image/webp:https://jagstheim.de/wp-content/uploads/2023/07/BioRest.webp
END:VEVENT
BEGIN:VEVENT
DTSTART;TZID=Europe/Helsinki:20280119T181500
DTEND;TZID=Europe/Helsinki:20280119T193000
DTSTAMP:20260423T141903
CREATED:20230825T194007Z
LAST-MODIFIED:20230825T194206Z
UID:10001547-1831918500-1831923000@jagstheim.de
SUMMARY:KICK 4 Fit е фитнес програма
DESCRIPTION:KICK 4 Fit е фитнес програма с динамични елементи от бойното изкуство таекуондо.\nНапълно без насилие\, ние тренираме скорост\, издръжливост\, сила и координация с млади и стари.\nПодобряваме реакциите и представянето си и стимулираме нервната система\, мускулите\, сухожилията и ставите по един изключително динамичен начин.\nПродължава и след лятната ваканция – идеалната възможност да се включите!\nПРИСЪЕДИНЕТЕ СЕ КЪМ НАС! ОТ 13 СЕПТЕМВРИ 2023 Г.\, 18.15 – 19.30 Ч.\nТреньори:\nПаскал Меле\, 5-ти дан TKD & Изабел Шефер\, 3-ти дан TKD\nЗапочнете:\nсряда 13 септември 2023 г.\, 18.15 – 19.30 ч.\nПроцедура:\nНепрекъснат курс\, влизане възможно по всяко време\nТакса за курса:\n8\,00 € на учебна единица + членство в Landfrauen Jagstheim\nМясто:\nJagstauenhalle\, Jagstheimer Hauptstraße 157\, 74564 Crailsheim\nДа вземете със себе си:\nУдобно спортно облекло\, напитка\nРегистриране с обвързваща сила:\nС Kathrin Lenz (0176.426 01912) \n 
URL:https://jagstheim.de/event/kick-4-fit-%d0%b5-%d1%84%d0%b8%d1%82%d0%bd%d0%b5%d1%81-%d0%bf%d1%80%d0%be%d0%b3%d1%80%d0%b0%d0%bc%d0%b0/2028-01-19/?lang=bg
LOCATION:Jagstauenhalle\, Главна улица Jagstheimer 157\, Crailsheim\, Баден-Вюртемберг\, 74564\, Deutschland
CATEGORIES:Countrywomen,Асоциация,Спортен
END:VEVENT
BEGIN:VEVENT
DTSTART;TZID=Europe/Helsinki:20280126T181500
DTEND;TZID=Europe/Helsinki:20280126T193000
DTSTAMP:20260423T141903
CREATED:20230825T194007Z
LAST-MODIFIED:20230825T194206Z
UID:10001548-1832523300-1832527800@jagstheim.de
SUMMARY:KICK 4 Fit е фитнес програма
DESCRIPTION:KICK 4 Fit е фитнес програма с динамични елементи от бойното изкуство таекуондо.\nНапълно без насилие\, ние тренираме скорост\, издръжливост\, сила и координация с млади и стари.\nПодобряваме реакциите и представянето си и стимулираме нервната система\, мускулите\, сухожилията и ставите по един изключително динамичен начин.\nПродължава и след лятната ваканция – идеалната възможност да се включите!\nПРИСЪЕДИНЕТЕ СЕ КЪМ НАС! ОТ 13 СЕПТЕМВРИ 2023 Г.\, 18.15 – 19.30 Ч.\nТреньори:\nПаскал Меле\, 5-ти дан TKD & Изабел Шефер\, 3-ти дан TKD\nЗапочнете:\nсряда 13 септември 2023 г.\, 18.15 – 19.30 ч.\nПроцедура:\nНепрекъснат курс\, влизане възможно по всяко време\nТакса за курса:\n8\,00 € на учебна единица + членство в Landfrauen Jagstheim\nМясто:\nJagstauenhalle\, Jagstheimer Hauptstraße 157\, 74564 Crailsheim\nДа вземете със себе си:\nУдобно спортно облекло\, напитка\nРегистриране с обвързваща сила:\nС Kathrin Lenz (0176.426 01912) \n 
URL:https://jagstheim.de/event/kick-4-fit-%d0%b5-%d1%84%d0%b8%d1%82%d0%bd%d0%b5%d1%81-%d0%bf%d1%80%d0%be%d0%b3%d1%80%d0%b0%d0%bc%d0%b0/2028-01-26/?lang=bg
LOCATION:Jagstauenhalle\, Главна улица Jagstheimer 157\, Crailsheim\, Баден-Вюртемберг\, 74564\, Deutschland
CATEGORIES:Countrywomen,Асоциация,Спортен
END:VEVENT
END:VCALENDAR