BEGIN:VCALENDAR
VERSION:2.0
PRODID:-//Jagstheim - ECPv6.15.20//NONSGML v1.0//EN
CALSCALE:GREGORIAN
METHOD:PUBLISH
X-WR-CALNAME:Jagstheim
X-ORIGINAL-URL:https://jagstheim.de/?lang=bg
X-WR-CALDESC:Събития за Jagstheim
REFRESH-INTERVAL;VALUE=DURATION:PT1H
X-Robots-Tag:noindex
X-PUBLISHED-TTL:PT1H
BEGIN:VTIMEZONE
TZID:Europe/Helsinki
BEGIN:DAYLIGHT
TZOFFSETFROM:+0200
TZOFFSETTO:+0300
TZNAME:EEST
DTSTART:20240331T010000
END:DAYLIGHT
BEGIN:STANDARD
TZOFFSETFROM:+0300
TZOFFSETTO:+0200
TZNAME:EET
DTSTART:20241027T010000
END:STANDARD
BEGIN:DAYLIGHT
TZOFFSETFROM:+0200
TZOFFSETTO:+0300
TZNAME:EEST
DTSTART:20250330T010000
END:DAYLIGHT
BEGIN:STANDARD
TZOFFSETFROM:+0300
TZOFFSETTO:+0200
TZNAME:EET
DTSTART:20251026T010000
END:STANDARD
BEGIN:DAYLIGHT
TZOFFSETFROM:+0200
TZOFFSETTO:+0300
TZNAME:EEST
DTSTART:20260329T010000
END:DAYLIGHT
BEGIN:STANDARD
TZOFFSETFROM:+0300
TZOFFSETTO:+0200
TZNAME:EET
DTSTART:20261025T010000
END:STANDARD
BEGIN:DAYLIGHT
TZOFFSETFROM:+0200
TZOFFSETTO:+0300
TZNAME:EEST
DTSTART:20270328T010000
END:DAYLIGHT
BEGIN:STANDARD
TZOFFSETFROM:+0300
TZOFFSETTO:+0200
TZNAME:EET
DTSTART:20271031T010000
END:STANDARD
END:VTIMEZONE
BEGIN:VEVENT
DTSTART;TZID=Europe/Helsinki:20250307T190000
DTEND;TZID=Europe/Helsinki:20250307T200000
DTSTAMP:20260425T134435
CREATED:20250102T095804Z
LAST-MODIFIED:20250102T095804Z
UID:10007469-1741374000-1741377600@jagstheim.de
SUMMARY:ecum. Празнуване на Световния ден на молитвата
DESCRIPTION: 
URL:https://jagstheim.de/event/ecum-%d0%bf%d1%80%d0%b0%d0%b7%d0%bd%d1%83%d0%b2%d0%b0%d0%bd%d0%b5-%d0%bd%d0%b0-%d1%81%d0%b2%d0%b5%d1%82%d0%be%d0%b2%d0%bd%d0%b8%d1%8f-%d0%b4%d0%b5%d0%bd-%d0%bd%d0%b0-%d0%bc%d0%be%d0%bb%d0%b8%d1%82/?lang=bg
LOCATION:Католическа енорийска зала\, Eichwald Road 16\, Crailsheim\, Баден-Вюртемберг\, 74564\, Deutschland
CATEGORIES:католически,Църква
ATTACH;FMTTYPE=image/jpeg:https://jagstheim.de/wp-content/uploads/2023/07/bible-5255924_640.jpg
END:VEVENT
BEGIN:VEVENT
DTSTART;TZID=Europe/Helsinki:20250311T143000
DTEND;TZID=Europe/Helsinki:20250311T163000
DTSTAMP:20260425T134435
CREATED:20250102T100132Z
LAST-MODIFIED:20250102T100132Z
UID:10007496-1741703400-1741710600@jagstheim.de
SUMMARY:Следобед за възрастни граждани
DESCRIPTION: 
URL:https://jagstheim.de/event/%d1%81%d0%bb%d0%b5%d0%b4%d0%be%d0%b1%d0%b5%d0%b4-%d0%b7%d0%b0-%d0%b2%d1%8a%d0%b7%d1%80%d0%b0%d1%81%d1%82%d0%bd%d0%b8-%d0%b3%d1%80%d0%b0%d0%b6%d0%b4%d0%b0%d0%bd%d0%b8-9/?lang=bg
LOCATION:енорийска зала\, Пътят към язовира 5\, Crailsheim\, 74564
CATEGORIES:Протестантски,Църква
ATTACH;FMTTYPE=image/jpeg:https://jagstheim.de/wp-content/uploads/2023/07/sports-2863541_640.jpg
END:VEVENT
BEGIN:VEVENT
DTSTART;TZID=Europe/Helsinki:20250330T100000
DTEND;TZID=Europe/Helsinki:20250330T110000
DTSTAMP:20260425T134435
CREATED:20250205T060716Z
LAST-MODIFIED:20250205T060716Z
UID:10007608-1743328800-1743332400@jagstheim.de
SUMMARY:Богослужение
DESCRIPTION: 
URL:https://jagstheim.de/event/%d0%b1%d0%be%d0%b3%d0%be%d1%81%d0%bb%d1%83%d0%b6%d0%b5%d0%bd%d0%b8%d0%b5/?lang=bg
LOCATION:Църквата „Свети Николай\, Пътят към язовира 3\, Crailsheim\, Баден-Вюртемберг\, 74564\, Deutschland
CATEGORIES:Протестантски
END:VEVENT
BEGIN:VEVENT
DTSTART;TZID=Europe/Helsinki:20250408T143000
DTEND;TZID=Europe/Helsinki:20250408T163000
DTSTAMP:20260425T134435
CREATED:20250205T060725Z
LAST-MODIFIED:20250205T060725Z
UID:10007558-1744122600-1744129800@jagstheim.de
SUMMARY:Следобед за възрастни граждани
DESCRIPTION: 
URL:https://jagstheim.de/event/%d1%81%d0%bb%d0%b5%d0%b4%d0%be%d0%b1%d0%b5%d0%b4-%d0%b7%d0%b0-%d0%b2%d1%8a%d0%b7%d1%80%d0%b0%d1%81%d1%82%d0%bd%d0%b8-%d0%b3%d1%80%d0%b0%d0%b6%d0%b4%d0%b0%d0%bd%d0%b8-10/?lang=bg
LOCATION:енорийска зала\, Пътят към язовира 5\, Crailsheim\, 74564
CATEGORIES:Протестантски
END:VEVENT
BEGIN:VEVENT
DTSTART;TZID=Europe/Helsinki:20250413T000000
DTEND;TZID=Europe/Helsinki:20250413T000000
DTSTAMP:20260425T134435
CREATED:20250205T060726Z
LAST-MODIFIED:20250205T060726Z
UID:10007642-1744502400-1744502400@jagstheim.de
SUMMARY:Златно потвърждение
DESCRIPTION: 
URL:https://jagstheim.de/event/%d0%b7%d0%bb%d0%b0%d1%82%d0%bd%d0%be-%d0%bf%d0%be%d1%82%d0%b2%d1%8a%d1%80%d0%b6%d0%b4%d0%b5%d0%bd%d0%b8%d0%b5/?lang=bg
LOCATION:Църквата „Свети Николай\, Пътят към язовира 3\, Crailsheim\, Баден-Вюртемберг\, 74564\, Deutschland
CATEGORIES:Протестантски
END:VEVENT
BEGIN:VEVENT
DTSTART;TZID=Europe/Helsinki:20250417T193000
DTEND;TZID=Europe/Helsinki:20250417T203000
DTSTAMP:20260425T134435
CREATED:20250205T060726Z
LAST-MODIFIED:20250205T060726Z
UID:10007622-1744918200-1744921800@jagstheim.de
SUMMARY:Служба за причастие
DESCRIPTION: 
URL:https://jagstheim.de/event/%d1%81%d0%bb%d1%83%d0%b6%d0%b1%d0%b0-%d0%b7%d0%b0-%d0%bf%d1%80%d0%b8%d1%87%d0%b0%d1%81%d1%82%d0%b8%d0%b5-3/?lang=bg
LOCATION:Църквата „Свети Николай\, Пътят към язовира 3\, Crailsheim\, Баден-Вюртемберг\, 74564\, Deutschland
CATEGORIES:Протестантски
END:VEVENT
BEGIN:VEVENT
DTSTART;TZID=Europe/Helsinki:20250418T150000
DTEND;TZID=Europe/Helsinki:20250418T170000
DTSTAMP:20260425T134435
CREATED:20250205T060727Z
LAST-MODIFIED:20250205T060727Z
UID:10007592-1744988400-1744995600@jagstheim.de
SUMMARY:Служба за причастие
DESCRIPTION: 
URL:https://jagstheim.de/event/%d1%81%d0%bb%d1%83%d0%b6%d0%b1%d0%b0-%d0%b7%d0%b0-%d0%bf%d1%80%d0%b8%d1%87%d0%b0%d1%81%d1%82%d0%b8%d0%b5-2/?lang=bg
LOCATION:Църквата „Свети Николай\, Пътят към язовира 3\, Crailsheim\, Баден-Вюртемберг\, 74564\, Deutschland
CATEGORIES:Протестантски
END:VEVENT
BEGIN:VEVENT
DTSTART;TZID=Europe/Helsinki:20250420T100000
DTEND;TZID=Europe/Helsinki:20250420T113000
DTSTAMP:20260425T134435
CREATED:20250205T060727Z
LAST-MODIFIED:20250205T060727Z
UID:10007571-1745143200-1745148600@jagstheim.de
SUMMARY:Църковна служба с тромбонов хор
DESCRIPTION: 
URL:https://jagstheim.de/event/%d1%86%d1%8a%d1%80%d0%ba%d0%be%d0%b2%d0%bd%d0%b0-%d1%81%d0%bb%d1%83%d0%b6%d0%b1%d0%b0-%d1%81-%d1%82%d1%80%d0%be%d0%bc%d0%b1%d0%be%d0%bd%d0%be%d0%b2-%d1%85%d0%be%d1%80-2/?lang=bg
LOCATION:Църквата „Свети Николай\, Пътят към язовира 3\, Crailsheim\, Баден-Вюртемберг\, 74564\, Deutschland
CATEGORIES:Протестантски
END:VEVENT
BEGIN:VEVENT
DTSTART;TZID=Europe/Helsinki:20261224T220000
DTEND;TZID=Europe/Helsinki:20261224T230000
DTSTAMP:20260425T134435
CREATED:20251214T130458Z
LAST-MODIFIED:20251214T130458Z
UID:10007840-1798149600-1798153200@jagstheim.de
SUMMARY:Коледна меса
DESCRIPTION: 
URL:https://jagstheim.de/event/%d0%ba%d0%be%d0%bb%d0%b5%d0%b4%d0%bd%d0%b0-%d0%bc%d0%b5%d1%81%d0%b0-2/?lang=bg
LOCATION:Marienkirche Onolzheim\, Aalener Str. 14\, Crailsheim\, Baden-Württemberg\, 74564\, Germany
CATEGORIES:Протестантски,Църква
END:VEVENT
END:VCALENDAR