BEGIN:VCALENDAR
VERSION:2.0
PRODID:-//Jagstheim - ECPv6.15.20//NONSGML v1.0//EN
CALSCALE:GREGORIAN
METHOD:PUBLISH
X-WR-CALNAME:Jagstheim
X-ORIGINAL-URL:https://jagstheim.de/?lang=bg
X-WR-CALDESC:Събития за Jagstheim
REFRESH-INTERVAL;VALUE=DURATION:PT1H
X-Robots-Tag:noindex
X-PUBLISHED-TTL:PT1H
BEGIN:VTIMEZONE
TZID:Europe/Helsinki
BEGIN:DAYLIGHT
TZOFFSETFROM:+0200
TZOFFSETTO:+0300
TZNAME:EEST
DTSTART:20230326T010000
END:DAYLIGHT
BEGIN:STANDARD
TZOFFSETFROM:+0300
TZOFFSETTO:+0200
TZNAME:EET
DTSTART:20231029T010000
END:STANDARD
BEGIN:DAYLIGHT
TZOFFSETFROM:+0200
TZOFFSETTO:+0300
TZNAME:EEST
DTSTART:20240331T010000
END:DAYLIGHT
BEGIN:STANDARD
TZOFFSETFROM:+0300
TZOFFSETTO:+0200
TZNAME:EET
DTSTART:20241027T010000
END:STANDARD
BEGIN:DAYLIGHT
TZOFFSETFROM:+0200
TZOFFSETTO:+0300
TZNAME:EEST
DTSTART:20250330T010000
END:DAYLIGHT
BEGIN:STANDARD
TZOFFSETFROM:+0300
TZOFFSETTO:+0200
TZNAME:EET
DTSTART:20251026T010000
END:STANDARD
BEGIN:DAYLIGHT
TZOFFSETFROM:+0200
TZOFFSETTO:+0300
TZNAME:EEST
DTSTART:20260329T010000
END:DAYLIGHT
BEGIN:STANDARD
TZOFFSETFROM:+0300
TZOFFSETTO:+0200
TZNAME:EET
DTSTART:20261025T010000
END:STANDARD
END:VTIMEZONE
BEGIN:VEVENT
DTSTART;TZID=Europe/Helsinki:20250420T100000
DTEND;TZID=Europe/Helsinki:20250420T113000
DTSTAMP:20260421T150029
CREATED:20250205T060727Z
LAST-MODIFIED:20250205T060727Z
UID:10007571-1745143200-1745148600@jagstheim.de
SUMMARY:Църковна служба с тромбонов хор
DESCRIPTION: 
URL:https://jagstheim.de/event/%d1%86%d1%8a%d1%80%d0%ba%d0%be%d0%b2%d0%bd%d0%b0-%d1%81%d0%bb%d1%83%d0%b6%d0%b1%d0%b0-%d1%81-%d1%82%d1%80%d0%be%d0%bc%d0%b1%d0%be%d0%bd%d0%be%d0%b2-%d1%85%d0%be%d1%80-2/?lang=bg
LOCATION:Църквата „Свети Николай\, Пътят към язовира 3\, Crailsheim\, Баден-Вюртемберг\, 74564\, Deutschland
CATEGORIES:Протестантски
END:VEVENT
BEGIN:VEVENT
DTSTART;TZID=Europe/Helsinki:20250418T150000
DTEND;TZID=Europe/Helsinki:20250418T170000
DTSTAMP:20260421T150029
CREATED:20250205T060727Z
LAST-MODIFIED:20250205T060727Z
UID:10007592-1744988400-1744995600@jagstheim.de
SUMMARY:Служба за причастие
DESCRIPTION: 
URL:https://jagstheim.de/event/%d1%81%d0%bb%d1%83%d0%b6%d0%b1%d0%b0-%d0%b7%d0%b0-%d0%bf%d1%80%d0%b8%d1%87%d0%b0%d1%81%d1%82%d0%b8%d0%b5-2/?lang=bg
LOCATION:Църквата „Свети Николай\, Пътят към язовира 3\, Crailsheim\, Баден-Вюртемберг\, 74564\, Deutschland
CATEGORIES:Протестантски
END:VEVENT
BEGIN:VEVENT
DTSTART;TZID=Europe/Helsinki:20250417T193000
DTEND;TZID=Europe/Helsinki:20250417T203000
DTSTAMP:20260421T150029
CREATED:20250205T060726Z
LAST-MODIFIED:20250205T060726Z
UID:10007622-1744918200-1744921800@jagstheim.de
SUMMARY:Служба за причастие
DESCRIPTION: 
URL:https://jagstheim.de/event/%d1%81%d0%bb%d1%83%d0%b6%d0%b1%d0%b0-%d0%b7%d0%b0-%d0%bf%d1%80%d0%b8%d1%87%d0%b0%d1%81%d1%82%d0%b8%d0%b5-3/?lang=bg
LOCATION:Църквата „Свети Николай\, Пътят към язовира 3\, Crailsheim\, Баден-Вюртемберг\, 74564\, Deutschland
CATEGORIES:Протестантски
END:VEVENT
BEGIN:VEVENT
DTSTART;TZID=Europe/Helsinki:20250413T000000
DTEND;TZID=Europe/Helsinki:20250413T000000
DTSTAMP:20260421T150029
CREATED:20250205T060726Z
LAST-MODIFIED:20250205T060726Z
UID:10007642-1744502400-1744502400@jagstheim.de
SUMMARY:Златно потвърждение
DESCRIPTION: 
URL:https://jagstheim.de/event/%d0%b7%d0%bb%d0%b0%d1%82%d0%bd%d0%be-%d0%bf%d0%be%d1%82%d0%b2%d1%8a%d1%80%d0%b6%d0%b4%d0%b5%d0%bd%d0%b8%d0%b5/?lang=bg
LOCATION:Църквата „Свети Николай\, Пътят към язовира 3\, Crailsheim\, Баден-Вюртемберг\, 74564\, Deutschland
CATEGORIES:Протестантски
END:VEVENT
BEGIN:VEVENT
DTSTART;TZID=Europe/Helsinki:20250408T143000
DTEND;TZID=Europe/Helsinki:20250408T163000
DTSTAMP:20260421T150029
CREATED:20250205T060725Z
LAST-MODIFIED:20250205T060725Z
UID:10007558-1744122600-1744129800@jagstheim.de
SUMMARY:Следобед за възрастни граждани
DESCRIPTION: 
URL:https://jagstheim.de/event/%d1%81%d0%bb%d0%b5%d0%b4%d0%be%d0%b1%d0%b5%d0%b4-%d0%b7%d0%b0-%d0%b2%d1%8a%d0%b7%d1%80%d0%b0%d1%81%d1%82%d0%bd%d0%b8-%d0%b3%d1%80%d0%b0%d0%b6%d0%b4%d0%b0%d0%bd%d0%b8-10/?lang=bg
LOCATION:енорийска зала\, Пътят към язовира 5\, Crailsheim\, 74564
CATEGORIES:Протестантски
END:VEVENT
BEGIN:VEVENT
DTSTART;TZID=Europe/Helsinki:20250330T100000
DTEND;TZID=Europe/Helsinki:20250330T110000
DTSTAMP:20260421T150029
CREATED:20250205T060716Z
LAST-MODIFIED:20250205T060716Z
UID:10007608-1743328800-1743332400@jagstheim.de
SUMMARY:Богослужение
DESCRIPTION: 
URL:https://jagstheim.de/event/%d0%b1%d0%be%d0%b3%d0%be%d1%81%d0%bb%d1%83%d0%b6%d0%b5%d0%bd%d0%b8%d0%b5/?lang=bg
LOCATION:Църквата „Свети Николай\, Пътят към язовира 3\, Crailsheim\, Баден-Вюртемберг\, 74564\, Deutschland
CATEGORIES:Протестантски
END:VEVENT
BEGIN:VEVENT
DTSTART;TZID=Europe/Helsinki:20250311T143000
DTEND;TZID=Europe/Helsinki:20250311T163000
DTSTAMP:20260421T150029
CREATED:20250102T100132Z
LAST-MODIFIED:20250102T100132Z
UID:10007496-1741703400-1741710600@jagstheim.de
SUMMARY:Следобед за възрастни граждани
DESCRIPTION: 
URL:https://jagstheim.de/event/%d1%81%d0%bb%d0%b5%d0%b4%d0%be%d0%b1%d0%b5%d0%b4-%d0%b7%d0%b0-%d0%b2%d1%8a%d0%b7%d1%80%d0%b0%d1%81%d1%82%d0%bd%d0%b8-%d0%b3%d1%80%d0%b0%d0%b6%d0%b4%d0%b0%d0%bd%d0%b8-9/?lang=bg
LOCATION:енорийска зала\, Пътят към язовира 5\, Crailsheim\, 74564
CATEGORIES:Протестантски,Църква
ATTACH;FMTTYPE=image/jpeg:https://jagstheim.de/wp-content/uploads/2023/07/sports-2863541_640.jpg
END:VEVENT
BEGIN:VEVENT
DTSTART;TZID=Europe/Helsinki:20250307T190000
DTEND;TZID=Europe/Helsinki:20250307T200000
DTSTAMP:20260421T150029
CREATED:20250102T095804Z
LAST-MODIFIED:20250102T095804Z
UID:10007469-1741374000-1741377600@jagstheim.de
SUMMARY:ecum. Празнуване на Световния ден на молитвата
DESCRIPTION: 
URL:https://jagstheim.de/event/ecum-%d0%bf%d1%80%d0%b0%d0%b7%d0%bd%d1%83%d0%b2%d0%b0%d0%bd%d0%b5-%d0%bd%d0%b0-%d1%81%d0%b2%d0%b5%d1%82%d0%be%d0%b2%d0%bd%d0%b8%d1%8f-%d0%b4%d0%b5%d0%bd-%d0%bd%d0%b0-%d0%bc%d0%be%d0%bb%d0%b8%d1%82/?lang=bg
LOCATION:Католическа енорийска зала\, Eichwald Road 16\, Crailsheim\, Баден-Вюртемберг\, 74564\, Deutschland
CATEGORIES:католически,Църква
ATTACH;FMTTYPE=image/jpeg:https://jagstheim.de/wp-content/uploads/2023/07/bible-5255924_640.jpg
END:VEVENT
BEGIN:VEVENT
DTSTART;TZID=Europe/Helsinki:20250211T143000
DTEND;TZID=Europe/Helsinki:20250211T163000
DTSTAMP:20260421T150029
CREATED:20250102T090902Z
LAST-MODIFIED:20250102T090902Z
UID:10007395-1739284200-1739291400@jagstheim.de
SUMMARY:Следобед за възрастни граждани
DESCRIPTION: 
URL:https://jagstheim.de/event/%d1%81%d0%bb%d0%b5%d0%b4%d0%be%d0%b1%d0%b5%d0%b4-%d0%b7%d0%b0-%d0%b2%d1%8a%d0%b7%d1%80%d0%b0%d1%81%d1%82%d0%bd%d0%b8-%d0%b3%d1%80%d0%b0%d0%b6%d0%b4%d0%b0%d0%bd%d0%b8-8/?lang=bg
LOCATION:енорийска зала\, Пътят към язовира 5\, Crailsheim\, 74564
CATEGORIES:Протестантски,Църква
END:VEVENT
BEGIN:VEVENT
DTSTART;TZID=Europe/Helsinki:20250114T143000
DTEND;TZID=Europe/Helsinki:20250114T153000
DTSTAMP:20260421T150029
CREATED:20250102T075528Z
LAST-MODIFIED:20250102T075528Z
UID:10007330-1736865000-1736868600@jagstheim.de
SUMMARY:Следобед за възрастни граждани
DESCRIPTION: 
URL:https://jagstheim.de/event/%d1%81%d0%bb%d0%b5%d0%b4%d0%be%d0%b1%d0%b5%d0%b4-%d0%b7%d0%b0-%d0%b2%d1%8a%d0%b7%d1%80%d0%b0%d1%81%d1%82%d0%bd%d0%b8-%d0%b3%d1%80%d0%b0%d0%b6%d0%b4%d0%b0%d0%bd%d0%b8-7/?lang=bg
LOCATION:енорийска зала\, Пътят към язовира 5\, Crailsheim\, 74564
CATEGORIES:Протестантски,Църква
ATTACH;FMTTYPE=image/jpeg:https://jagstheim.de/wp-content/uploads/2023/07/coffee-shop-3699340-scaled.jpg
END:VEVENT
BEGIN:VEVENT
DTSTART;TZID=Europe/Helsinki:20250106T101500
DTEND;TZID=Europe/Helsinki:20250106T111500
DTSTAMP:20260421T150029
CREATED:20250102T075306Z
LAST-MODIFIED:20250102T075306Z
UID:10007319-1736158500-1736162100@jagstheim.de
SUMMARY:Районна служба в Онолцхайм
DESCRIPTION: 
URL:https://jagstheim.de/event/%d1%80%d0%b0%d0%b9%d0%be%d0%bd%d0%bd%d0%b0-%d1%81%d0%bb%d1%83%d0%b6%d0%b1%d0%b0-%d0%b2-%d0%be%d0%bd%d0%be%d0%bb%d1%86%d1%85%d0%b0%d0%b9%d0%bc/?lang=bg
LOCATION:Baden-Württemberg
CATEGORIES:Протестантски,Църква
ATTACH;FMTTYPE=image/jpeg:https://jagstheim.de/wp-content/uploads/2023/07/bible-5255924_640.jpg
END:VEVENT
BEGIN:VEVENT
DTSTART;TZID=Europe/Helsinki:20241230T190000
DTEND;TZID=Europe/Helsinki:20241230T203000
DTSTAMP:20260421T150029
CREATED:20240107T122627Z
LAST-MODIFIED:20240107T122627Z
UID:10005051-1735585200-1735590600@jagstheim.de
SUMMARY:Служба за причастие
DESCRIPTION: 
URL:https://jagstheim.de/event/%d1%81%d0%bb%d1%83%d0%b6%d0%b1%d0%b0-%d0%b7%d0%b0-%d0%bf%d1%80%d0%b8%d1%87%d0%b0%d1%81%d1%82%d0%b8%d0%b5/?lang=bg
LOCATION:Църквата „Свети Николай\, Пътят към язовира 3\, Crailsheim\, Баден-Вюртемберг\, 74564\, Deutschland
CATEGORIES:Протестантски,Църква
END:VEVENT
BEGIN:VEVENT
DTSTART;TZID=Europe/Helsinki:20241224T100000
DTEND;TZID=Europe/Helsinki:20241224T113000
DTSTAMP:20260421T150029
CREATED:20240107T122514Z
LAST-MODIFIED:20240107T122514Z
UID:10005044-1735034400-1735039800@jagstheim.de
SUMMARY:Коледна служба
DESCRIPTION: 
URL:https://jagstheim.de/event/%d0%ba%d0%be%d0%bb%d0%b5%d0%b4%d0%bd%d0%b0-%d1%81%d0%bb%d1%83%d0%b6%d0%b1%d0%b0/?lang=bg
LOCATION:Църквата „Свети Николай\, Пътят към язовира 3\, Crailsheim\, Баден-Вюртемберг\, 74564\, Deutschland
CATEGORIES:Протестантски,Църква
END:VEVENT
BEGIN:VEVENT
DTSTART;TZID=Europe/Helsinki:20241223T190000
DTEND;TZID=Europe/Helsinki:20241223T200000
DTSTAMP:20260421T150029
CREATED:20240107T122359Z
LAST-MODIFIED:20240107T122359Z
UID:10005033-1734980400-1734984000@jagstheim.de
SUMMARY:Коледна меса
DESCRIPTION: 
URL:https://jagstheim.de/event/%d0%ba%d0%be%d0%bb%d0%b5%d0%b4%d0%bd%d0%b0-%d0%bc%d0%b5%d1%81%d0%b0/?lang=bg
LOCATION:Църквата „Свети Николай\, Пътят към язовира 3\, Crailsheim\, Баден-Вюртемберг\, 74564\, Deutschland
CATEGORIES:Протестантски,Църква
END:VEVENT
BEGIN:VEVENT
DTSTART;TZID=Europe/Helsinki:20241223T160000
DTEND;TZID=Europe/Helsinki:20241223T170000
DTSTAMP:20260421T150029
CREATED:20240107T122243Z
LAST-MODIFIED:20240107T122243Z
UID:10005020-1734969600-1734973200@jagstheim.de
SUMMARY:Семейна служба
DESCRIPTION: 
URL:https://jagstheim.de/event/%d1%81%d0%b5%d0%bc%d0%b5%d0%b9%d0%bd%d0%b0-%d1%81%d0%bb%d1%83%d0%b6%d0%b1%d0%b0/?lang=bg
LOCATION:Църквата „Свети Николай\, Пътят към язовира 3\, Crailsheim\, Баден-Вюртемберг\, 74564\, Deutschland
CATEGORIES:Протестантски,Църква
END:VEVENT
BEGIN:VEVENT
DTSTART;TZID=Europe/Helsinki:20241209T143000
DTEND;TZID=Europe/Helsinki:20241209T163000
DTSTAMP:20260421T150029
CREATED:20240107T121449Z
LAST-MODIFIED:20240107T121449Z
UID:10004968-1733754600-1733761800@jagstheim.de
SUMMARY:Коледно парти за възрастни хора
DESCRIPTION: 
URL:https://jagstheim.de/event/%d0%ba%d0%be%d0%bb%d0%b5%d0%b4%d0%bd%d0%be-%d0%bf%d0%b0%d1%80%d1%82%d0%b8-%d0%b7%d0%b0-%d0%b2%d1%8a%d0%b7%d1%80%d0%b0%d1%81%d1%82%d0%bd%d0%b8-%d1%85%d0%be%d1%80%d0%b0/?lang=bg
LOCATION:енорийска зала\, Пътят към язовира 5\, Crailsheim\, 74564
CATEGORIES:Протестантски,Църква
END:VEVENT
BEGIN:VEVENT
DTSTART;TZID=Europe/Helsinki:20241208T100000
DTEND;TZID=Europe/Helsinki:20241208T130000
DTSTAMP:20260421T150029
CREATED:20240107T122120Z
LAST-MODIFIED:20240107T122120Z
UID:10005007-1733652000-1733662800@jagstheim.de
SUMMARY:ecum. Адвентна служба\, оранжева кампания ejcr\, обяд 11.30 ч.
DESCRIPTION: 
URL:https://jagstheim.de/event/ecum-%d0%b0%d0%b4%d0%b2%d0%b5%d0%bd%d1%82%d0%bd%d0%b0-%d1%81%d0%bb%d1%83%d0%b6%d0%b1%d0%b0-%d0%be%d1%80%d0%b0%d0%bd%d0%b6%d0%b5%d0%b2%d0%b0-%d0%ba%d0%b0%d0%bc%d0%bf%d0%b0%d0%bd%d0%b8%d1%8f-ejcr/?lang=bg
LOCATION:Църквата „Свети Николай\, Пътят към язовира 3\, Crailsheim\, Баден-Вюртемберг\, 74564\, Deutschland
CATEGORIES:католически,Протестантски,Църква
END:VEVENT
BEGIN:VEVENT
DTSTART;TZID=Europe/Helsinki:20241204T140000
DTEND;TZID=Europe/Helsinki:20241204T160000
DTSTAMP:20260421T150029
CREATED:20240107T120034Z
LAST-MODIFIED:20240107T120034Z
UID:10004865-1733320800-1733328000@jagstheim.de
SUMMARY:Клуб на старите хора
DESCRIPTION: 
URL:https://jagstheim.de/event/%d0%ba%d0%bb%d1%83%d0%b1-%d0%bd%d0%b0-%d1%81%d1%82%d0%b0%d1%80%d0%b8%d1%82%d0%b5-%d1%85%d0%be%d1%80%d0%b0-11/?lang=bg
LOCATION:Католическа енорийска зала\, Eichwald Road 16\, Crailsheim\, Баден-Вюртемберг\, 74564\, Deutschland
CATEGORIES:католически,Църква
END:VEVENT
BEGIN:VEVENT
DTSTART;TZID=Europe/Helsinki:20241123T100000
DTEND;TZID=Europe/Helsinki:20241123T110000
DTSTAMP:20260421T150029
CREATED:20240107T121711Z
LAST-MODIFIED:20240107T121711Z
UID:10004990-1732356000-1732359600@jagstheim.de
SUMMARY:Панихида за починалия
DESCRIPTION: 
URL:https://jagstheim.de/event/%d0%bf%d0%b0%d0%bd%d0%b8%d1%85%d0%b8%d0%b4%d0%b0-%d0%b7%d0%b0-%d0%bf%d0%be%d1%87%d0%b8%d0%bd%d0%b0%d0%bb%d0%b8%d1%8f/?lang=bg
LOCATION:Църквата „Свети Николай\, Пътят към язовира 3\, Crailsheim\, Баден-Вюртемберг\, 74564\, Deutschland
CATEGORIES:Протестантски,Църква
END:VEVENT
BEGIN:VEVENT
DTSTART;TZID=Europe/Helsinki:20241117T100000
DTEND;TZID=Europe/Helsinki:20241117T120000
DTSTAMP:20260421T150029
CREATED:20240107T121603Z
LAST-MODIFIED:20240107T121603Z
UID:10004976-1731837600-1731844800@jagstheim.de
SUMMARY:ecum. Служба в Деня на възпоменанието с местния съвет и VfB
DESCRIPTION: 
URL:https://jagstheim.de/event/ecum-%d1%81%d0%bb%d1%83%d0%b6%d0%b1%d0%b0-%d0%b2-%d0%b4%d0%b5%d0%bd%d1%8f-%d0%bd%d0%b0-%d0%b2%d1%8a%d0%b7%d0%bf%d0%be%d0%bc%d0%b5%d0%bd%d0%b0%d0%bd%d0%b8%d0%b5%d1%82%d0%be-%d1%81-%d0%bc%d0%b5%d1%81/?lang=bg
LOCATION:Гробищна зала\, Jagstheimer Haupstraße 160\, Crailsheim\, Баден-Вюртемберг\, 74564\, Deutschland
CATEGORIES:католически,Протестантски,Църква
END:VEVENT
BEGIN:VEVENT
DTSTART;TZID=Europe/Helsinki:20241112T143000
DTEND;TZID=Europe/Helsinki:20241112T163000
DTSTAMP:20260421T150029
CREATED:20240107T121303Z
LAST-MODIFIED:20240107T121303Z
UID:10004953-1731421800-1731429000@jagstheim.de
SUMMARY:Следобед за възрастни граждани
DESCRIPTION: 
URL:https://jagstheim.de/event/%d1%81%d0%bb%d0%b5%d0%b4%d0%be%d0%b1%d0%b5%d0%b4-%d0%b7%d0%b0-%d0%b2%d1%8a%d0%b7%d1%80%d0%b0%d1%81%d1%82%d0%bd%d0%b8-%d0%b3%d1%80%d0%b0%d0%b6%d0%b4%d0%b0%d0%bd%d0%b8-6/?lang=bg
LOCATION:енорийска зала\, Пътят към язовира 5\, Crailsheim\, 74564
CATEGORIES:Протестантски,Църква
END:VEVENT
BEGIN:VEVENT
DTSTART;TZID=Europe/Helsinki:20241111T173000
DTEND;TZID=Europe/Helsinki:20241111T180000
DTSTAMP:20260421T150029
CREATED:20240107T121032Z
LAST-MODIFIED:20240107T121032Z
UID:10004933-1731346200-1731348000@jagstheim.de
SUMMARY:Посвещение на Мартинмас
DESCRIPTION: 
URL:https://jagstheim.de/event/%d0%bf%d0%be%d1%81%d0%b2%d0%b5%d1%89%d0%b5%d0%bd%d0%b8%d0%b5-%d0%bd%d0%b0-%d0%bc%d0%b0%d1%80%d1%82%d0%b8%d0%bd%d0%bc%d0%b0%d1%81/?lang=bg
LOCATION:Църквата „Свети Николай\, Пътят към язовира 3\, Crailsheim\, Баден-Вюртемберг\, 74564\, Deutschland
CATEGORIES:Протестантски,Църква
END:VEVENT
BEGIN:VEVENT
DTSTART;TZID=Europe/Helsinki:20241106T140000
DTEND;TZID=Europe/Helsinki:20241106T160000
DTSTAMP:20260421T150029
CREATED:20240107T115938Z
LAST-MODIFIED:20240107T115938Z
UID:10004859-1730901600-1730908800@jagstheim.de
SUMMARY:Клуб на старите хора
DESCRIPTION: 
URL:https://jagstheim.de/event/%d0%ba%d0%bb%d1%83%d0%b1-%d0%bd%d0%b0-%d1%81%d1%82%d0%b0%d1%80%d0%b8%d1%82%d0%b5-%d1%85%d0%be%d1%80%d0%b0-10/?lang=bg
LOCATION:Католическа енорийска зала\, Eichwald Road 16\, Crailsheim\, Баден-Вюртемберг\, 74564\, Deutschland
CATEGORIES:католически,Църква
END:VEVENT
BEGIN:VEVENT
DTSTART;TZID=Europe/Helsinki:20241008T143000
DTEND;TZID=Europe/Helsinki:20241008T163000
DTSTAMP:20260421T150029
CREATED:20240107T120516Z
LAST-MODIFIED:20240107T120516Z
UID:10004899-1728397800-1728405000@jagstheim.de
SUMMARY:Следобед за възрастни граждани
DESCRIPTION: 
URL:https://jagstheim.de/event/%d1%81%d0%bb%d0%b5%d0%b4%d0%be%d0%b1%d0%b5%d0%b4-%d0%b7%d0%b0-%d0%b2%d1%8a%d0%b7%d1%80%d0%b0%d1%81%d1%82%d0%bd%d0%b8-%d0%b3%d1%80%d0%b0%d0%b6%d0%b4%d0%b0%d0%bd%d0%b8-5/?lang=bg
LOCATION:енорийска зала\, Пътят към язовира 5\, Crailsheim\, 74564
CATEGORIES:Протестантски,Църква
END:VEVENT
BEGIN:VEVENT
DTSTART;TZID=Europe/Helsinki:20241006T100000
DTEND;TZID=Europe/Helsinki:20241006T110000
DTSTAMP:20260421T150029
CREATED:20240107T120231Z
LAST-MODIFIED:20240107T120231Z
UID:10004876-1728208800-1728212400@jagstheim.de
SUMMARY:Празник на реколтата
DESCRIPTION: 
URL:https://jagstheim.de/event/%d0%bf%d1%80%d0%b0%d0%b7%d0%bd%d0%b8%d0%ba-%d0%bd%d0%b0-%d1%80%d0%b5%d0%ba%d0%be%d0%bb%d1%82%d0%b0%d1%82%d0%b0/?lang=bg
LOCATION:Църквата „Свети Николай\, Пътят към язовира 3\, Crailsheim\, Баден-Вюртемберг\, 74564\, Deutschland
CATEGORIES:Протестантски,Църква
END:VEVENT
BEGIN:VEVENT
DTSTART;TZID=Europe/Helsinki:20241006T091500
DTEND;TZID=Europe/Helsinki:20241006T120000
DTSTAMP:20260421T150029
CREATED:20240107T120401Z
LAST-MODIFIED:20240107T120401Z
UID:10004887-1728206100-1728216000@jagstheim.de
SUMMARY:Благодарствена служба за реколтата с последващо празненство. Закуска в енорийската зала
DESCRIPTION: 
URL:https://jagstheim.de/event/%d0%b1%d0%bb%d0%b0%d0%b3%d0%be%d0%b4%d0%b0%d1%80%d1%81%d1%82%d0%b2%d0%b5%d0%bd%d0%b0-%d1%81%d0%bb%d1%83%d0%b6%d0%b1%d0%b0-%d0%b7%d0%b0-%d1%80%d0%b5%d0%ba%d0%be%d0%bb%d1%82%d0%b0%d1%82%d0%b0-%d1%81/?lang=bg
LOCATION:Католическа енория Петър и Павел\, Eichwald Road 16\, Crailsheim\, 74564\, Deutschland
CATEGORIES:католически,Църква
END:VEVENT
BEGIN:VEVENT
DTSTART;TZID=Europe/Helsinki:20241002T140000
DTEND;TZID=Europe/Helsinki:20241002T160000
DTSTAMP:20260421T150029
CREATED:20240107T115830Z
LAST-MODIFIED:20240107T115830Z
UID:10004844-1727877600-1727884800@jagstheim.de
SUMMARY:Клуб на старите хора
DESCRIPTION: 
URL:https://jagstheim.de/event/%d0%ba%d0%bb%d1%83%d0%b1-%d0%bd%d0%b0-%d1%81%d1%82%d0%b0%d1%80%d0%b8%d1%82%d0%b5-%d1%85%d0%be%d1%80%d0%b0-9/?lang=bg
LOCATION:Католическа енорийска зала\, Eichwald Road 16\, Crailsheim\, Баден-Вюртемберг\, 74564\, Deutschland
CATEGORIES:католически,Църква
END:VEVENT
BEGIN:VEVENT
DTSTART;TZID=Europe/Helsinki:20240904T140000
DTEND;TZID=Europe/Helsinki:20240904T160000
DTSTAMP:20260421T150029
CREATED:20240107T115703Z
LAST-MODIFIED:20240107T115703Z
UID:10004833-1725458400-1725465600@jagstheim.de
SUMMARY:Клуб на старите хора
DESCRIPTION: 
URL:https://jagstheim.de/event/%d0%ba%d0%bb%d1%83%d0%b1-%d0%bd%d0%b0-%d1%81%d1%82%d0%b0%d1%80%d0%b8%d1%82%d0%b5-%d1%85%d0%be%d1%80%d0%b0-8/?lang=bg
LOCATION:Католическа енорийска зала\, Eichwald Road 16\, Crailsheim\, Баден-Вюртемберг\, 74564\, Deutschland
CATEGORIES:католически,Църква
END:VEVENT
BEGIN:VEVENT
DTSTART;TZID=Europe/Helsinki:20240725T200000
DTEND;TZID=Europe/Helsinki:20240725T210000
DTSTAMP:20260421T150029
CREATED:20240107T115318Z
LAST-MODIFIED:20240107T115318Z
UID:10004800-1721937600-1721941200@jagstheim.de
SUMMARY:Аве\, празник
DESCRIPTION: 
URL:https://jagstheim.de/event/%d0%b0%d0%b2%d0%b5-%d0%bf%d1%80%d0%b0%d0%b7%d0%bd%d0%b8%d0%ba/?lang=bg
LOCATION:Църквата „Свети Николай\, Пътят към язовира 3\, Crailsheim\, Баден-Вюртемберг\, 74564\, Deutschland
CATEGORIES:Протестантски,Църква
END:VEVENT
BEGIN:VEVENT
DTSTART;TZID=Europe/Helsinki:20240629T180000
DTEND;TZID=Europe/Helsinki:20240629T200000
DTSTAMP:20260421T150030
CREATED:20240107T114026Z
LAST-MODIFIED:20240107T114026Z
UID:10004735-1719684000-1719691200@jagstheim.de
SUMMARY:Фестивал "Петър и Павел
DESCRIPTION: 
URL:https://jagstheim.de/event/%d1%84%d0%b5%d1%81%d1%82%d0%b8%d0%b2%d0%b0%d0%bb-%d0%bf%d0%b5%d1%82%d1%8a%d1%80-%d0%b8-%d0%bf%d0%b0%d0%b2%d0%b5%d0%bb/?lang=bg
LOCATION:Католическа енория Петър и Павел\, Eichwald Road 16\, Crailsheim\, 74564\, Deutschland
CATEGORIES:католически,Църква
END:VEVENT
END:VCALENDAR