BEGIN:VCALENDAR
VERSION:2.0
PRODID:-//Jagstheim - ECPv6.15.20//NONSGML v1.0//EN
CALSCALE:GREGORIAN
METHOD:PUBLISH
X-WR-CALNAME:Jagstheim
X-ORIGINAL-URL:https://jagstheim.de/?lang=bg
X-WR-CALDESC:Събития за Jagstheim
REFRESH-INTERVAL;VALUE=DURATION:PT1H
X-Robots-Tag:noindex
X-PUBLISHED-TTL:PT1H
BEGIN:VTIMEZONE
TZID:Europe/Helsinki
BEGIN:DAYLIGHT
TZOFFSETFROM:+0200
TZOFFSETTO:+0300
TZNAME:EEST
DTSTART:20220327T010000
END:DAYLIGHT
BEGIN:STANDARD
TZOFFSETFROM:+0300
TZOFFSETTO:+0200
TZNAME:EET
DTSTART:20221030T010000
END:STANDARD
BEGIN:DAYLIGHT
TZOFFSETFROM:+0200
TZOFFSETTO:+0300
TZNAME:EEST
DTSTART:20230326T010000
END:DAYLIGHT
BEGIN:STANDARD
TZOFFSETFROM:+0300
TZOFFSETTO:+0200
TZNAME:EET
DTSTART:20231029T010000
END:STANDARD
BEGIN:DAYLIGHT
TZOFFSETFROM:+0200
TZOFFSETTO:+0300
TZNAME:EEST
DTSTART:20240331T010000
END:DAYLIGHT
BEGIN:STANDARD
TZOFFSETFROM:+0300
TZOFFSETTO:+0200
TZNAME:EET
DTSTART:20241027T010000
END:STANDARD
BEGIN:DAYLIGHT
TZOFFSETFROM:+0200
TZOFFSETTO:+0300
TZNAME:EEST
DTSTART:20250330T010000
END:DAYLIGHT
BEGIN:STANDARD
TZOFFSETFROM:+0300
TZOFFSETTO:+0200
TZNAME:EET
DTSTART:20251026T010000
END:STANDARD
BEGIN:DAYLIGHT
TZOFFSETFROM:+0200
TZOFFSETTO:+0300
TZNAME:EEST
DTSTART:20260329T010000
END:DAYLIGHT
BEGIN:STANDARD
TZOFFSETFROM:+0300
TZOFFSETTO:+0200
TZNAME:EET
DTSTART:20261025T010000
END:STANDARD
END:VTIMEZONE
BEGIN:VEVENT
DTSTART;VALUE=DATE:20250302
DTEND;VALUE=DATE:20250303
DTSTAMP:20260420T014857
CREATED:20250102T094910Z
LAST-MODIFIED:20250102T094910Z
UID:10007462-1740873600-1740959999@jagstheim.de
SUMMARY:Детски карнавал
DESCRIPTION: 
URL:https://jagstheim.de/event/%d0%b4%d0%b5%d1%82%d1%81%d0%ba%d0%b8-%d0%ba%d0%b0%d1%80%d0%bd%d0%b0%d0%b2%d0%b0%d0%bb-2/?lang=bg
LOCATION:Jagstauenhalle\, Главна улица Jagstheimer 157\, Crailsheim\, Баден-Вюртемберг\, 74564\, Deutschland
CATEGORIES:Асоциация,Спорт
ATTACH;FMTTYPE=image/jpeg:https://jagstheim.de/wp-content/uploads/2025/01/wig_640.jpg
END:VEVENT
BEGIN:VEVENT
DTSTART;VALUE=DATE:20240712
DTEND;VALUE=DATE:20240715
DTSTAMP:20260420T014857
CREATED:20240107T114628Z
LAST-MODIFIED:20240107T114628Z
UID:10004766-1720742400-1721001599@jagstheim.de
SUMMARY:Купа на футболното село
DESCRIPTION: 
URL:https://jagstheim.de/event/%d0%ba%d1%83%d0%bf%d0%b0-%d0%bd%d0%b0-%d1%84%d1%83%d1%82%d0%b1%d0%be%d0%bb%d0%bd%d0%be%d1%82%d0%be-%d1%81%d0%b5%d0%bb%d0%be/?lang=bg
LOCATION:Спортно игрище\, Обергщрасе 72\, Crailsheim\, Баден-Вюртемберг\, 74564\, Deutschland
CATEGORIES:Асоциация,Спорт,Фиксиран
END:VEVENT
BEGIN:VEVENT
DTSTART;VALUE=DATE:20240406
DTEND;VALUE=DATE:20240407
DTSTAMP:20260420T014857
CREATED:20240107T110909Z
LAST-MODIFIED:20240107T110909Z
UID:10004502-1712361600-1712447999@jagstheim.de
SUMMARY:Ден на мача по тенис на маса
DESCRIPTION: 
URL:https://jagstheim.de/event/%d0%b4%d0%b5%d0%bd-%d0%bd%d0%b0-%d0%bc%d0%b0%d1%87%d0%b0-%d0%bf%d0%be-%d1%82%d0%b5%d0%bd%d0%b8%d1%81-%d0%bd%d0%b0-%d0%bc%d0%b0%d1%81%d0%b0-6/?lang=bg
LOCATION:Jagstauenhalle\, Главна улица Jagstheimer 157\, Crailsheim\, Баден-Вюртемберг\, 74564\, Deutschland
CATEGORIES:Асоциация,Спорт
END:VEVENT
BEGIN:VEVENT
DTSTART;VALUE=DATE:20240323
DTEND;VALUE=DATE:20240325
DTSTAMP:20260420T014857
CREATED:20240107T110142Z
LAST-MODIFIED:20240107T110142Z
UID:10004446-1711152000-1711324799@jagstheim.de
SUMMARY:VfB младежки турнир по футбол
DESCRIPTION: 
URL:https://jagstheim.de/event/vfb-%d0%bc%d0%bb%d0%b0%d0%b4%d0%b5%d0%b6%d0%ba%d0%b8-%d1%82%d1%83%d1%80%d0%bd%d0%b8%d1%80-%d0%bf%d0%be-%d1%84%d1%83%d1%82%d0%b1%d0%be%d0%bb/?lang=bg
LOCATION:Голяма спортна зала\, In der Kistenwiesen 7\, Crailsheim\, Баден-Вюртемберг\, 74564\, Deutschland
CATEGORIES:Асоциация,Спорт
END:VEVENT
BEGIN:VEVENT
DTSTART;VALUE=DATE:20240316
DTEND;VALUE=DATE:20240317
DTSTAMP:20260420T014857
CREATED:20240107T105823Z
LAST-MODIFIED:20240107T105929Z
UID:10004424-1710547200-1710633599@jagstheim.de
SUMMARY:Организатор на отборното състезание на закрито в Краилсхайм
DESCRIPTION:VfB Jagstheim \n 
URL:https://jagstheim.de/event/%d0%be%d1%80%d0%b3%d0%b0%d0%bd%d0%b8%d0%b7%d0%b0%d1%82%d0%be%d1%80-%d0%bd%d0%b0-%d0%be%d1%82%d0%b1%d0%be%d1%80%d0%bd%d0%be%d1%82%d0%be-%d1%81%d1%8a%d1%81%d1%82%d0%b5%d0%b7%d0%b0%d0%bd%d0%b8%d0%b5/?lang=bg
LOCATION:Jagstauenhalle\, Главна улица Jagstheimer 157\, Crailsheim\, Баден-Вюртемберг\, 74564\, Deutschland
CATEGORIES:Асоциация,Спорт
END:VEVENT
BEGIN:VEVENT
DTSTART;VALUE=DATE:20240309
DTEND;VALUE=DATE:20240310
DTSTAMP:20260420T014857
CREATED:20240107T105417Z
LAST-MODIFIED:20250205T062444Z
UID:10004396-1709942400-1710028799@jagstheim.de
SUMMARY:Ден на мача по тенис на маса
DESCRIPTION: 
URL:https://jagstheim.de/event/%d0%b4%d0%b5%d0%bd-%d0%bd%d0%b0-%d0%bc%d0%b0%d1%87%d0%b0-%d0%bf%d0%be-%d1%82%d0%b5%d0%bd%d0%b8%d1%81-%d0%bd%d0%b0-%d0%bc%d0%b0%d1%81%d0%b0-5/?lang=bg
LOCATION:Баден-Вюртемберг
CATEGORIES:Асоциация,Спорт
END:VEVENT
BEGIN:VEVENT
DTSTART;VALUE=DATE:20240224
DTEND;VALUE=DATE:20240225
DTSTAMP:20260420T014857
CREATED:20240107T102535Z
LAST-MODIFIED:20240107T102535Z
UID:10004329-1708732800-1708819199@jagstheim.de
SUMMARY:Ден на мача по тенис на маса
DESCRIPTION: 
URL:https://jagstheim.de/event/%d0%b4%d0%b5%d0%bd-%d0%bd%d0%b0-%d0%bc%d0%b0%d1%87%d0%b0-%d0%bf%d0%be-%d1%82%d0%b5%d0%bd%d0%b8%d1%81-%d0%bd%d0%b0-%d0%bc%d0%b0%d1%81%d0%b0-4/?lang=bg
LOCATION:Jagstauenhalle\, Главна улица Jagstheimer 157\, Crailsheim\, Баден-Вюртемберг\, 74564\, Deutschland
CATEGORIES:Асоциация,Спорт
ATTACH;FMTTYPE=image/jpeg:https://jagstheim.de/wp-content/uploads/2024/01/table-tennis_640.jpg
END:VEVENT
BEGIN:VEVENT
DTSTART;VALUE=DATE:20240203
DTEND;VALUE=DATE:20240204
DTSTAMP:20260420T014857
CREATED:20240107T100404Z
LAST-MODIFIED:20240107T100404Z
UID:10004249-1706918400-1707004799@jagstheim.de
SUMMARY:Ден на мача по тенис на маса
DESCRIPTION: 
URL:https://jagstheim.de/event/%d0%b4%d0%b5%d0%bd-%d0%bd%d0%b0-%d0%bc%d0%b0%d1%87%d0%b0-%d0%bf%d0%be-%d1%82%d0%b5%d0%bd%d0%b8%d1%81-%d0%bd%d0%b0-%d0%bc%d0%b0%d1%81%d0%b0-3/?lang=bg
LOCATION:Jagstauenhalle\, Главна улица Jagstheimer 157\, Crailsheim\, Баден-Вюртемберг\, 74564\, Deutschland
CATEGORIES:Асоциация,Спорт
ATTACH;FMTTYPE=image/jpeg:https://jagstheim.de/wp-content/uploads/2024/01/table-tennis_640.jpg
END:VEVENT
BEGIN:VEVENT
DTSTART;VALUE=DATE:20240127
DTEND;VALUE=DATE:20240128
DTSTAMP:20260420T014857
CREATED:20240107T095434Z
LAST-MODIFIED:20240107T095434Z
UID:10004215-1706313600-1706399999@jagstheim.de
SUMMARY:Ден на мача по тенис на маса
DESCRIPTION: 
URL:https://jagstheim.de/event/%d0%b4%d0%b5%d0%bd-%d0%bd%d0%b0-%d0%bc%d0%b0%d1%87%d0%b0-%d0%bf%d0%be-%d1%82%d0%b5%d0%bd%d0%b8%d1%81-%d0%bd%d0%b0-%d0%bc%d0%b0%d1%81%d0%b0-2/?lang=bg
LOCATION:Jagstauenhalle\, Главна улица Jagstheimer 157\, Crailsheim\, Баден-Вюртемберг\, 74564\, Deutschland
CATEGORIES:Асоциация,Спорт
ATTACH;FMTTYPE=image/jpeg:https://jagstheim.de/wp-content/uploads/2024/01/table-tennis_640.jpg
END:VEVENT
BEGIN:VEVENT
DTSTART;TZID=Europe/Helsinki:20240107T000000
DTEND;TZID=Europe/Helsinki:20240107T000000
DTSTAMP:20260420T014857
CREATED:20240107T094313Z
LAST-MODIFIED:20240107T094313Z
UID:10004193-1704585600-1704585600@jagstheim.de
SUMMARY:Ден на мача по тенис на маса
DESCRIPTION: 
URL:https://jagstheim.de/event/%d0%b4%d0%b5%d0%bd-%d0%bd%d0%b0-%d0%bc%d0%b0%d1%87%d0%b0-%d0%bf%d0%be-%d1%82%d0%b5%d0%bd%d0%b8%d1%81-%d0%bd%d0%b0-%d0%bc%d0%b0%d1%81%d0%b0/?lang=bg
LOCATION:Jagstauenhalle\, Главна улица Jagstheimer 157\, Crailsheim\, Баден-Вюртемберг\, 74564\, Deutschland
CATEGORIES:Асоциация,Спорт
ATTACH;FMTTYPE=image/jpeg:https://jagstheim.de/wp-content/uploads/2024/01/table-tennis_640.jpg
END:VEVENT
BEGIN:VEVENT
DTSTART;TZID=Europe/Helsinki:20231118T074500
DTEND;TZID=Europe/Helsinki:20231118T153000
DTSTAMP:20260420T014857
CREATED:20231010T112004Z
LAST-MODIFIED:20231010T112004Z
UID:10003665-1700293500-1700321400@jagstheim.de
SUMMARY:Младежка екскурзия 18 ноември 2023 г.
DESCRIPTION:Младежите на VfB Jagstheim 1946 e.V. организират еднодневна екскурзия до парка за батути Airtime в Нюрнберг на 18 ноември 2023 г.\nМогат да участват всички деца и младежи на възраст най-малко 6 години.\nЩе се срещнем в деня на събитието в 7\,45 ч. на автобусната спирка Ortsmitte Jagstheim. Отпътуването с автобус е в 8.00 ч. Връщане на автобусната спирка в центъра на Ягстхайм в около 15\,30 ч. \nЦената е 30 евро на участник (за нечленове – 35 евро)\, като включва пътни разходи\, входна такса\, пица за обяд и чорапи за скачане и се заплаща в деня на събитието. \nПритежателите на StwCard получават 10% отстъпка. В този случай отбележете номера на картата в раздела по-долу.\nНеобходими са ви също така закуска за пътуването дотам\, джобни пари и достатъчно напитки (моля\, без стъклени бутилки). \nЗа самия скок е препоръчително да носите спортно облекло. \nМоля\, регистрирайте се до 4 ноември 2023 г. \nТъй като броят на местата в автобуса е ограничен\, ако максималният брой участници бъде надхвърлен\, получаването на регистрацията решава за разпределението на местата (членове пред нечленове). \n 
URL:https://jagstheim.de/event/%d0%bc%d0%bb%d0%b0%d0%b4%d0%b5%d0%b6%d0%ba%d0%b0-%d0%b5%d0%ba%d1%81%d0%ba%d1%83%d1%80%d0%b7%d0%b8%d1%8f-18-%d0%bd%d0%be%d0%b5%d0%bc%d0%b2%d1%80%d0%b8-2023-%d0%b3/?lang=bg
LOCATION:Баден-Вюртемберг
CATEGORIES:Асоциация,Спорт
ATTACH;FMTTYPE=image/png:https://jagstheim.de/wp-content/uploads/2023/10/vfb_header_2.png
END:VEVENT
BEGIN:VEVENT
DTSTART;VALUE=DATE:20230923
DTEND;VALUE=DATE:20230924
DTSTAMP:20260420T014857
CREATED:20230706T083856Z
LAST-MODIFIED:20230706T083856Z
UID:10000717-1695427200-1695513599@jagstheim.de
SUMMARY:VfB | Гимнастика
DESCRIPTION:Екип на Gaufinale \n 
URL:https://jagstheim.de/event/vfb-%d0%b3%d0%b8%d0%bc%d0%bd%d0%b0%d1%81%d1%82%d0%b8%d0%ba%d0%b0/?lang=bg
LOCATION:Зала Karlsberg\, Beuerlbacher Str. 16\, Crailsheim\, 74564\, Deutschland
CATEGORIES:Асоциация,Спорт
ATTACH;FMTTYPE=image/jpeg:https://jagstheim.de/wp-content/uploads/2023/07/rings-4876839-scaled.jpg
END:VEVENT
BEGIN:VEVENT
DTSTART;TZID=Europe/Helsinki:20230906T193000
DTEND;TZID=Europe/Helsinki:20230906T203000
DTSTAMP:20260420T014857
CREATED:20230706T081728Z
LAST-MODIFIED:20230706T081728Z
UID:10000715-1694028600-1694032200@jagstheim.de
SUMMARY:VfB | Айкидо
DESCRIPTION:Начало на обучението \n 
URL:https://jagstheim.de/event/vfb-%d0%b0%d0%b9%d0%ba%d0%b8%d0%b4%d0%be-3/?lang=bg
LOCATION:Jagstauenhalle\, Главна улица Jagstheimer 157\, Crailsheim\, Баден-Вюртемберг\, 74564\, Deutschland
CATEGORIES:Асоциация,Спорт
ATTACH;FMTTYPE=image/jpeg:https://jagstheim.de/wp-content/uploads/2023/07/aikido-362959_640.jpg
END:VEVENT
BEGIN:VEVENT
DTSTART;TZID=Europe/Helsinki:20230723T110000
DTEND;TZID=Europe/Helsinki:20230723T120000
DTSTAMP:20260420T014857
CREATED:20230706T063058Z
LAST-MODIFIED:20230706T063058Z
UID:10000693-1690110000-1690113600@jagstheim.de
SUMMARY:VfB | Айкидо
DESCRIPTION:Демонтаж на рогозки \n 
URL:https://jagstheim.de/event/vfb-%d0%b0%d0%b9%d0%ba%d0%b8%d0%b4%d0%be-2/?lang=bg
LOCATION:Jagstauenhalle\, Главна улица Jagstheimer 157\, Crailsheim\, Баден-Вюртемберг\, 74564\, Deutschland
CATEGORIES:Спорт
ATTACH;FMTTYPE=image/jpeg:https://jagstheim.de/wp-content/uploads/2023/07/yoga-940359_640.jpg
END:VEVENT
BEGIN:VEVENT
DTSTART;TZID=Europe/Helsinki:20230723T093000
DTEND;TZID=Europe/Helsinki:20230723T113000
DTSTAMP:20260420T014857
CREATED:20230706T062158Z
LAST-MODIFIED:20230706T062158Z
UID:10000654-1690104600-1690111800@jagstheim.de
SUMMARY:VfB | Айкидо
DESCRIPTION:Почистване на постелки \n 
URL:https://jagstheim.de/event/vfb-%d0%b0%d0%b9%d0%ba%d0%b8%d0%b4%d0%be/?lang=bg
LOCATION:Jagstauenhalle\, Главна улица Jagstheimer 157\, Crailsheim\, Баден-Вюртемберг\, 74564\, Deutschland
CATEGORIES:Спорт
ATTACH;FMTTYPE=image/jpeg:https://jagstheim.de/wp-content/uploads/2023/07/cleaning-3977589_640.jpg
END:VEVENT
BEGIN:VEVENT
DTSTART;TZID=Europe/Helsinki:20230715T190000
DTEND;TZID=Europe/Helsinki:20230715T190000
DTSTAMP:20260420T014857
CREATED:20230714T060010Z
LAST-MODIFIED:20230714T060010Z
UID:10000761-1689447600-1689447600@jagstheim.de
SUMMARY:Спортен уикенд | Финали
DESCRIPTION: 
URL:https://jagstheim.de/event/%d1%81%d0%bf%d0%be%d1%80%d1%82%d0%b5%d0%bd-%d1%83%d0%b8%d0%ba%d0%b5%d0%bd%d0%b4-%d1%84%d0%b8%d0%bd%d0%b0%d0%bb%d0%b8/?lang=bg
LOCATION:Спортно игрище\, Обергщрасе 72\, Crailsheim\, Баден-Вюртемберг\, 74564\, Deutschland
CATEGORIES:Асоциация,Спорт,Фиксиран
END:VEVENT
BEGIN:VEVENT
DTSTART;TZID=Europe/Helsinki:20230715T150000
DTEND;TZID=Europe/Helsinki:20230715T190000
DTSTAMP:20260420T014857
CREATED:20230714T055900Z
LAST-MODIFIED:20230714T055900Z
UID:10000750-1689433200-1689447600@jagstheim.de
SUMMARY:Спортен уикенд | Купа на селото
DESCRIPTION: 
URL:https://jagstheim.de/event/%d1%81%d0%bf%d0%be%d1%80%d1%82%d0%b5%d0%bd-%d1%83%d0%b8%d0%ba%d0%b5%d0%bd%d0%b4-%d0%ba%d1%83%d0%bf%d0%b0-%d0%bd%d0%b0-%d1%81%d0%b5%d0%bb%d0%be%d1%82%d0%be/?lang=bg
LOCATION:Спортно игрище\, Обергщрасе 72\, Crailsheim\, Баден-Вюртемберг\, 74564\, Deutschland
CATEGORIES:Асоциация,Спорт,Фиксиран
END:VEVENT
BEGIN:VEVENT
DTSTART;TZID=Europe/Helsinki:20230715T103000
DTEND;TZID=Europe/Helsinki:20230715T150000
DTSTAMP:20260420T014857
CREATED:20230714T055443Z
LAST-MODIFIED:20230714T055443Z
UID:10000739-1689417000-1689433200@jagstheim.de
SUMMARY:Спортен уикенд | Младежки турнир
DESCRIPTION: 
URL:https://jagstheim.de/event/%d1%81%d0%bf%d0%be%d1%80%d1%82%d0%b5%d0%bd-%d1%83%d0%b8%d0%ba%d0%b5%d0%bd%d0%b4-%d0%bc%d0%bb%d0%b0%d0%b4%d0%b5%d0%b6%d0%ba%d0%b8-%d1%82%d1%83%d1%80%d0%bd%d0%b8%d1%80/?lang=bg
LOCATION:Спортно игрище\, Обергщрасе 72\, Crailsheim\, Баден-Вюртемберг\, 74564\, Deutschland
CATEGORIES:Асоциация,Спорт
END:VEVENT
BEGIN:VEVENT
DTSTART;TZID=Europe/Helsinki:20230714T180000
DTEND;TZID=Europe/Helsinki:20230714T220000
DTSTAMP:20260420T014857
CREATED:20230714T055058Z
LAST-MODIFIED:20230714T055625Z
UID:10000728-1689357600-1689372000@jagstheim.de
SUMMARY:Спортен уикенд | Penalty Cup
DESCRIPTION:Купа за наказание и купа на селото с гостоприемство \n 
URL:https://jagstheim.de/event/%d1%81%d0%bf%d0%be%d1%80%d1%82%d0%b5%d0%bd-%d1%83%d0%b8%d0%ba%d0%b5%d0%bd%d0%b4/?lang=bg
LOCATION:Спортно игрище\, Обергщрасе 72\, Crailsheim\, Баден-Вюртемберг\, 74564\, Deutschland
CATEGORIES:Асоциация,Спорт
ATTACH;FMTTYPE=image/jpeg:https://jagstheim.de/wp-content/uploads/2023/07/iStock-1167399616_640.jpg
END:VEVENT
END:VCALENDAR