BEGIN:VCALENDAR
VERSION:2.0
PRODID:-//Jagstheim - ECPv6.15.20//NONSGML v1.0//EN
CALSCALE:GREGORIAN
METHOD:PUBLISH
X-WR-CALNAME:Jagstheim
X-ORIGINAL-URL:https://jagstheim.de/?lang=bg
X-WR-CALDESC:Събития за Jagstheim
REFRESH-INTERVAL;VALUE=DURATION:PT1H
X-Robots-Tag:noindex
X-PUBLISHED-TTL:PT1H
BEGIN:VTIMEZONE
TZID:Europe/Helsinki
BEGIN:DAYLIGHT
TZOFFSETFROM:+0200
TZOFFSETTO:+0300
TZNAME:EEST
DTSTART:20220327T010000
END:DAYLIGHT
BEGIN:STANDARD
TZOFFSETFROM:+0300
TZOFFSETTO:+0200
TZNAME:EET
DTSTART:20221030T010000
END:STANDARD
BEGIN:DAYLIGHT
TZOFFSETFROM:+0200
TZOFFSETTO:+0300
TZNAME:EEST
DTSTART:20230326T010000
END:DAYLIGHT
BEGIN:STANDARD
TZOFFSETFROM:+0300
TZOFFSETTO:+0200
TZNAME:EET
DTSTART:20231029T010000
END:STANDARD
BEGIN:DAYLIGHT
TZOFFSETFROM:+0200
TZOFFSETTO:+0300
TZNAME:EEST
DTSTART:20240331T010000
END:DAYLIGHT
BEGIN:STANDARD
TZOFFSETFROM:+0300
TZOFFSETTO:+0200
TZNAME:EET
DTSTART:20241027T010000
END:STANDARD
END:VTIMEZONE
BEGIN:VEVENT
DTSTART;VALUE=DATE:20230725
DTEND;VALUE=DATE:20230726
DTSTAMP:20260422T134302
CREATED:20230525T180310Z
LAST-MODIFIED:20230525T180310Z
UID:10000635-1690243200-1690329599@jagstheim.de
SUMMARY:Органични отпадъци и остатъчни отпадъци
DESCRIPTION:Crailsheim – област 4 \nОбласт Швебиш Хол | Календар за отпадъците | (lrasha.de) \n 
URL:https://jagstheim.de/event/%d0%be%d1%80%d0%b3%d0%b0%d0%bd%d0%b8%d1%87%d0%bd%d0%b8-%d0%be%d1%82%d0%bf%d0%b0%d0%b4%d1%8a%d1%86%d0%b8-%d0%b8-%d0%be%d1%81%d1%82%d0%b0%d1%82%d1%8a%d1%87%d0%bd%d0%b8-%d0%be%d1%82%d0%bf%d0%b0%d0%b4-8/?lang=bg
LOCATION:Баден-Вюртемберг
CATEGORIES:Изхвърляне на отпадъци
ATTACH;FMTTYPE=image/webp:https://jagstheim.de/wp-content/uploads/2023/07/BioRest.webp
END:VEVENT
BEGIN:VEVENT
DTSTART;TZID=Europe/Helsinki:20230725T200000
DTEND;TZID=Europe/Helsinki:20230725T213000
DTSTAMP:20260422T134302
CREATED:20230706T063826Z
LAST-MODIFIED:20250205T062430Z
UID:10000695-1690315200-1690320600@jagstheim.de
SUMMARY:енория
DESCRIPTION:Аве\, празник \n 
URL:https://jagstheim.de/event/%d0%b5%d0%bd%d0%be%d1%80%d0%b8%d1%8f-6/?lang=bg
LOCATION:Църквата „Свети Николай\, Пътят към язовира 3\, Crailsheim\, Баден-Вюртемберг\, 74564\, Deutschland
CATEGORIES:Църква
ATTACH;FMTTYPE=image/jpeg:https://jagstheim.de/wp-content/uploads/2023/07/cruz-2536209_640.jpg
END:VEVENT
BEGIN:VEVENT
DTSTART;TZID=Europe/Helsinki:20230727T200000
DTEND;TZID=Europe/Helsinki:20230727T220000
DTSTAMP:20260422T134302
CREATED:20230724T144055Z
LAST-MODIFIED:20230724T145109Z
UID:10000772-1690488000-1690495200@jagstheim.de
SUMMARY:Заседание на местния съвет
DESCRIPTION:Заседателна зала в сградата на детската градина\nТочки от дневния ред :\n1 Протокол за дебрифинг\n2 Строителни въпроси\n3 Граждани помагат на граждани\n4 Равносметка за празника на селото\n5 Разни – Съобщения\n6 Заявки\nНаселението е сърдечно поканено\nСъс слънчеви поздрави\nХорст Филип Местен председател \nZimmermannsweg 15\n74564 Crailsheim-Jagstheim\nТелефон 07951/41681\nФакс 8596\nОфис Jagstheim\nТелефон 5419\nимейл info@horst-philipp.de \n 
URL:https://jagstheim.de/event/%d0%b7%d0%b0%d1%81%d0%b5%d0%b4%d0%b0%d0%bd%d0%b8%d0%b5-%d0%bd%d0%b0-%d0%bc%d0%b5%d1%81%d1%82%d0%bd%d0%b8%d1%8f-%d1%81%d1%8a%d0%b2%d0%b5%d1%82/?lang=bg
LOCATION:Зала за срещи на местния съвет\, Милски път 43\, Crailsheim\, Баден-Вюртемберг\, 74564\, Deutschland
CATEGORIES:Местен съвет
ATTACH;FMTTYPE=image/jpeg:https://jagstheim.de/wp-content/uploads/2023/07/business-idea-3683781_640.jpg
END:VEVENT
BEGIN:VEVENT
DTSTART;VALUE=DATE:20230804
DTEND;VALUE=DATE:20230805
DTSTAMP:20260422T134302
CREATED:20230525T180313Z
LAST-MODIFIED:20230525T180313Z
UID:10000637-1691107200-1691193599@jagstheim.de
SUMMARY:Жълта торба и кошче за хартия
DESCRIPTION:Crailsheim – област 4 \nОбласт Швебиш Хол | Календар за отпадъците | (lrasha.de) \n 
URL:https://jagstheim.de/event/%d0%b6%d1%8a%d0%bb%d1%82%d0%b0-%d1%82%d0%be%d1%80%d0%b1%d0%b0-%d0%b8-%d0%ba%d0%be%d1%88%d1%87%d0%b5-%d0%b7%d0%b0-%d1%85%d0%b0%d1%80%d1%82%d0%b8%d1%8f-5/?lang=bg
LOCATION:Баден-Вюртемберг
CATEGORIES:Изхвърляне на отпадъци
ATTACH;FMTTYPE=image/webp:https://jagstheim.de/wp-content/uploads/2023/07/GelbPapier.webp
END:VEVENT
BEGIN:VEVENT
DTSTART;VALUE=DATE:20230808
DTEND;VALUE=DATE:20230809
DTSTAMP:20260422T134302
CREATED:20230525T180314Z
LAST-MODIFIED:20230525T180314Z
UID:10000619-1691452800-1691539199@jagstheim.de
SUMMARY:Органични отпадъци и остатъчни отпадъци
DESCRIPTION:Crailsheim – област 4 \nОбласт Швебиш Хол | Календар за отпадъците | (lrasha.de) \n 
URL:https://jagstheim.de/event/%d0%be%d1%80%d0%b3%d0%b0%d0%bd%d0%b8%d1%87%d0%bd%d0%b8-%d0%be%d1%82%d0%bf%d0%b0%d0%b4%d1%8a%d1%86%d0%b8-%d0%b8-%d0%be%d1%81%d1%82%d0%b0%d1%82%d1%8a%d1%87%d0%bd%d0%b8-%d0%be%d1%82%d0%bf%d0%b0%d0%b4-5/?lang=bg
LOCATION:Баден-Вюртемберг
CATEGORIES:Изхвърляне на отпадъци
ATTACH;FMTTYPE=image/webp:https://jagstheim.de/wp-content/uploads/2023/07/BioRest.webp
END:VEVENT
BEGIN:VEVENT
DTSTART;VALUE=DATE:20230819
DTEND;VALUE=DATE:20230826
DTSTAMP:20260422T134302
CREATED:20230706T075024Z
LAST-MODIFIED:20230706T075024Z
UID:10000697-1692403200-1693007999@jagstheim.de
SUMMARY:VfB
DESCRIPTION:Лагер за отдих в Allgäu \n 
URL:https://jagstheim.de/event/vfb/?lang=bg
LOCATION:Баден-Вюртемберг
CATEGORIES:Асоциация
ATTACH;FMTTYPE=image/jpeg:https://jagstheim.de/wp-content/uploads/2023/07/campfire-896196_640.jpg
END:VEVENT
BEGIN:VEVENT
DTSTART;VALUE=DATE:20230822
DTEND;VALUE=DATE:20230823
DTSTAMP:20260422T134302
CREATED:20230525T180314Z
LAST-MODIFIED:20230525T180314Z
UID:10000621-1692662400-1692748799@jagstheim.de
SUMMARY:Органични отпадъци и остатъчни отпадъци
DESCRIPTION:Crailsheim – област 4 \nОбласт Швебиш Хол | Календар за отпадъците | (lrasha.de) \n 
URL:https://jagstheim.de/event/%d0%be%d1%80%d0%b3%d0%b0%d0%bd%d0%b8%d1%87%d0%bd%d0%b8-%d0%be%d1%82%d0%bf%d0%b0%d0%b4%d1%8a%d1%86%d0%b8-%d0%b8-%d0%be%d1%81%d1%82%d0%b0%d1%82%d1%8a%d1%87%d0%bd%d0%b8-%d0%be%d1%82%d0%bf%d0%b0%d0%b4-6/?lang=bg
LOCATION:Баден-Вюртемберг
CATEGORIES:Изхвърляне на отпадъци
ATTACH;FMTTYPE=image/webp:https://jagstheim.de/wp-content/uploads/2023/07/BioRest.webp
END:VEVENT
BEGIN:VEVENT
DTSTART;VALUE=DATE:20230826
DTEND;VALUE=DATE:20230828
DTSTAMP:20260422T134302
CREATED:20230706T080030Z
LAST-MODIFIED:20230706T080030Z
UID:10000679-1693008000-1693180799@jagstheim.de
SUMMARY:Пожарна команда
DESCRIPTION:Hocketse \n 
URL:https://jagstheim.de/event/%d0%bf%d0%be%d0%b6%d0%b0%d1%80%d0%bd%d0%b0-%d0%ba%d0%be%d0%bc%d0%b0%d0%bd%d0%b4%d0%b0/?lang=bg
LOCATION:Пожарна станция\, Пожарна команда и клуб на LF/LK\, Crailsheim\, Баден-Вюртемберг\, 74564\, Deutschland
CATEGORIES:Пожарна команда
ATTACH;FMTTYPE=image/jpeg:https://jagstheim.de/wp-content/uploads/2023/07/people-110316_640.jpg
END:VEVENT
BEGIN:VEVENT
DTSTART;TZID=Europe/Helsinki:20230827T103000
DTEND;TZID=Europe/Helsinki:20230827T113000
DTSTAMP:20260422T134302
CREATED:20230706T080852Z
LAST-MODIFIED:20230706T080852Z
UID:10000681-1693132200-1693135800@jagstheim.de
SUMMARY:енория
DESCRIPTION:Богослужение \n 
URL:https://jagstheim.de/event/%d0%b5%d0%bd%d0%be%d1%80%d0%b8%d1%8f-4/?lang=bg
LOCATION:Пожарна станция\, Пожарна команда и клуб на LF/LK\, Crailsheim\, Баден-Вюртемберг\, 74564\, Deutschland
CATEGORIES:Църква
ATTACH;FMTTYPE=image/jpeg:https://jagstheim.de/wp-content/uploads/2023/07/bible-5255924_640.jpg
END:VEVENT
BEGIN:VEVENT
DTSTART;VALUE=DATE:20230901
DTEND;VALUE=DATE:20230902
DTSTAMP:20260422T134302
CREATED:20230525T180315Z
LAST-MODIFIED:20230525T180315Z
UID:10000638-1693526400-1693612799@jagstheim.de
SUMMARY:Жълта торба и кошче за хартия
DESCRIPTION:Crailsheim – област 4 \nОбласт Швебиш Хол | Календар за отпадъците | (lrasha.de) \n 
URL:https://jagstheim.de/event/%d0%b6%d1%8a%d0%bb%d1%82%d0%b0-%d1%82%d0%be%d1%80%d0%b1%d0%b0-%d0%b8-%d0%ba%d0%be%d1%88%d1%87%d0%b5-%d0%b7%d0%b0-%d1%85%d0%b0%d1%80%d1%82%d0%b8%d1%8f-3/?lang=bg
LOCATION:Баден-Вюртемберг
CATEGORIES:Изхвърляне на отпадъци
ATTACH;FMTTYPE=image/webp:https://jagstheim.de/wp-content/uploads/2023/07/GelbPapier.webp
END:VEVENT
BEGIN:VEVENT
DTSTART;VALUE=DATE:20230905
DTEND;VALUE=DATE:20230906
DTSTAMP:20260422T134302
CREATED:20230525T180315Z
LAST-MODIFIED:20230525T180315Z
UID:10000640-1693872000-1693958399@jagstheim.de
SUMMARY:Органични отпадъци и остатъчни отпадъци
DESCRIPTION:Crailsheim – област 4 \nОбласт Швебиш Хол | Календар за отпадъците | (lrasha.de) \n 
URL:https://jagstheim.de/event/%d0%be%d1%80%d0%b3%d0%b0%d0%bd%d0%b8%d1%87%d0%bd%d0%b8-%d0%be%d1%82%d0%bf%d0%b0%d0%b4%d1%8a%d1%86%d0%b8-%d0%b8-%d0%be%d1%81%d1%82%d0%b0%d1%82%d1%8a%d1%87%d0%bd%d0%b8-%d0%be%d1%82%d0%bf%d0%b0%d0%b4-10/?lang=bg
LOCATION:Баден-Вюртемберг
CATEGORIES:Изхвърляне на отпадъци
ATTACH;FMTTYPE=image/webp:https://jagstheim.de/wp-content/uploads/2023/07/BioRest.webp
END:VEVENT
BEGIN:VEVENT
DTSTART;TZID=Europe/Helsinki:20230906T140000
DTEND;TZID=Europe/Helsinki:20230906T153000
DTSTAMP:20260422T134302
CREATED:20230706T081127Z
LAST-MODIFIED:20230706T081127Z
UID:10000713-1694008800-1694014200@jagstheim.de
SUMMARY:католическа енория
DESCRIPTION:Клуб на старите хора \n 
URL:https://jagstheim.de/event/%d0%ba%d0%b0%d1%82%d0%be%d0%bb%d0%b8%d1%87%d0%b5%d1%81%d0%ba%d0%b0-%d0%b5%d0%bd%d0%be%d1%80%d0%b8%d1%8f-4/?lang=bg
LOCATION:Католическа енорийска зала\, Eichwald Road 16\, Crailsheim\, Баден-Вюртемберг\, 74564\, Deutschland
CATEGORIES:Църква
ATTACH;FMTTYPE=image/jpeg:https://jagstheim.de/wp-content/uploads/2023/07/cruz-2536209_640.jpg
END:VEVENT
BEGIN:VEVENT
DTSTART;TZID=Europe/Helsinki:20230906T193000
DTEND;TZID=Europe/Helsinki:20230906T203000
DTSTAMP:20260422T134302
CREATED:20230706T081728Z
LAST-MODIFIED:20230706T081728Z
UID:10000715-1694028600-1694032200@jagstheim.de
SUMMARY:VfB | Айкидо
DESCRIPTION:Начало на обучението \n 
URL:https://jagstheim.de/event/vfb-%d0%b0%d0%b9%d0%ba%d0%b8%d0%b4%d0%be-3/?lang=bg
LOCATION:Jagstauenhalle\, Главна улица Jagstheimer 157\, Crailsheim\, Баден-Вюртемберг\, 74564\, Deutschland
CATEGORIES:Асоциация,Спорт
ATTACH;FMTTYPE=image/jpeg:https://jagstheim.de/wp-content/uploads/2023/07/aikido-362959_640.jpg
END:VEVENT
BEGIN:VEVENT
DTSTART;TZID=Europe/Helsinki:20230913T181500
DTEND;TZID=Europe/Helsinki:20230913T193000
DTSTAMP:20260422T134302
CREATED:20230825T194007Z
LAST-MODIFIED:20230825T194206Z
UID:10000794-1694628900-1694633400@jagstheim.de
SUMMARY:KICK 4 Fit е фитнес програма
DESCRIPTION:KICK 4 Fit е фитнес програма с динамични елементи от бойното изкуство таекуондо.\nНапълно без насилие\, ние тренираме скорост\, издръжливост\, сила и координация с млади и стари.\nПодобряваме реакциите и представянето си и стимулираме нервната система\, мускулите\, сухожилията и ставите по един изключително динамичен начин.\nПродължава и след лятната ваканция – идеалната възможност да се включите!\nПРИСЪЕДИНЕТЕ СЕ КЪМ НАС! ОТ 13 СЕПТЕМВРИ 2023 Г.\, 18.15 – 19.30 Ч.\nТреньори:\nПаскал Меле\, 5-ти дан TKD & Изабел Шефер\, 3-ти дан TKD\nЗапочнете:\nсряда 13 септември 2023 г.\, 18.15 – 19.30 ч.\nПроцедура:\nНепрекъснат курс\, влизане възможно по всяко време\nТакса за курса:\n8\,00 € на учебна единица + членство в Landfrauen Jagstheim\nМясто:\nJagstauenhalle\, Jagstheimer Hauptstraße 157\, 74564 Crailsheim\nДа вземете със себе си:\nУдобно спортно облекло\, напитка\nРегистриране с обвързваща сила:\nС Kathrin Lenz (0176.426 01912) \n 
URL:https://jagstheim.de/event/kick-4-fit-%d0%b5-%d1%84%d0%b8%d1%82%d0%bd%d0%b5%d1%81-%d0%bf%d1%80%d0%be%d0%b3%d1%80%d0%b0%d0%bc%d0%b0/2023-09-13/?lang=bg
LOCATION:Jagstauenhalle\, Главна улица Jagstheimer 157\, Crailsheim\, Баден-Вюртемберг\, 74564\, Deutschland
CATEGORIES:Countrywomen,Асоциация,Спортен
END:VEVENT
BEGIN:VEVENT
DTSTART;VALUE=DATE:20230919
DTEND;VALUE=DATE:20230920
DTSTAMP:20260422T134302
CREATED:20230526T080951Z
LAST-MODIFIED:20230526T080951Z
UID:10000642-1695081600-1695167999@jagstheim.de
SUMMARY:Органични отпадъци и остатъчни отпадъци
DESCRIPTION:Crailsheim – област 4 \nОбласт Швебиш Хол | Календар за отпадъците | (lrasha.de) \n 
URL:https://jagstheim.de/event/%d0%be%d1%80%d0%b3%d0%b0%d0%bd%d0%b8%d1%87%d0%bd%d0%b8-%d0%be%d1%82%d0%bf%d0%b0%d0%b4%d1%8a%d1%86%d0%b8-%d0%b8-%d0%be%d1%81%d1%82%d0%b0%d1%82%d1%8a%d1%87%d0%bd%d0%b8-%d0%be%d1%82%d0%bf%d0%b0%d0%b4-11/?lang=bg
LOCATION:Баден-Вюртемберг
CATEGORIES:Изхвърляне на отпадъци
ATTACH;FMTTYPE=image/webp:https://jagstheim.de/wp-content/uploads/2023/07/BioRest.webp
END:VEVENT
BEGIN:VEVENT
DTSTART;TZID=Europe/Helsinki:20230920T181500
DTEND;TZID=Europe/Helsinki:20230920T193000
DTSTAMP:20260422T134302
CREATED:20230825T194007Z
LAST-MODIFIED:20230825T194206Z
UID:10001321-1695233700-1695238200@jagstheim.de
SUMMARY:KICK 4 Fit е фитнес програма
DESCRIPTION:KICK 4 Fit е фитнес програма с динамични елементи от бойното изкуство таекуондо.\nНапълно без насилие\, ние тренираме скорост\, издръжливост\, сила и координация с млади и стари.\nПодобряваме реакциите и представянето си и стимулираме нервната система\, мускулите\, сухожилията и ставите по един изключително динамичен начин.\nПродължава и след лятната ваканция – идеалната възможност да се включите!\nПРИСЪЕДИНЕТЕ СЕ КЪМ НАС! ОТ 13 СЕПТЕМВРИ 2023 Г.\, 18.15 – 19.30 Ч.\nТреньори:\nПаскал Меле\, 5-ти дан TKD & Изабел Шефер\, 3-ти дан TKD\nЗапочнете:\nсряда 13 септември 2023 г.\, 18.15 – 19.30 ч.\nПроцедура:\nНепрекъснат курс\, влизане възможно по всяко време\nТакса за курса:\n8\,00 € на учебна единица + членство в Landfrauen Jagstheim\nМясто:\nJagstauenhalle\, Jagstheimer Hauptstraße 157\, 74564 Crailsheim\nДа вземете със себе си:\nУдобно спортно облекло\, напитка\nРегистриране с обвързваща сила:\nС Kathrin Lenz (0176.426 01912) \n 
URL:https://jagstheim.de/event/kick-4-fit-%d0%b5-%d1%84%d0%b8%d1%82%d0%bd%d0%b5%d1%81-%d0%bf%d1%80%d0%be%d0%b3%d1%80%d0%b0%d0%bc%d0%b0/2023-09-20/?lang=bg
LOCATION:Jagstauenhalle\, Главна улица Jagstheimer 157\, Crailsheim\, Баден-Вюртемберг\, 74564\, Deutschland
CATEGORIES:Countrywomen,Асоциация,Спортен
END:VEVENT
BEGIN:VEVENT
DTSTART;VALUE=DATE:20230923
DTEND;VALUE=DATE:20230924
DTSTAMP:20260422T134302
CREATED:20230706T083856Z
LAST-MODIFIED:20230706T083856Z
UID:10000717-1695427200-1695513599@jagstheim.de
SUMMARY:VfB | Гимнастика
DESCRIPTION:Екип на Gaufinale \n 
URL:https://jagstheim.de/event/vfb-%d0%b3%d0%b8%d0%bc%d0%bd%d0%b0%d1%81%d1%82%d0%b8%d0%ba%d0%b0/?lang=bg
LOCATION:Зала Karlsberg\, Beuerlbacher Str. 16\, Crailsheim\, 74564\, Deutschland
CATEGORIES:Асоциация,Спорт
ATTACH;FMTTYPE=image/jpeg:https://jagstheim.de/wp-content/uploads/2023/07/rings-4876839-scaled.jpg
END:VEVENT
BEGIN:VEVENT
DTSTART;TZID=Europe/Helsinki:20230927T181500
DTEND;TZID=Europe/Helsinki:20230927T193000
DTSTAMP:20260422T134302
CREATED:20230825T194007Z
LAST-MODIFIED:20230825T194206Z
UID:10001322-1695838500-1695843000@jagstheim.de
SUMMARY:KICK 4 Fit е фитнес програма
DESCRIPTION:KICK 4 Fit е фитнес програма с динамични елементи от бойното изкуство таекуондо.\nНапълно без насилие\, ние тренираме скорост\, издръжливост\, сила и координация с млади и стари.\nПодобряваме реакциите и представянето си и стимулираме нервната система\, мускулите\, сухожилията и ставите по един изключително динамичен начин.\nПродължава и след лятната ваканция – идеалната възможност да се включите!\nПРИСЪЕДИНЕТЕ СЕ КЪМ НАС! ОТ 13 СЕПТЕМВРИ 2023 Г.\, 18.15 – 19.30 Ч.\nТреньори:\nПаскал Меле\, 5-ти дан TKD & Изабел Шефер\, 3-ти дан TKD\nЗапочнете:\nсряда 13 септември 2023 г.\, 18.15 – 19.30 ч.\nПроцедура:\nНепрекъснат курс\, влизане възможно по всяко време\nТакса за курса:\n8\,00 € на учебна единица + членство в Landfrauen Jagstheim\nМясто:\nJagstauenhalle\, Jagstheimer Hauptstraße 157\, 74564 Crailsheim\nДа вземете със себе си:\nУдобно спортно облекло\, напитка\nРегистриране с обвързваща сила:\nС Kathrin Lenz (0176.426 01912) \n 
URL:https://jagstheim.de/event/kick-4-fit-%d0%b5-%d1%84%d0%b8%d1%82%d0%bd%d0%b5%d1%81-%d0%bf%d1%80%d0%be%d0%b3%d1%80%d0%b0%d0%bc%d0%b0/2023-09-27/?lang=bg
LOCATION:Jagstauenhalle\, Главна улица Jagstheimer 157\, Crailsheim\, Баден-Вюртемберг\, 74564\, Deutschland
CATEGORIES:Countrywomen,Асоциация,Спортен
END:VEVENT
BEGIN:VEVENT
DTSTART;VALUE=DATE:20230929
DTEND;VALUE=DATE:20230930
DTSTAMP:20260422T134302
CREATED:20230526T080952Z
LAST-MODIFIED:20230526T080952Z
UID:10000624-1695945600-1696031999@jagstheim.de
SUMMARY:Жълта торба и кошче за хартия
DESCRIPTION:Crailsheim – област 4 \nОбласт Швебиш Хол | Календар за отпадъците | (lrasha.de) \n 
URL:https://jagstheim.de/event/%d0%b6%d1%8a%d0%bb%d1%82%d0%b0-%d1%82%d0%be%d1%80%d0%b1%d0%b0-%d0%b8-%d0%ba%d0%be%d1%88%d1%87%d0%b5-%d0%b7%d0%b0-%d1%85%d0%b0%d1%80%d1%82%d0%b8%d1%8f-3/?lang=bg
LOCATION:Баден-Вюртемберг
CATEGORIES:Изхвърляне на отпадъци
ATTACH;FMTTYPE=image/webp:https://jagstheim.de/wp-content/uploads/2023/07/GelbPapier.webp
END:VEVENT
BEGIN:VEVENT
DTSTART;VALUE=DATE:20230930
DTEND;VALUE=DATE:20231001
DTSTAMP:20260422T134302
CREATED:20230526T080952Z
LAST-MODIFIED:20230526T080952Z
UID:10000626-1696032000-1696118399@jagstheim.de
SUMMARY:Органични отпадъци и остатъчни отпадъци
DESCRIPTION:Crailsheim – област 4 \nОбласт Швебиш Хол | Календар за отпадъците | (lrasha.de) \n 
URL:https://jagstheim.de/event/%d0%be%d1%80%d0%b3%d0%b0%d0%bd%d0%b8%d1%87%d0%bd%d0%b8-%d0%be%d1%82%d0%bf%d0%b0%d0%b4%d1%8a%d1%86%d0%b8-%d0%b8-%d0%be%d1%81%d1%82%d0%b0%d1%82%d1%8a%d1%87%d0%bd%d0%b8-%d0%be%d1%82%d0%bf%d0%b0%d0%b4-7/?lang=bg
LOCATION:Баден-Вюртемберг
CATEGORIES:Изхвърляне на отпадъци
ATTACH;FMTTYPE=image/webp:https://jagstheim.de/wp-content/uploads/2023/07/BioRest.webp
END:VEVENT
BEGIN:VEVENT
DTSTART;TZID=Europe/Helsinki:20231001T100000
DTEND;TZID=Europe/Helsinki:20231001T113000
DTSTAMP:20260422T134303
CREATED:20230706T084239Z
LAST-MODIFIED:20230706T084239Z
UID:10000689-1696154400-1696159800@jagstheim.de
SUMMARY:енория
DESCRIPTION:Празник на реколтата \n 
URL:https://jagstheim.de/event/%d0%b5%d0%bd%d0%be%d1%80%d0%b8%d1%8f-5/?lang=bg
LOCATION:Църквата „Свети Николай\, Пътят към язовира 3\, Crailsheim\, Баден-Вюртемберг\, 74564\, Deutschland
CATEGORIES:Църква
ATTACH;FMTTYPE=image/jpeg:https://jagstheim.de/wp-content/uploads/2023/07/cornucopia-1789664_640.jpg
END:VEVENT
BEGIN:VEVENT
DTSTART;TZID=Europe/Helsinki:20231004T140000
DTEND;TZID=Europe/Helsinki:20231004T153000
DTSTAMP:20260422T134303
CREATED:20230706T091428Z
LAST-MODIFIED:20230706T091428Z
UID:10000691-1696428000-1696433400@jagstheim.de
SUMMARY:католическа енория
DESCRIPTION:Клуб на старите хора \n 
URL:https://jagstheim.de/event/%d0%ba%d0%b0%d1%82%d0%be%d0%bb%d0%b8%d1%87%d0%b5%d1%81%d0%ba%d0%b0-%d0%b5%d0%bd%d0%be%d1%80%d0%b8%d1%8f-2/?lang=bg
LOCATION:Католическа енорийска зала\, Eichwald Road 16\, Crailsheim\, Баден-Вюртемберг\, 74564\, Deutschland
CATEGORIES:католически,Църква
ATTACH;FMTTYPE=image/jpeg:https://jagstheim.de/wp-content/uploads/2023/07/cruz-2536209_640.jpg
END:VEVENT
BEGIN:VEVENT
DTSTART;TZID=Europe/Helsinki:20231004T181500
DTEND;TZID=Europe/Helsinki:20231004T193000
DTSTAMP:20260422T134303
CREATED:20230825T194007Z
LAST-MODIFIED:20230825T194206Z
UID:10001323-1696443300-1696447800@jagstheim.de
SUMMARY:KICK 4 Fit е фитнес програма
DESCRIPTION:KICK 4 Fit е фитнес програма с динамични елементи от бойното изкуство таекуондо.\nНапълно без насилие\, ние тренираме скорост\, издръжливост\, сила и координация с млади и стари.\nПодобряваме реакциите и представянето си и стимулираме нервната система\, мускулите\, сухожилията и ставите по един изключително динамичен начин.\nПродължава и след лятната ваканция – идеалната възможност да се включите!\nПРИСЪЕДИНЕТЕ СЕ КЪМ НАС! ОТ 13 СЕПТЕМВРИ 2023 Г.\, 18.15 – 19.30 Ч.\nТреньори:\nПаскал Меле\, 5-ти дан TKD & Изабел Шефер\, 3-ти дан TKD\nЗапочнете:\nсряда 13 септември 2023 г.\, 18.15 – 19.30 ч.\nПроцедура:\nНепрекъснат курс\, влизане възможно по всяко време\nТакса за курса:\n8\,00 € на учебна единица + членство в Landfrauen Jagstheim\nМясто:\nJagstauenhalle\, Jagstheimer Hauptstraße 157\, 74564 Crailsheim\nДа вземете със себе си:\nУдобно спортно облекло\, напитка\nРегистриране с обвързваща сила:\nС Kathrin Lenz (0176.426 01912) \n 
URL:https://jagstheim.de/event/kick-4-fit-%d0%b5-%d1%84%d0%b8%d1%82%d0%bd%d0%b5%d1%81-%d0%bf%d1%80%d0%be%d0%b3%d1%80%d0%b0%d0%bc%d0%b0/2023-10-04/?lang=bg
LOCATION:Jagstauenhalle\, Главна улица Jagstheimer 157\, Crailsheim\, Баден-Вюртемберг\, 74564\, Deutschland
CATEGORIES:Countrywomen,Асоциация,Спортен
END:VEVENT
BEGIN:VEVENT
DTSTART;TZID=Europe/Helsinki:20231005T190000
DTEND;TZID=Europe/Helsinki:20231005T210000
DTSTAMP:20260422T134303
CREATED:20230924T180548Z
LAST-MODIFIED:20250205T062434Z
UID:10003657-1696532400-1696539600@jagstheim.de
SUMMARY:Покана Подготовка за учредителната асамблея
DESCRIPTION:Работната група Bürgernetzwerk Jagstheim ви кани на подготвителната работа за учредителната среща \nТОП: \nПредставяне на работната група Какво се е случило досега (име\, лого и устав) Изготвяне на устав (* Правилник за вноските Разни \nМоля\, регистрирайте се чрез формуляра за контакт или изпратете имейл на info@jagstheim.de С най-добри пожелания Ирене Биндер\, Райнер Пробст\, Ева-Елизабет Шварц и Гели Виг-Еспенлауб \n* Искаме да финализираме устава\, за да може той да бъде представен на данъчната служба за проверка за нестопанска цел. (Това трябва да е направено преди учредителната среща) \n 
URL:https://jagstheim.de/event/%d0%bf%d0%be%d0%ba%d0%b0%d0%bd%d0%b0-%d0%bf%d0%be%d0%b4%d0%b3%d0%be%d1%82%d0%be%d0%b2%d0%ba%d0%b0-%d0%b7%d0%b0-%d1%83%d1%87%d1%80%d0%b5%d0%b4%d0%b8%d1%82%d0%b5%d0%bb%d0%bd%d0%b0%d1%82%d0%b0-%d0%b0/?lang=bg
LOCATION:Хотел Hirsch Inn\, Хансгасе 1\, Crailsheim\, 74564
CATEGORIES:Асоциация
ATTACH;FMTTYPE=image/png:https://jagstheim.de/wp-content/uploads/2023/09/GenauDich_01.png
END:VEVENT
BEGIN:VEVENT
DTSTART;TZID=Europe/Helsinki:20231010T143000
DTEND;TZID=Europe/Helsinki:20231010T160000
DTSTAMP:20260422T134303
CREATED:20230706T092926Z
LAST-MODIFIED:20230706T092926Z
UID:10000668-1696948200-1696953600@jagstheim.de
SUMMARY:енория
DESCRIPTION:Следобед за възрастни граждани \n 
URL:https://jagstheim.de/event/%d0%b5%d0%bd%d0%be%d1%80%d0%b8%d1%8f-2/?lang=bg
LOCATION:енорийска зала\, Пътят към язовира 5\, Crailsheim\, 74564
CATEGORIES:Протестантски,Църква
ATTACH;FMTTYPE=image/jpeg:https://jagstheim.de/wp-content/uploads/2023/07/coffee-shop-3699340-scaled.jpg
END:VEVENT
BEGIN:VEVENT
DTSTART;TZID=Europe/Helsinki:20231011T181500
DTEND;TZID=Europe/Helsinki:20231011T193000
DTSTAMP:20260422T134303
CREATED:20230825T194007Z
LAST-MODIFIED:20230825T194206Z
UID:10001324-1697048100-1697052600@jagstheim.de
SUMMARY:KICK 4 Fit е фитнес програма
DESCRIPTION:KICK 4 Fit е фитнес програма с динамични елементи от бойното изкуство таекуондо.\nНапълно без насилие\, ние тренираме скорост\, издръжливост\, сила и координация с млади и стари.\nПодобряваме реакциите и представянето си и стимулираме нервната система\, мускулите\, сухожилията и ставите по един изключително динамичен начин.\nПродължава и след лятната ваканция – идеалната възможност да се включите!\nПРИСЪЕДИНЕТЕ СЕ КЪМ НАС! ОТ 13 СЕПТЕМВРИ 2023 Г.\, 18.15 – 19.30 Ч.\nТреньори:\nПаскал Меле\, 5-ти дан TKD & Изабел Шефер\, 3-ти дан TKD\nЗапочнете:\nсряда 13 септември 2023 г.\, 18.15 – 19.30 ч.\nПроцедура:\nНепрекъснат курс\, влизане възможно по всяко време\nТакса за курса:\n8\,00 € на учебна единица + членство в Landfrauen Jagstheim\nМясто:\nJagstauenhalle\, Jagstheimer Hauptstraße 157\, 74564 Crailsheim\nДа вземете със себе си:\nУдобно спортно облекло\, напитка\nРегистриране с обвързваща сила:\nС Kathrin Lenz (0176.426 01912) \n 
URL:https://jagstheim.de/event/kick-4-fit-%d0%b5-%d1%84%d0%b8%d1%82%d0%bd%d0%b5%d1%81-%d0%bf%d1%80%d0%be%d0%b3%d1%80%d0%b0%d0%bc%d0%b0/2023-10-11/?lang=bg
LOCATION:Jagstauenhalle\, Главна улица Jagstheimer 157\, Crailsheim\, Баден-Вюртемберг\, 74564\, Deutschland
CATEGORIES:Countrywomen,Асоциация,Спортен
END:VEVENT
BEGIN:VEVENT
DTSTART;VALUE=DATE:20231017
DTEND;VALUE=DATE:20231018
DTSTAMP:20260422T134303
CREATED:20230526T080953Z
LAST-MODIFIED:20230526T080953Z
UID:10000628-1697500800-1697587199@jagstheim.de
SUMMARY:Органични отпадъци и остатъчни отпадъци
DESCRIPTION:Crailsheim – област 4 \nОбласт Швебиш Хол | Календар за отпадъците | (lrasha.de) \n 
URL:https://jagstheim.de/event/%d0%be%d1%80%d0%b3%d0%b0%d0%bd%d0%b8%d1%87%d0%bd%d0%b8-%d0%be%d1%82%d0%bf%d0%b0%d0%b4%d1%8a%d1%86%d0%b8-%d0%b8-%d0%be%d1%81%d1%82%d0%b0%d1%82%d1%8a%d1%87%d0%bd%d0%b8-%d0%be%d1%82%d0%bf%d0%b0%d0%b4-4/?lang=bg
LOCATION:Баден-Вюртемберг
CATEGORIES:Изхвърляне на отпадъци
ATTACH;FMTTYPE=image/webp:https://jagstheim.de/wp-content/uploads/2023/07/BioRest.webp
END:VEVENT
BEGIN:VEVENT
DTSTART;TZID=Europe/Helsinki:20231017T193000
DTEND;TZID=Europe/Helsinki:20231017T213000
DTSTAMP:20260422T134303
CREATED:20230725T151454Z
LAST-MODIFIED:20230817T103051Z
UID:10000784-1697571000-1697578200@jagstheim.de
SUMMARY:Гражданска мрежа Ягстхайм | Основаване на сдружението
DESCRIPTION:Цел на асоциацията \nЦелта на асоциацията е: \n\nПодкрепа на хора в ежедневните дейности\, които са зависими от помощта на други хора в резултат на тяхното физическо\, умствено и емоционално състояние.  (Член 53\, параграф. 1 № 1 Данъчен кодекс).\nНасърчаване на проекти и мерки в областта на благосъстоянието на децата и младежите ( § 52\, ал. 2\, т. 4 от Германския данъчен кодекс).\nНасърчаване и интегриране на чуждестранни съграждани ( § 52\, ал. 2\, т.  13 от Данъчния кодекс).\n\nТези цели на асоциацията се реализират по-специално чрез следните услуги и мерки\, описани по-подробно…: \n\nОбменна мрежа (търсене и предлагане)\n\nСтоки без членство\nУслуги само чрез членство (застраховка)\n\n\nКраткосрочна помощ в домакинството\, в случай на заболяване или други спешни случаи\, например след изписване от болница.\nКраткосрочни грижи за деца\nКраткосрочни грижи или надзор\nКраткосрочни грижи за домашни любимци\nУслуги за посещения\nОблекчение за грижещи се роднини/самотни родители\nнапр. при посещения на властите\, лекари\, магазини или църкви.\nЛека и дребна работа в домакинството и/или градината\nПазаруване\nПомощни средства за писане\nГоворете\, четете на глас и играйте в партньорство\nПоддържане на контакти с институции за работа с възрастни хора\nТехнически презентации от особен интерес за членовете\nEDP: подкрепа при създаването | малки курсове за обучение\n\n 
URL:https://jagstheim.de/event/%d0%b3%d1%80%d0%b0%d0%b6%d0%b4%d0%b0%d0%bd%d0%b8-%d0%bf%d0%be%d0%bc%d0%b0%d0%b3%d0%b0%d1%82-%d0%bd%d0%b0-%d0%b3%d1%80%d0%b0%d0%b6%d0%b4%d0%b0%d0%bd%d0%b8-%d0%be%d1%81%d0%bd%d0%be%d0%b2%d0%b0%d0%b2/?lang=bg
LOCATION:Зала за срещи на местния съвет\, Милски път 43\, Crailsheim\, Баден-Вюртемберг\, 74564\, Deutschland
CATEGORIES:Асоциация,Местен съвет
ATTACH;FMTTYPE=image/webp:https://jagstheim.de/wp-content/uploads/2023/07/Logo_640.webp
END:VEVENT
BEGIN:VEVENT
DTSTART;TZID=Europe/Helsinki:20231018T181500
DTEND;TZID=Europe/Helsinki:20231018T193000
DTSTAMP:20260422T134303
CREATED:20230825T194007Z
LAST-MODIFIED:20230825T194206Z
UID:10001325-1697652900-1697657400@jagstheim.de
SUMMARY:KICK 4 Fit е фитнес програма
DESCRIPTION:KICK 4 Fit е фитнес програма с динамични елементи от бойното изкуство таекуондо.\nНапълно без насилие\, ние тренираме скорост\, издръжливост\, сила и координация с млади и стари.\nПодобряваме реакциите и представянето си и стимулираме нервната система\, мускулите\, сухожилията и ставите по един изключително динамичен начин.\nПродължава и след лятната ваканция – идеалната възможност да се включите!\nПРИСЪЕДИНЕТЕ СЕ КЪМ НАС! ОТ 13 СЕПТЕМВРИ 2023 Г.\, 18.15 – 19.30 Ч.\nТреньори:\nПаскал Меле\, 5-ти дан TKD & Изабел Шефер\, 3-ти дан TKD\nЗапочнете:\nсряда 13 септември 2023 г.\, 18.15 – 19.30 ч.\nПроцедура:\nНепрекъснат курс\, влизане възможно по всяко време\nТакса за курса:\n8\,00 € на учебна единица + членство в Landfrauen Jagstheim\nМясто:\nJagstauenhalle\, Jagstheimer Hauptstraße 157\, 74564 Crailsheim\nДа вземете със себе си:\nУдобно спортно облекло\, напитка\nРегистриране с обвързваща сила:\nС Kathrin Lenz (0176.426 01912) \n 
URL:https://jagstheim.de/event/kick-4-fit-%d0%b5-%d1%84%d0%b8%d1%82%d0%bd%d0%b5%d1%81-%d0%bf%d1%80%d0%be%d0%b3%d1%80%d0%b0%d0%bc%d0%b0/2023-10-18/?lang=bg
LOCATION:Jagstauenhalle\, Главна улица Jagstheimer 157\, Crailsheim\, Баден-Вюртемберг\, 74564\, Deutschland
CATEGORIES:Countrywomen,Асоциация,Спортен
END:VEVENT
BEGIN:VEVENT
DTSTART;VALUE=DATE:20231021
DTEND;VALUE=DATE:20231022
DTSTAMP:20260422T134303
CREATED:20230706T102023Z
LAST-MODIFIED:20230706T102023Z
UID:10000672-1697846400-1697932799@jagstheim.de
SUMMARY:VfB | Общо младежи
DESCRIPTION:Еднодневна екскурзия \n 
URL:https://jagstheim.de/event/vfb-%d0%be%d0%b1%d1%89%d0%be-%d0%bc%d0%bb%d0%b0%d0%b4%d0%b5%d0%b6%d0%b8/?lang=bg
LOCATION:Баден-Вюртемберг
CATEGORIES:Асоциация
ATTACH;FMTTYPE=image/jpeg:https://jagstheim.de/wp-content/uploads/2023/07/scooter-7396608_640.jpg
END:VEVENT
END:VCALENDAR