BEGIN:VCALENDAR
VERSION:2.0
PRODID:-//Jagstheim - ECPv6.15.20//NONSGML v1.0//EN
CALSCALE:GREGORIAN
METHOD:PUBLISH
X-WR-CALNAME:Jagstheim
X-ORIGINAL-URL:https://jagstheim.de/?lang=ru
X-WR-CALDESC:Мероприятия для Jagstheim
REFRESH-INTERVAL;VALUE=DURATION:PT1H
X-Robots-Tag:noindex
X-PUBLISHED-TTL:PT1H
BEGIN:VTIMEZONE
TZID:Europe/Helsinki
BEGIN:DAYLIGHT
TZOFFSETFROM:+0200
TZOFFSETTO:+0300
TZNAME:EEST
DTSTART:20220327T010000
END:DAYLIGHT
BEGIN:STANDARD
TZOFFSETFROM:+0300
TZOFFSETTO:+0200
TZNAME:EET
DTSTART:20221030T010000
END:STANDARD
BEGIN:DAYLIGHT
TZOFFSETFROM:+0200
TZOFFSETTO:+0300
TZNAME:EEST
DTSTART:20230326T010000
END:DAYLIGHT
BEGIN:STANDARD
TZOFFSETFROM:+0300
TZOFFSETTO:+0200
TZNAME:EET
DTSTART:20231029T010000
END:STANDARD
BEGIN:DAYLIGHT
TZOFFSETFROM:+0200
TZOFFSETTO:+0300
TZNAME:EEST
DTSTART:20240331T010000
END:DAYLIGHT
BEGIN:STANDARD
TZOFFSETFROM:+0300
TZOFFSETTO:+0200
TZNAME:EET
DTSTART:20241027T010000
END:STANDARD
END:VTIMEZONE
BEGIN:VEVENT
DTSTART;VALUE=DATE:20230804
DTEND;VALUE=DATE:20230805
DTSTAMP:20260423T064329
CREATED:20230525T180313Z
LAST-MODIFIED:20230711T142854Z
UID:10000074-1691107200-1691193599@jagstheim.de
SUMMARY:Желтый пакет и корзина для бумаг
DESCRIPTION:Крайльсхайм — округ 4 \nРайон Швабиш-Холл | Календарь отходов | (lrasha.de) \n 
URL:https://jagstheim.de/event/%d0%b6%d0%b5%d0%bb%d1%82%d1%8b%d0%b9-%d0%bf%d0%b0%d0%ba%d0%b5%d1%82-%d0%b8-%d0%ba%d0%be%d1%80%d0%b7%d0%b8%d0%bd%d0%b0-%d0%b4%d0%bb%d1%8f-%d0%b1%d1%83%d0%bc%d0%b0%d0%b3-2/?lang=ru
LOCATION:Baden-Württemberg
CATEGORIES:Утилизация отходов
ATTACH;FMTTYPE=image/webp:https://jagstheim.de/wp-content/uploads/2023/07/GelbPapier.webp
END:VEVENT
BEGIN:VEVENT
DTSTART;VALUE=DATE:20230808
DTEND;VALUE=DATE:20230809
DTSTAMP:20260423T064329
CREATED:20230525T180314Z
LAST-MODIFIED:20230711T143947Z
UID:10000115-1691452800-1691539199@jagstheim.de
SUMMARY:Органические отходы и остаточные отходы
DESCRIPTION:Крайльсхайм — округ 4 \nРайон Швабиш-Холл | Календарь отходов | (lrasha.de) \n 
URL:https://jagstheim.de/event/%d0%be%d1%80%d0%b3%d0%b0%d0%bd%d0%b8%d1%87%d0%b5%d1%81%d0%ba%d0%b8%d0%b5-%d0%be%d1%82%d1%85%d0%be%d0%b4%d1%8b-%d0%b8-%d0%be%d1%81%d1%82%d0%b0%d1%82%d0%be%d1%87%d0%bd%d1%8b%d0%b5-%d0%be%d1%82%d1%85-9/?lang=ru
LOCATION:Baden-Württemberg
CATEGORIES:Утилизация отходов
ATTACH;FMTTYPE=image/webp:https://jagstheim.de/wp-content/uploads/2023/07/BioRest.webp
END:VEVENT
BEGIN:VEVENT
DTSTART;VALUE=DATE:20230819
DTEND;VALUE=DATE:20230826
DTSTAMP:20260423T064329
CREATED:20230706T075024Z
LAST-MODIFIED:20230706T080059Z
UID:10000241-1692403200-1693007999@jagstheim.de
SUMMARY:VfB
DESCRIPTION:База отдыха в Алльгау \n 
URL:https://jagstheim.de/event/vfb/?lang=ru
LOCATION:Baden-Württemberg
CATEGORIES:Ассоциация
ATTACH;FMTTYPE=image/jpeg:https://jagstheim.de/wp-content/uploads/2023/07/campfire-896196_640.jpg
END:VEVENT
BEGIN:VEVENT
DTSTART;VALUE=DATE:20230822
DTEND;VALUE=DATE:20230823
DTSTAMP:20260423T064329
CREATED:20230525T180314Z
LAST-MODIFIED:20230711T143928Z
UID:10000080-1692662400-1692748799@jagstheim.de
SUMMARY:Органические отходы и остаточные отходы
DESCRIPTION:Крайльсхайм — округ 4 \nРайон Швабиш-Холл | Календарь отходов | (lrasha.de) \n 
URL:https://jagstheim.de/event/%d0%be%d1%80%d0%b3%d0%b0%d0%bd%d0%b8%d1%87%d0%b5%d1%81%d0%ba%d0%b8%d0%b5-%d0%be%d1%82%d1%85%d0%be%d0%b4%d1%8b-%d0%b8-%d0%be%d1%81%d1%82%d0%b0%d1%82%d0%be%d1%87%d0%bd%d1%8b%d0%b5-%d0%be%d1%82%d1%85-6/?lang=ru
LOCATION:Baden-Württemberg
CATEGORIES:Утилизация отходов
ATTACH;FMTTYPE=image/webp:https://jagstheim.de/wp-content/uploads/2023/07/BioRest.webp
END:VEVENT
BEGIN:VEVENT
DTSTART;VALUE=DATE:20230826
DTEND;VALUE=DATE:20230828
DTSTAMP:20260423T064329
CREATED:20230706T080030Z
LAST-MODIFIED:20230706T080030Z
UID:10000246-1693008000-1693180799@jagstheim.de
SUMMARY:Пожарная бригада
DESCRIPTION:Хоккетс \n 
URL:https://jagstheim.de/event/%d0%bf%d0%be%d0%b6%d0%b0%d1%80%d0%bd%d0%b0%d1%8f-%d0%b1%d1%80%d0%b8%d0%b3%d0%b0%d0%b4%d0%b0/?lang=ru
LOCATION:Пожарная станция\, Пожарная бригада и здание клуба LF / LK\, Крайльсхайм\, Баден-Вюртемберг\, 74564\, Deutschland
CATEGORIES:Пожарная бригада
ATTACH;FMTTYPE=image/jpeg:https://jagstheim.de/wp-content/uploads/2023/07/people-110316_640.jpg
END:VEVENT
BEGIN:VEVENT
DTSTART;TZID=Europe/Helsinki:20230827T103000
DTEND;TZID=Europe/Helsinki:20230827T113000
DTSTAMP:20260423T064329
CREATED:20230706T080852Z
LAST-MODIFIED:20230706T080852Z
UID:10000251-1693132200-1693135800@jagstheim.de
SUMMARY:ев. приход
DESCRIPTION:Богослужение \n 
URL:https://jagstheim.de/event/%d0%b5%d0%b2-%d0%bf%d1%80%d0%b8%d1%85%d0%be%d0%b4-2/?lang=ru
LOCATION:Пожарная станция\, Пожарная бригада и здание клуба LF / LK\, Крайльсхайм\, Баден-Вюртемберг\, 74564\, Deutschland
CATEGORIES:Церковь
ATTACH;FMTTYPE=image/jpeg:https://jagstheim.de/wp-content/uploads/2023/07/bible-5255924_640.jpg
END:VEVENT
BEGIN:VEVENT
DTSTART;VALUE=DATE:20230901
DTEND;VALUE=DATE:20230902
DTSTAMP:20260423T064329
CREATED:20230525T180315Z
LAST-MODIFIED:20230711T143054Z
UID:10000084-1693526400-1693612799@jagstheim.de
SUMMARY:Желтый пакет и корзина для бумаг
DESCRIPTION:Крайльсхайм — округ 4 \nРайон Швабиш-Холл | Календарь отходов | (lrasha.de) \n 
URL:https://jagstheim.de/event/%d0%b6%d0%b5%d0%bb%d1%82%d1%8b%d0%b9-%d0%bf%d0%b0%d0%ba%d0%b5%d1%82-%d0%b8-%d0%ba%d0%be%d1%80%d0%b7%d0%b8%d0%bd%d0%b0-%d0%b4%d0%bb%d1%8f-%d0%b1%d1%83%d0%bc%d0%b0%d0%b3-3/?lang=ru
LOCATION:Baden-Württemberg
CATEGORIES:Утилизация отходов
ATTACH;FMTTYPE=image/webp:https://jagstheim.de/wp-content/uploads/2023/07/GelbPapier.webp
END:VEVENT
BEGIN:VEVENT
DTSTART;VALUE=DATE:20230905
DTEND;VALUE=DATE:20230906
DTSTAMP:20260423T064329
CREATED:20230525T180315Z
LAST-MODIFIED:20230711T143908Z
UID:10000102-1693872000-1693958399@jagstheim.de
SUMMARY:Органические отходы и остаточные отходы
DESCRIPTION:Крайльсхайм — округ 4 \nРайон Швабиш-Холл | Календарь отходов | (lrasha.de) \n 
URL:https://jagstheim.de/event/%d0%be%d1%80%d0%b3%d0%b0%d0%bd%d0%b8%d1%87%d0%b5%d1%81%d0%ba%d0%b8%d0%b5-%d0%be%d1%82%d1%85%d0%be%d0%b4%d1%8b-%d0%b8-%d0%be%d1%81%d1%82%d0%b0%d1%82%d0%be%d1%87%d0%bd%d1%8b%d0%b5-%d0%be%d1%82%d1%85-11/?lang=ru
LOCATION:Baden-Württemberg
CATEGORIES:Утилизация отходов
ATTACH;FMTTYPE=image/webp:https://jagstheim.de/wp-content/uploads/2023/07/BioRest.webp
END:VEVENT
BEGIN:VEVENT
DTSTART;TZID=Europe/Helsinki:20230906T140000
DTEND;TZID=Europe/Helsinki:20230906T153000
DTSTAMP:20260423T064329
CREATED:20230706T081127Z
LAST-MODIFIED:20230706T081127Z
UID:10000255-1694008800-1694014200@jagstheim.de
SUMMARY:католический приход
DESCRIPTION:Клуб пожилых людей \n 
URL:https://jagstheim.de/event/%d0%ba%d0%b0%d1%82%d0%be%d0%bb%d0%b8%d1%87%d0%b5%d1%81%d0%ba%d0%b8%d0%b9-%d0%bf%d1%80%d0%b8%d1%85%d0%be%d0%b4/?lang=ru
LOCATION:Зал католического прихода\, Эйхвальд Роуд 16\, Крайльсхайм\, Баден-Вюртемберг\, 74564\, Deutschland
CATEGORIES:Церковь
ATTACH;FMTTYPE=image/jpeg:https://jagstheim.de/wp-content/uploads/2023/07/cruz-2536209_640.jpg
END:VEVENT
BEGIN:VEVENT
DTSTART;TZID=Europe/Helsinki:20230906T193000
DTEND;TZID=Europe/Helsinki:20230906T203000
DTSTAMP:20260423T064330
CREATED:20230706T081728Z
LAST-MODIFIED:20230706T081728Z
UID:10000261-1694028600-1694032200@jagstheim.de
SUMMARY:VfB | Айкидо
DESCRIPTION:Начало обучения \n 
URL:https://jagstheim.de/event/vfb-%d0%b0%d0%b9%d0%ba%d0%b8%d0%b4%d0%be-3/?lang=ru
LOCATION:Jagstauenhalle\, Главная улица Ягстхаймера 157\, Крайльсхайм\, Баден-Вюртемберг\, 74564\, Deutschland
CATEGORIES:Ассоциация,Спорт
ATTACH;FMTTYPE=image/jpeg:https://jagstheim.de/wp-content/uploads/2023/07/aikido-362959_640.jpg
END:VEVENT
BEGIN:VEVENT
DTSTART;TZID=Europe/Helsinki:20230913T181500
DTEND;TZID=Europe/Helsinki:20230913T193000
DTSTAMP:20260423T064330
CREATED:20230825T194007Z
LAST-MODIFIED:20230825T194208Z
UID:10000799-1694628900-1694633400@jagstheim.de
SUMMARY:KICK 4 Fit - это фитнес-программа
DESCRIPTION:KICK 4 Fit — это фитнес-программа с динамическими элементами боевого искусства тхэквондо.\nСовершенно ненасильственные\, мы тренируем скорость\, выносливость\, силу и координацию с молодыми и пожилыми.\nМы улучшаем свою реакцию и работоспособность\, стимулируем нервную систему\, мышцы\, сухожилия и суставы в чрезвычайно динамичном режиме.\nОн продолжается после летних каникул — прекрасная возможность присоединиться!\nПРИСОЕДИНЯЙТЕСЬ К НАМ! С 13 СЕНТЯБРЯ 2023 Г.\, 18.15 — 19.30\nТренеры:\nПаскаль Меле\, 5-й дан ТКД и Изабелл Шефер\, 3-й дан ТКД\nНачало:\nСреда 13 сентября 2023 года\, 18.15 — 19.30 часов каждая\nПроцедура:\nНепрерывный курс\, поступление возможно в любое время\nСтоимость курса:\n8\,00 € за единицу обучения + членство в Landfrauen Jagstheim\nМесто:\nJagstauenhalle\, Jagstheimer Hauptstraße 157\, 74564 Crailsheim\nВзять с собой:\nУдобная спортивная одежда\, напитки\nОбязательная регистрация:\nС Катрин Ленц (0176.426 01912) \n 
URL:https://jagstheim.de/event/kick-4-fit-%d1%8d%d1%82%d0%be-%d1%84%d0%b8%d1%82%d0%bd%d0%b5%d1%81-%d0%bf%d1%80%d0%be%d0%b3%d1%80%d0%b0%d0%bc%d0%bc%d0%b0/2023-09-13/?lang=ru
LOCATION:Jagstauenhalle\, Главная улица Ягстхаймера 157\, Крайльсхайм\, Баден-Вюртемберг\, 74564\, Deutschland
CATEGORIES:Ассоциация,Соотечественницы,Спортивный
END:VEVENT
BEGIN:VEVENT
DTSTART;VALUE=DATE:20230919
DTEND;VALUE=DATE:20230920
DTSTAMP:20260423T064330
CREATED:20230526T080951Z
LAST-MODIFIED:20230711T143845Z
UID:10000123-1695081600-1695167999@jagstheim.de
SUMMARY:Органические отходы и остаточные отходы
DESCRIPTION:Крайльсхайм — округ 4 \nРайон Швабиш-Холл | Календарь отходов | (lrasha.de) \n 
URL:https://jagstheim.de/event/%d0%be%d1%80%d0%b3%d0%b0%d0%bd%d0%b8%d1%87%d0%b5%d1%81%d0%ba%d0%b8%d0%b5-%d0%be%d1%82%d1%85%d0%be%d0%b4%d1%8b-%d0%b8-%d0%be%d1%81%d1%82%d0%b0%d1%82%d0%be%d1%87%d0%bd%d1%8b%d0%b5-%d0%be%d1%82%d1%85-10/?lang=ru
LOCATION:Baden-Württemberg
CATEGORIES:Утилизация отходов
ATTACH;FMTTYPE=image/webp:https://jagstheim.de/wp-content/uploads/2023/07/BioRest.webp
END:VEVENT
BEGIN:VEVENT
DTSTART;TZID=Europe/Helsinki:20230920T181500
DTEND;TZID=Europe/Helsinki:20230920T193000
DTSTAMP:20260423T064330
CREATED:20230825T194007Z
LAST-MODIFIED:20230825T194208Z
UID:10002875-1695233700-1695238200@jagstheim.de
SUMMARY:KICK 4 Fit - это фитнес-программа
DESCRIPTION:KICK 4 Fit — это фитнес-программа с динамическими элементами боевого искусства тхэквондо.\nСовершенно ненасильственные\, мы тренируем скорость\, выносливость\, силу и координацию с молодыми и пожилыми.\nМы улучшаем свою реакцию и работоспособность\, стимулируем нервную систему\, мышцы\, сухожилия и суставы в чрезвычайно динамичном режиме.\nОн продолжается после летних каникул — прекрасная возможность присоединиться!\nПРИСОЕДИНЯЙТЕСЬ К НАМ! С 13 СЕНТЯБРЯ 2023 Г.\, 18.15 — 19.30\nТренеры:\nПаскаль Меле\, 5-й дан ТКД и Изабелл Шефер\, 3-й дан ТКД\nНачало:\nСреда 13 сентября 2023 года\, 18.15 — 19.30 часов каждая\nПроцедура:\nНепрерывный курс\, поступление возможно в любое время\nСтоимость курса:\n8\,00 € за единицу обучения + членство в Landfrauen Jagstheim\nМесто:\nJagstauenhalle\, Jagstheimer Hauptstraße 157\, 74564 Crailsheim\nВзять с собой:\nУдобная спортивная одежда\, напитки\nОбязательная регистрация:\nС Катрин Ленц (0176.426 01912) \n 
URL:https://jagstheim.de/event/kick-4-fit-%d1%8d%d1%82%d0%be-%d1%84%d0%b8%d1%82%d0%bd%d0%b5%d1%81-%d0%bf%d1%80%d0%be%d0%b3%d1%80%d0%b0%d0%bc%d0%bc%d0%b0/2023-09-20/?lang=ru
LOCATION:Jagstauenhalle\, Главная улица Ягстхаймера 157\, Крайльсхайм\, Баден-Вюртемберг\, 74564\, Deutschland
CATEGORIES:Ассоциация,Соотечественницы,Спортивный
END:VEVENT
BEGIN:VEVENT
DTSTART;VALUE=DATE:20230923
DTEND;VALUE=DATE:20230924
DTSTAMP:20260423T064330
CREATED:20230706T083856Z
LAST-MODIFIED:20230706T083856Z
UID:10000266-1695427200-1695513599@jagstheim.de
SUMMARY:VfB | Гимнастика
DESCRIPTION:Команда Гауфинале \n 
URL:https://jagstheim.de/event/vfb-%d0%b3%d0%b8%d0%bc%d0%bd%d0%b0%d1%81%d1%82%d0%b8%d0%ba%d0%b0/?lang=ru
LOCATION:Карлсберг Холл\, Beuerlbacher Str. 16\, Крайльсхайм\, 74564\, Deutschland
CATEGORIES:Ассоциация,Спорт
ATTACH;FMTTYPE=image/jpeg:https://jagstheim.de/wp-content/uploads/2023/07/rings-4876839-scaled.jpg
END:VEVENT
BEGIN:VEVENT
DTSTART;TZID=Europe/Helsinki:20230927T181500
DTEND;TZID=Europe/Helsinki:20230927T193000
DTSTAMP:20260423T064330
CREATED:20230825T194007Z
LAST-MODIFIED:20230825T194208Z
UID:10002876-1695838500-1695843000@jagstheim.de
SUMMARY:KICK 4 Fit - это фитнес-программа
DESCRIPTION:KICK 4 Fit — это фитнес-программа с динамическими элементами боевого искусства тхэквондо.\nСовершенно ненасильственные\, мы тренируем скорость\, выносливость\, силу и координацию с молодыми и пожилыми.\nМы улучшаем свою реакцию и работоспособность\, стимулируем нервную систему\, мышцы\, сухожилия и суставы в чрезвычайно динамичном режиме.\nОн продолжается после летних каникул — прекрасная возможность присоединиться!\nПРИСОЕДИНЯЙТЕСЬ К НАМ! С 13 СЕНТЯБРЯ 2023 Г.\, 18.15 — 19.30\nТренеры:\nПаскаль Меле\, 5-й дан ТКД и Изабелл Шефер\, 3-й дан ТКД\nНачало:\nСреда 13 сентября 2023 года\, 18.15 — 19.30 часов каждая\nПроцедура:\nНепрерывный курс\, поступление возможно в любое время\nСтоимость курса:\n8\,00 € за единицу обучения + членство в Landfrauen Jagstheim\nМесто:\nJagstauenhalle\, Jagstheimer Hauptstraße 157\, 74564 Crailsheim\nВзять с собой:\nУдобная спортивная одежда\, напитки\nОбязательная регистрация:\nС Катрин Ленц (0176.426 01912) \n 
URL:https://jagstheim.de/event/kick-4-fit-%d1%8d%d1%82%d0%be-%d1%84%d0%b8%d1%82%d0%bd%d0%b5%d1%81-%d0%bf%d1%80%d0%be%d0%b3%d1%80%d0%b0%d0%bc%d0%bc%d0%b0/2023-09-27/?lang=ru
LOCATION:Jagstauenhalle\, Главная улица Ягстхаймера 157\, Крайльсхайм\, Баден-Вюртемберг\, 74564\, Deutschland
CATEGORIES:Ассоциация,Соотечественницы,Спортивный
END:VEVENT
BEGIN:VEVENT
DTSTART;VALUE=DATE:20230929
DTEND;VALUE=DATE:20230930
DTSTAMP:20260423T064330
CREATED:20230526T080952Z
LAST-MODIFIED:20230711T143226Z
UID:10000118-1695945600-1696031999@jagstheim.de
SUMMARY:Желтый пакет и корзина для бумаг
DESCRIPTION:Крайльсхайм — округ 4 \nРайон Швабиш-Холл | Календарь отходов | (lrasha.de) \n 
URL:https://jagstheim.de/event/%d0%b6%d0%b5%d0%bb%d1%82%d1%8b%d0%b9-%d0%bf%d0%b0%d0%ba%d0%b5%d1%82-%d0%b8-%d0%ba%d0%be%d1%80%d0%b7%d0%b8%d0%bd%d0%b0-%d0%b4%d0%bb%d1%8f-%d0%b1%d1%83%d0%bc%d0%b0%d0%b3-5/?lang=ru
LOCATION:Baden-Württemberg
CATEGORIES:Утилизация отходов
ATTACH;FMTTYPE=image/webp:https://jagstheim.de/wp-content/uploads/2023/07/GelbPapier.webp
END:VEVENT
BEGIN:VEVENT
DTSTART;VALUE=DATE:20230930
DTEND;VALUE=DATE:20231001
DTSTAMP:20260423T064330
CREATED:20230526T080952Z
LAST-MODIFIED:20230711T143825Z
UID:10000092-1696032000-1696118399@jagstheim.de
SUMMARY:Органические отходы и остаточные отходы
DESCRIPTION:Крайльсхайм — округ 4 \nРайон Швабиш-Холл | Календарь отходов | (lrasha.de) \n 
URL:https://jagstheim.de/event/%d0%be%d1%80%d0%b3%d0%b0%d0%bd%d0%b8%d1%87%d0%b5%d1%81%d0%ba%d0%b8%d0%b5-%d0%be%d1%82%d1%85%d0%be%d0%b4%d1%8b-%d0%b8-%d0%be%d1%81%d1%82%d0%b0%d1%82%d0%be%d1%87%d0%bd%d1%8b%d0%b5-%d0%be%d1%82%d1%85-8/?lang=ru
LOCATION:Baden-Württemberg
CATEGORIES:Утилизация отходов
ATTACH;FMTTYPE=image/webp:https://jagstheim.de/wp-content/uploads/2023/07/BioRest.webp
END:VEVENT
BEGIN:VEVENT
DTSTART;TZID=Europe/Helsinki:20231001T100000
DTEND;TZID=Europe/Helsinki:20231001T113000
DTSTAMP:20260423T064330
CREATED:20230706T084239Z
LAST-MODIFIED:20230706T084239Z
UID:10000271-1696154400-1696159800@jagstheim.de
SUMMARY:ев. приход
DESCRIPTION:Праздник урожая \n 
URL:https://jagstheim.de/event/%d0%b5%d0%b2-%d0%bf%d1%80%d0%b8%d1%85%d0%be%d0%b4-3/?lang=ru
LOCATION:ev. Церковь Святого Николая\, Дорога к водохранилищу 3\, Крайльсхайм\, Баден-Вюртемберг\, 74564\, Deutschland
CATEGORIES:Церковь
ATTACH;FMTTYPE=image/jpeg:https://jagstheim.de/wp-content/uploads/2023/07/cornucopia-1789664_640.jpg
END:VEVENT
BEGIN:VEVENT
DTSTART;TZID=Europe/Helsinki:20231004T140000
DTEND;TZID=Europe/Helsinki:20231004T153000
DTSTAMP:20260423T064330
CREATED:20230706T091428Z
LAST-MODIFIED:20230706T091428Z
UID:10000276-1696428000-1696433400@jagstheim.de
SUMMARY:католический приход
DESCRIPTION:Клуб пожилых людей \n 
URL:https://jagstheim.de/event/%d0%ba%d0%b0%d1%82%d0%be%d0%bb%d0%b8%d1%87%d0%b5%d1%81%d0%ba%d0%b8%d0%b9-%d0%bf%d1%80%d0%b8%d1%85%d0%be%d0%b4-2/?lang=ru
LOCATION:Зал католического прихода\, Эйхвальд Роуд 16\, Крайльсхайм\, Баден-Вюртемберг\, 74564\, Deutschland
CATEGORIES:католическая,Церковь
ATTACH;FMTTYPE=image/jpeg:https://jagstheim.de/wp-content/uploads/2023/07/cruz-2536209_640.jpg
END:VEVENT
BEGIN:VEVENT
DTSTART;TZID=Europe/Helsinki:20231004T181500
DTEND;TZID=Europe/Helsinki:20231004T193000
DTSTAMP:20260423T064330
CREATED:20230825T194007Z
LAST-MODIFIED:20230825T194208Z
UID:10002877-1696443300-1696447800@jagstheim.de
SUMMARY:KICK 4 Fit - это фитнес-программа
DESCRIPTION:KICK 4 Fit — это фитнес-программа с динамическими элементами боевого искусства тхэквондо.\nСовершенно ненасильственные\, мы тренируем скорость\, выносливость\, силу и координацию с молодыми и пожилыми.\nМы улучшаем свою реакцию и работоспособность\, стимулируем нервную систему\, мышцы\, сухожилия и суставы в чрезвычайно динамичном режиме.\nОн продолжается после летних каникул — прекрасная возможность присоединиться!\nПРИСОЕДИНЯЙТЕСЬ К НАМ! С 13 СЕНТЯБРЯ 2023 Г.\, 18.15 — 19.30\nТренеры:\nПаскаль Меле\, 5-й дан ТКД и Изабелл Шефер\, 3-й дан ТКД\nНачало:\nСреда 13 сентября 2023 года\, 18.15 — 19.30 часов каждая\nПроцедура:\nНепрерывный курс\, поступление возможно в любое время\nСтоимость курса:\n8\,00 € за единицу обучения + членство в Landfrauen Jagstheim\nМесто:\nJagstauenhalle\, Jagstheimer Hauptstraße 157\, 74564 Crailsheim\nВзять с собой:\nУдобная спортивная одежда\, напитки\nОбязательная регистрация:\nС Катрин Ленц (0176.426 01912) \n 
URL:https://jagstheim.de/event/kick-4-fit-%d1%8d%d1%82%d0%be-%d1%84%d0%b8%d1%82%d0%bd%d0%b5%d1%81-%d0%bf%d1%80%d0%be%d0%b3%d1%80%d0%b0%d0%bc%d0%bc%d0%b0/2023-10-04/?lang=ru
LOCATION:Jagstauenhalle\, Главная улица Ягстхаймера 157\, Крайльсхайм\, Баден-Вюртемберг\, 74564\, Deutschland
CATEGORIES:Ассоциация,Соотечественницы,Спортивный
END:VEVENT
BEGIN:VEVENT
DTSTART;TZID=Europe/Helsinki:20231005T190000
DTEND;TZID=Europe/Helsinki:20231005T210000
DTSTAMP:20260423T064330
CREATED:20230924T180548Z
LAST-MODIFIED:20250205T062435Z
UID:10003654-1696532400-1696539600@jagstheim.de
SUMMARY:Приглашение Подготовка к Учредительному собранию
DESCRIPTION:Рабочая группа Bürgernetzwerk Jagstheim приглашает Вас к участию в подготовительной работе к учредительному собранию \nTOP: \nПрезентация рабочей группы Что произошло до сих пор (название\, логотипы и устав) Разработка устава (* Положение о взносах Разное \nПожалуйста\, зарегистрируйтесь через контактную форму или по электронной почте info@jagstheim.de С наилучшими пожеланиями Ирен Биндер\, Райнер Пробст\, Ева-Элизабет Шварц и Гели Виг-Эспенлауб. \n* Мы хотим доработать устав\, чтобы его можно было представить в налоговую инспекцию для проведения некоммерческой проверки. (Это должно быть сделано еще до учредительного собрания) \n 
URL:https://jagstheim.de/event/%d0%bf%d1%80%d0%b8%d0%b3%d0%bb%d0%b0%d1%88%d0%b5%d0%bd%d0%b8%d0%b5-%d0%bf%d0%be%d0%b4%d0%b3%d0%be%d1%82%d0%be%d0%b2%d0%ba%d0%b0-%d0%ba-%d1%83%d1%87%d1%80%d0%b5%d0%b4%d0%b8%d1%82%d0%b5%d0%bb%d1%8c/?lang=ru
LOCATION:Гостиница «Хирш\, Гансгассе 1\, Крайльсхайм\, 74564
CATEGORIES:Ассоциация
ATTACH;FMTTYPE=image/png:https://jagstheim.de/wp-content/uploads/2023/09/GenauDich_01.png
END:VEVENT
BEGIN:VEVENT
DTSTART;TZID=Europe/Helsinki:20231010T143000
DTEND;TZID=Europe/Helsinki:20231010T160000
DTSTAMP:20260423T064330
CREATED:20230706T092926Z
LAST-MODIFIED:20230706T092926Z
UID:10000281-1696948200-1696953600@jagstheim.de
SUMMARY:ев. приход
DESCRIPTION:День пожилых людей \n 
URL:https://jagstheim.de/event/%d0%b5%d0%b2-%d0%bf%d1%80%d0%b8%d1%85%d0%be%d0%b4-4/?lang=ru
LOCATION:ев. приходской зал\, Дорога к водохранилищу 5\, Крайльсхайм\, 74564
CATEGORIES:Протестант,Церковь
ATTACH;FMTTYPE=image/jpeg:https://jagstheim.de/wp-content/uploads/2023/07/coffee-shop-3699340-scaled.jpg
END:VEVENT
BEGIN:VEVENT
DTSTART;TZID=Europe/Helsinki:20231011T181500
DTEND;TZID=Europe/Helsinki:20231011T193000
DTSTAMP:20260423T064330
CREATED:20230825T194007Z
LAST-MODIFIED:20230825T194208Z
UID:10002878-1697048100-1697052600@jagstheim.de
SUMMARY:KICK 4 Fit - это фитнес-программа
DESCRIPTION:KICK 4 Fit — это фитнес-программа с динамическими элементами боевого искусства тхэквондо.\nСовершенно ненасильственные\, мы тренируем скорость\, выносливость\, силу и координацию с молодыми и пожилыми.\nМы улучшаем свою реакцию и работоспособность\, стимулируем нервную систему\, мышцы\, сухожилия и суставы в чрезвычайно динамичном режиме.\nОн продолжается после летних каникул — прекрасная возможность присоединиться!\nПРИСОЕДИНЯЙТЕСЬ К НАМ! С 13 СЕНТЯБРЯ 2023 Г.\, 18.15 — 19.30\nТренеры:\nПаскаль Меле\, 5-й дан ТКД и Изабелл Шефер\, 3-й дан ТКД\nНачало:\nСреда 13 сентября 2023 года\, 18.15 — 19.30 часов каждая\nПроцедура:\nНепрерывный курс\, поступление возможно в любое время\nСтоимость курса:\n8\,00 € за единицу обучения + членство в Landfrauen Jagstheim\nМесто:\nJagstauenhalle\, Jagstheimer Hauptstraße 157\, 74564 Crailsheim\nВзять с собой:\nУдобная спортивная одежда\, напитки\nОбязательная регистрация:\nС Катрин Ленц (0176.426 01912) \n 
URL:https://jagstheim.de/event/kick-4-fit-%d1%8d%d1%82%d0%be-%d1%84%d0%b8%d1%82%d0%bd%d0%b5%d1%81-%d0%bf%d1%80%d0%be%d0%b3%d1%80%d0%b0%d0%bc%d0%bc%d0%b0/2023-10-11/?lang=ru
LOCATION:Jagstauenhalle\, Главная улица Ягстхаймера 157\, Крайльсхайм\, Баден-Вюртемберг\, 74564\, Deutschland
CATEGORIES:Ассоциация,Соотечественницы,Спортивный
END:VEVENT
BEGIN:VEVENT
DTSTART;VALUE=DATE:20231017
DTEND;VALUE=DATE:20231018
DTSTAMP:20260423T064330
CREATED:20230526T080953Z
LAST-MODIFIED:20230711T143806Z
UID:10000089-1697500800-1697587199@jagstheim.de
SUMMARY:Органические отходы и остаточные отходы
DESCRIPTION:Крайльсхайм — округ 4 \nРайон Швабиш-Холл | Календарь отходов | (lrasha.de) \n 
URL:https://jagstheim.de/event/%d0%be%d1%80%d0%b3%d0%b0%d0%bd%d0%b8%d1%87%d0%b5%d1%81%d0%ba%d0%b8%d0%b5-%d0%be%d1%82%d1%85%d0%be%d0%b4%d1%8b-%d0%b8-%d0%be%d1%81%d1%82%d0%b0%d1%82%d0%be%d1%87%d0%bd%d1%8b%d0%b5-%d0%be%d1%82%d1%85-7/?lang=ru
LOCATION:Baden-Württemberg
CATEGORIES:Утилизация отходов
ATTACH;FMTTYPE=image/webp:https://jagstheim.de/wp-content/uploads/2023/07/BioRest.webp
END:VEVENT
BEGIN:VEVENT
DTSTART;TZID=Europe/Helsinki:20231017T193000
DTEND;TZID=Europe/Helsinki:20231017T213000
DTSTAMP:20260423T064330
CREATED:20230725T151454Z
LAST-MODIFIED:20230817T103143Z
UID:10000787-1697571000-1697578200@jagstheim.de
SUMMARY:Сеть граждан Ягстхайма | Основание ассоциации
DESCRIPTION:Цель создания ассоциации \nЦелью создания ассоциации являются: \n\nПоддержка людей в повседневной жизни\, которые зависят от помощи других людей в результате своего физического\, умственного и эмоционального состояния.  (Раздел 53 п. 1 No. 1 Налоговый кодекс).\nПродвижение проектов и мероприятий в области благополучия детей и молодежи (§ 52 абз. 2 № 4 Налогового кодекса Германии).\nСодействие и интеграция иностранных сограждан (§ 52 п. 2  13 НК РФ).\n\nЭти цели ассоциации реализуются\, в частности\, посредством следующих услуг и мероприятий: \n\nСеть обмена (поиск и предложение)\n\nТовары без членства\nУслуги только через членство (страхование)\n\n\nКратковременная помощь по хозяйству\, в случае болезни или других чрезвычайных ситуаций\, например\, после выписки из больницы\nКраткосрочный уход за детьми\nКраткосрочный уход или надзор\nКраткосрочный уход за домашними животными\nУслуги по посещению\nЛьгота для родственников/одиноких родителей\nНапример\, при посещении органов власти\, врачей\, магазинов или церквей\nЛегкие и мелкие работы по дому и/или в саду\nСовершение покупок\nПисьменные принадлежности\nБеседы\, чтение вслух и партнерские игры\nПоддержание контактов с учреждениями по работе с пожилыми людьми\nТехнические презентации\, представляющие особый интерес для членов клуба\nEDP: поддержка в организации | небольших учебных курсов\n\n 
URL:https://jagstheim.de/event/%d0%b3%d1%80%d0%b0%d0%b6%d0%b4%d0%b0%d0%bd%d0%b5-%d0%bf%d0%be%d0%bc%d0%be%d0%b3%d0%b0%d1%8e%d1%82-%d0%b3%d1%80%d0%b0%d0%b6%d0%b4%d0%b0%d0%bd%d0%b0%d0%bc-%d0%be%d1%81%d0%bd%d0%be%d0%b2%d0%b0%d0%bd/?lang=ru
LOCATION:Зал заседаний местного совета\, Мельничная дорога 43\, Крайльсхайм\, Баден-Вюртемберг\, 74564\, Deutschland
CATEGORIES:Ассоциация,Местный совет
ATTACH;FMTTYPE=image/webp:https://jagstheim.de/wp-content/uploads/2023/07/Logo_640.webp
END:VEVENT
BEGIN:VEVENT
DTSTART;TZID=Europe/Helsinki:20231018T181500
DTEND;TZID=Europe/Helsinki:20231018T193000
DTSTAMP:20260423T064330
CREATED:20230825T194007Z
LAST-MODIFIED:20230825T194208Z
UID:10002879-1697652900-1697657400@jagstheim.de
SUMMARY:KICK 4 Fit - это фитнес-программа
DESCRIPTION:KICK 4 Fit — это фитнес-программа с динамическими элементами боевого искусства тхэквондо.\nСовершенно ненасильственные\, мы тренируем скорость\, выносливость\, силу и координацию с молодыми и пожилыми.\nМы улучшаем свою реакцию и работоспособность\, стимулируем нервную систему\, мышцы\, сухожилия и суставы в чрезвычайно динамичном режиме.\nОн продолжается после летних каникул — прекрасная возможность присоединиться!\nПРИСОЕДИНЯЙТЕСЬ К НАМ! С 13 СЕНТЯБРЯ 2023 Г.\, 18.15 — 19.30\nТренеры:\nПаскаль Меле\, 5-й дан ТКД и Изабелл Шефер\, 3-й дан ТКД\nНачало:\nСреда 13 сентября 2023 года\, 18.15 — 19.30 часов каждая\nПроцедура:\nНепрерывный курс\, поступление возможно в любое время\nСтоимость курса:\n8\,00 € за единицу обучения + членство в Landfrauen Jagstheim\nМесто:\nJagstauenhalle\, Jagstheimer Hauptstraße 157\, 74564 Crailsheim\nВзять с собой:\nУдобная спортивная одежда\, напитки\nОбязательная регистрация:\nС Катрин Ленц (0176.426 01912) \n 
URL:https://jagstheim.de/event/kick-4-fit-%d1%8d%d1%82%d0%be-%d1%84%d0%b8%d1%82%d0%bd%d0%b5%d1%81-%d0%bf%d1%80%d0%be%d0%b3%d1%80%d0%b0%d0%bc%d0%bc%d0%b0/2023-10-18/?lang=ru
LOCATION:Jagstauenhalle\, Главная улица Ягстхаймера 157\, Крайльсхайм\, Баден-Вюртемберг\, 74564\, Deutschland
CATEGORIES:Ассоциация,Соотечественницы,Спортивный
END:VEVENT
BEGIN:VEVENT
DTSTART;VALUE=DATE:20231021
DTEND;VALUE=DATE:20231022
DTSTAMP:20260423T064330
CREATED:20230706T102023Z
LAST-MODIFIED:20230706T102023Z
UID:10000291-1697846400-1697932799@jagstheim.de
SUMMARY:VfB | Total Youth
DESCRIPTION:Однодневная поездка \n 
URL:https://jagstheim.de/event/vfb-total-youth/?lang=ru
LOCATION:Baden-Württemberg
CATEGORIES:Ассоциация
ATTACH;FMTTYPE=image/jpeg:https://jagstheim.de/wp-content/uploads/2023/07/scooter-7396608_640.jpg
END:VEVENT
BEGIN:VEVENT
DTSTART;VALUE=DATE:20231021
DTEND;VALUE=DATE:20231023
DTSTAMP:20260423T064330
CREATED:20230706T103016Z
LAST-MODIFIED:20230706T103016Z
UID:10000296-1697846400-1698019199@jagstheim.de
SUMMARY:Liederkanz
DESCRIPTION:Хоровой выходной \n 
URL:https://jagstheim.de/event/liederkanz/?lang=ru
LOCATION:Baden-Württemberg
CATEGORIES:Liederkranz,Ассоциация
ATTACH;FMTTYPE=image/jpeg:https://jagstheim.de/wp-content/uploads/2023/07/teacher-gradebook-7278379_640.jpg
END:VEVENT
BEGIN:VEVENT
DTSTART;TZID=Europe/Helsinki:20231021T133000
DTEND;TZID=Europe/Helsinki:20231021T170000
DTSTAMP:20260423T064330
CREATED:20230706T093402Z
LAST-MODIFIED:20230724T140630Z
UID:10000286-1697895000-1697907600@jagstheim.de
SUMMARY:Съемка клубов
DESCRIPTION:Дополнительная информация \n 
URL:https://jagstheim.de/event/%d1%81%d1%82%d1%80%d0%b5%d0%bb%d0%ba%d0%be%d0%b2%d1%8b%d0%b9-%d0%ba%d0%bb%d1%83%d0%b1/?lang=ru
LOCATION:Schützenhaus\, Хонхардт Бюль\, Ягстхайм\, 74564\, Deutschland
CATEGORIES:Ассоциация,Стрелки
ATTACH;FMTTYPE=image/jpeg:https://jagstheim.de/wp-content/uploads/2023/07/pistol-1350484_640.jpg
END:VEVENT
BEGIN:VEVENT
DTSTART;TZID=Europe/Helsinki:20231025T181500
DTEND;TZID=Europe/Helsinki:20231025T193000
DTSTAMP:20260423T064330
CREATED:20230825T194007Z
LAST-MODIFIED:20230825T194208Z
UID:10002880-1698257700-1698262200@jagstheim.de
SUMMARY:KICK 4 Fit - это фитнес-программа
DESCRIPTION:KICK 4 Fit — это фитнес-программа с динамическими элементами боевого искусства тхэквондо.\nСовершенно ненасильственные\, мы тренируем скорость\, выносливость\, силу и координацию с молодыми и пожилыми.\nМы улучшаем свою реакцию и работоспособность\, стимулируем нервную систему\, мышцы\, сухожилия и суставы в чрезвычайно динамичном режиме.\nОн продолжается после летних каникул — прекрасная возможность присоединиться!\nПРИСОЕДИНЯЙТЕСЬ К НАМ! С 13 СЕНТЯБРЯ 2023 Г.\, 18.15 — 19.30\nТренеры:\nПаскаль Меле\, 5-й дан ТКД и Изабелл Шефер\, 3-й дан ТКД\nНачало:\nСреда 13 сентября 2023 года\, 18.15 — 19.30 часов каждая\nПроцедура:\nНепрерывный курс\, поступление возможно в любое время\nСтоимость курса:\n8\,00 € за единицу обучения + членство в Landfrauen Jagstheim\nМесто:\nJagstauenhalle\, Jagstheimer Hauptstraße 157\, 74564 Crailsheim\nВзять с собой:\nУдобная спортивная одежда\, напитки\nОбязательная регистрация:\nС Катрин Ленц (0176.426 01912) \n 
URL:https://jagstheim.de/event/kick-4-fit-%d1%8d%d1%82%d0%be-%d1%84%d0%b8%d1%82%d0%bd%d0%b5%d1%81-%d0%bf%d1%80%d0%be%d0%b3%d1%80%d0%b0%d0%bc%d0%bc%d0%b0/2023-10-25/?lang=ru
LOCATION:Jagstauenhalle\, Главная улица Ягстхаймера 157\, Крайльсхайм\, Баден-Вюртемберг\, 74564\, Deutschland
CATEGORIES:Ассоциация,Соотечественницы,Спортивный
END:VEVENT
END:VCALENDAR