BEGIN:VCALENDAR
VERSION:2.0
PRODID:-//Jagstheim - ECPv6.15.20//NONSGML v1.0//EN
CALSCALE:GREGORIAN
METHOD:PUBLISH
X-ORIGINAL-URL:https://jagstheim.de/?lang=ru
X-WR-CALDESC:Мероприятия для Jagstheim
REFRESH-INTERVAL;VALUE=DURATION:PT1H
X-Robots-Tag:noindex
X-PUBLISHED-TTL:PT1H
BEGIN:VTIMEZONE
TZID:Europe/Helsinki
BEGIN:DAYLIGHT
TZOFFSETFROM:+0200
TZOFFSETTO:+0300
TZNAME:EEST
DTSTART:20260329T010000
END:DAYLIGHT
BEGIN:STANDARD
TZOFFSETFROM:+0300
TZOFFSETTO:+0200
TZNAME:EET
DTSTART:20261025T010000
END:STANDARD
BEGIN:DAYLIGHT
TZOFFSETFROM:+0200
TZOFFSETTO:+0300
TZNAME:EEST
DTSTART:20270328T010000
END:DAYLIGHT
BEGIN:STANDARD
TZOFFSETFROM:+0300
TZOFFSETTO:+0200
TZNAME:EET
DTSTART:20271031T010000
END:STANDARD
BEGIN:DAYLIGHT
TZOFFSETFROM:+0200
TZOFFSETTO:+0300
TZNAME:EEST
DTSTART:20280326T010000
END:DAYLIGHT
BEGIN:STANDARD
TZOFFSETFROM:+0300
TZOFFSETTO:+0200
TZNAME:EET
DTSTART:20281029T010000
END:STANDARD
END:VTIMEZONE
BEGIN:VEVENT
DTSTART;TZID=Europe/Helsinki:20271006T181500
DTEND;TZID=Europe/Helsinki:20271006T193000
DTSTAMP:20260424T131237
CREATED:20230825T194007Z
LAST-MODIFIED:20230825T194208Z
UID:10003086-1822846500-1822851000@jagstheim.de
SUMMARY:KICK 4 Fit - это фитнес-программа
DESCRIPTION:KICK 4 Fit — это фитнес-программа с динамическими элементами боевого искусства тхэквондо.\nСовершенно ненасильственные\, мы тренируем скорость\, выносливость\, силу и координацию с молодыми и пожилыми.\nМы улучшаем свою реакцию и работоспособность\, стимулируем нервную систему\, мышцы\, сухожилия и суставы в чрезвычайно динамичном режиме.\nОн продолжается после летних каникул — прекрасная возможность присоединиться!\nПРИСОЕДИНЯЙТЕСЬ К НАМ! С 13 СЕНТЯБРЯ 2023 Г.\, 18.15 — 19.30\nТренеры:\nПаскаль Меле\, 5-й дан ТКД и Изабелл Шефер\, 3-й дан ТКД\nНачало:\nСреда 13 сентября 2023 года\, 18.15 — 19.30 часов каждая\nПроцедура:\nНепрерывный курс\, поступление возможно в любое время\nСтоимость курса:\n8\,00 € за единицу обучения + членство в Landfrauen Jagstheim\nМесто:\nJagstauenhalle\, Jagstheimer Hauptstraße 157\, 74564 Crailsheim\nВзять с собой:\nУдобная спортивная одежда\, напитки\nОбязательная регистрация:\nС Катрин Ленц (0176.426 01912) \n 
URL:https://jagstheim.de/event/kick-4-fit-%d1%8d%d1%82%d0%be-%d1%84%d0%b8%d1%82%d0%bd%d0%b5%d1%81-%d0%bf%d1%80%d0%be%d0%b3%d1%80%d0%b0%d0%bc%d0%bc%d0%b0/2027-10-06/?lang=ru
LOCATION:Jagstauenhalle\, Главная улица Ягстхаймера 157\, Крайльсхайм\, Баден-Вюртемберг\, 74564\, Deutschland
CATEGORIES:Ассоциация,Соотечественницы,Спортивный
END:VEVENT
BEGIN:VEVENT
DTSTART;VALUE=DATE:20271012
DTEND;VALUE=DATE:20271013
DTSTAMP:20260424T131237
CREATED:20250102T070320Z
LAST-MODIFIED:20250102T070320Z
UID:10006384-1823299200-1823385599@jagstheim.de
SUMMARY:Органические отходы и остаточные отходы
DESCRIPTION:Крайльсхайм — район 4Датысбора: Район Швабиш-Холл \n  \n 
URL:https://jagstheim.de/event/%d0%be%d1%80%d0%b3%d0%b0%d0%bd%d0%b8%d1%87%d0%b5%d1%81%d0%ba%d0%b8%d0%b5-%d0%be%d1%82%d1%85%d0%be%d0%b4%d1%8b-%d0%b8-%d0%be%d1%81%d1%82%d0%b0%d1%82%d0%be%d1%87%d0%bd%d1%8b%d0%b5-%d0%be%d1%82%d1%85-14/2027-10-12/?lang=ru
LOCATION:Baden-Württemberg
CATEGORIES:Утилизация отходов
ATTACH;FMTTYPE=image/webp:https://jagstheim.de/wp-content/uploads/2023/07/BioRest.webp
END:VEVENT
BEGIN:VEVENT
DTSTART;TZID=Europe/Helsinki:20271013T181500
DTEND;TZID=Europe/Helsinki:20271013T193000
DTSTAMP:20260424T131237
CREATED:20230825T194007Z
LAST-MODIFIED:20230825T194208Z
UID:10003087-1823451300-1823455800@jagstheim.de
SUMMARY:KICK 4 Fit - это фитнес-программа
DESCRIPTION:KICK 4 Fit — это фитнес-программа с динамическими элементами боевого искусства тхэквондо.\nСовершенно ненасильственные\, мы тренируем скорость\, выносливость\, силу и координацию с молодыми и пожилыми.\nМы улучшаем свою реакцию и работоспособность\, стимулируем нервную систему\, мышцы\, сухожилия и суставы в чрезвычайно динамичном режиме.\nОн продолжается после летних каникул — прекрасная возможность присоединиться!\nПРИСОЕДИНЯЙТЕСЬ К НАМ! С 13 СЕНТЯБРЯ 2023 Г.\, 18.15 — 19.30\nТренеры:\nПаскаль Меле\, 5-й дан ТКД и Изабелл Шефер\, 3-й дан ТКД\nНачало:\nСреда 13 сентября 2023 года\, 18.15 — 19.30 часов каждая\nПроцедура:\nНепрерывный курс\, поступление возможно в любое время\nСтоимость курса:\n8\,00 € за единицу обучения + членство в Landfrauen Jagstheim\nМесто:\nJagstauenhalle\, Jagstheimer Hauptstraße 157\, 74564 Crailsheim\nВзять с собой:\nУдобная спортивная одежда\, напитки\nОбязательная регистрация:\nС Катрин Ленц (0176.426 01912) \n 
URL:https://jagstheim.de/event/kick-4-fit-%d1%8d%d1%82%d0%be-%d1%84%d0%b8%d1%82%d0%bd%d0%b5%d1%81-%d0%bf%d1%80%d0%be%d0%b3%d1%80%d0%b0%d0%bc%d0%bc%d0%b0/2027-10-13/?lang=ru
LOCATION:Jagstauenhalle\, Главная улица Ягстхаймера 157\, Крайльсхайм\, Баден-Вюртемберг\, 74564\, Deutschland
CATEGORIES:Ассоциация,Соотечественницы,Спортивный
END:VEVENT
BEGIN:VEVENT
DTSTART;TZID=Europe/Helsinki:20271020T181500
DTEND;TZID=Europe/Helsinki:20271020T193000
DTSTAMP:20260424T131237
CREATED:20230825T194007Z
LAST-MODIFIED:20230825T194208Z
UID:10003088-1824056100-1824060600@jagstheim.de
SUMMARY:KICK 4 Fit - это фитнес-программа
DESCRIPTION:KICK 4 Fit — это фитнес-программа с динамическими элементами боевого искусства тхэквондо.\nСовершенно ненасильственные\, мы тренируем скорость\, выносливость\, силу и координацию с молодыми и пожилыми.\nМы улучшаем свою реакцию и работоспособность\, стимулируем нервную систему\, мышцы\, сухожилия и суставы в чрезвычайно динамичном режиме.\nОн продолжается после летних каникул — прекрасная возможность присоединиться!\nПРИСОЕДИНЯЙТЕСЬ К НАМ! С 13 СЕНТЯБРЯ 2023 Г.\, 18.15 — 19.30\nТренеры:\nПаскаль Меле\, 5-й дан ТКД и Изабелл Шефер\, 3-й дан ТКД\nНачало:\nСреда 13 сентября 2023 года\, 18.15 — 19.30 часов каждая\nПроцедура:\nНепрерывный курс\, поступление возможно в любое время\nСтоимость курса:\n8\,00 € за единицу обучения + членство в Landfrauen Jagstheim\nМесто:\nJagstauenhalle\, Jagstheimer Hauptstraße 157\, 74564 Crailsheim\nВзять с собой:\nУдобная спортивная одежда\, напитки\nОбязательная регистрация:\nС Катрин Ленц (0176.426 01912) \n 
URL:https://jagstheim.de/event/kick-4-fit-%d1%8d%d1%82%d0%be-%d1%84%d0%b8%d1%82%d0%bd%d0%b5%d1%81-%d0%bf%d1%80%d0%be%d0%b3%d1%80%d0%b0%d0%bc%d0%bc%d0%b0/2027-10-20/?lang=ru
LOCATION:Jagstauenhalle\, Главная улица Ягстхаймера 157\, Крайльсхайм\, Баден-Вюртемберг\, 74564\, Deutschland
CATEGORIES:Ассоциация,Соотечественницы,Спортивный
END:VEVENT
BEGIN:VEVENT
DTSTART;VALUE=DATE:20271022
DTEND;VALUE=DATE:20271023
DTSTAMP:20260424T131237
CREATED:20250102T070715Z
LAST-MODIFIED:20250102T070715Z
UID:10007130-1824163200-1824249599@jagstheim.de
SUMMARY:Желтый пакет и корзина для бумаг
DESCRIPTION:Крайльсхайм — район 4Датысбора: Район Швабиш-Холл \n  \n 
URL:https://jagstheim.de/event/%d0%b6%d0%b5%d0%bb%d1%82%d1%8b%d0%b9-%d0%bf%d0%b0%d0%ba%d0%b5%d1%82-%d0%b8-%d0%ba%d0%be%d1%80%d0%b7%d0%b8%d0%bd%d0%b0-%d0%b4%d0%bb%d1%8f-%d0%b1%d1%83%d0%bc%d0%b0%d0%b3-9/2027-10-22/?lang=ru
LOCATION:Baden-Württemberg
CATEGORIES:Утилизация отходов
ATTACH;FMTTYPE=image/webp:https://jagstheim.de/wp-content/uploads/2023/07/GelbPapier.webp
END:VEVENT
BEGIN:VEVENT
DTSTART;VALUE=DATE:20271026
DTEND;VALUE=DATE:20271027
DTSTAMP:20260424T131237
CREATED:20250102T070320Z
LAST-MODIFIED:20250102T070320Z
UID:10006385-1824508800-1824595199@jagstheim.de
SUMMARY:Органические отходы и остаточные отходы
DESCRIPTION:Крайльсхайм — район 4Датысбора: Район Швабиш-Холл \n  \n 
URL:https://jagstheim.de/event/%d0%be%d1%80%d0%b3%d0%b0%d0%bd%d0%b8%d1%87%d0%b5%d1%81%d0%ba%d0%b8%d0%b5-%d0%be%d1%82%d1%85%d0%be%d0%b4%d1%8b-%d0%b8-%d0%be%d1%81%d1%82%d0%b0%d1%82%d0%be%d1%87%d0%bd%d1%8b%d0%b5-%d0%be%d1%82%d1%85-14/2027-10-26/?lang=ru
LOCATION:Baden-Württemberg
CATEGORIES:Утилизация отходов
ATTACH;FMTTYPE=image/webp:https://jagstheim.de/wp-content/uploads/2023/07/BioRest.webp
END:VEVENT
BEGIN:VEVENT
DTSTART;TZID=Europe/Helsinki:20271027T181500
DTEND;TZID=Europe/Helsinki:20271027T193000
DTSTAMP:20260424T131237
CREATED:20230825T194007Z
LAST-MODIFIED:20230825T194208Z
UID:10003089-1824660900-1824665400@jagstheim.de
SUMMARY:KICK 4 Fit - это фитнес-программа
DESCRIPTION:KICK 4 Fit — это фитнес-программа с динамическими элементами боевого искусства тхэквондо.\nСовершенно ненасильственные\, мы тренируем скорость\, выносливость\, силу и координацию с молодыми и пожилыми.\nМы улучшаем свою реакцию и работоспособность\, стимулируем нервную систему\, мышцы\, сухожилия и суставы в чрезвычайно динамичном режиме.\nОн продолжается после летних каникул — прекрасная возможность присоединиться!\nПРИСОЕДИНЯЙТЕСЬ К НАМ! С 13 СЕНТЯБРЯ 2023 Г.\, 18.15 — 19.30\nТренеры:\nПаскаль Меле\, 5-й дан ТКД и Изабелл Шефер\, 3-й дан ТКД\nНачало:\nСреда 13 сентября 2023 года\, 18.15 — 19.30 часов каждая\nПроцедура:\nНепрерывный курс\, поступление возможно в любое время\nСтоимость курса:\n8\,00 € за единицу обучения + членство в Landfrauen Jagstheim\nМесто:\nJagstauenhalle\, Jagstheimer Hauptstraße 157\, 74564 Crailsheim\nВзять с собой:\nУдобная спортивная одежда\, напитки\nОбязательная регистрация:\nС Катрин Ленц (0176.426 01912) \n 
URL:https://jagstheim.de/event/kick-4-fit-%d1%8d%d1%82%d0%be-%d1%84%d0%b8%d1%82%d0%bd%d0%b5%d1%81-%d0%bf%d1%80%d0%be%d0%b3%d1%80%d0%b0%d0%bc%d0%bc%d0%b0/2027-10-27/?lang=ru
LOCATION:Jagstauenhalle\, Главная улица Ягстхаймера 157\, Крайльсхайм\, Баден-Вюртемберг\, 74564\, Deutschland
CATEGORIES:Ассоциация,Соотечественницы,Спортивный
END:VEVENT
END:VCALENDAR