BEGIN:VCALENDAR
VERSION:2.0
PRODID:-//Jagstheim - ECPv6.15.20//NONSGML v1.0//EN
CALSCALE:GREGORIAN
METHOD:PUBLISH
X-ORIGINAL-URL:https://jagstheim.de/?lang=ru
X-WR-CALDESC:Мероприятия для Jagstheim
REFRESH-INTERVAL;VALUE=DURATION:PT1H
X-Robots-Tag:noindex
X-PUBLISHED-TTL:PT1H
BEGIN:VTIMEZONE
TZID:Europe/Helsinki
BEGIN:DAYLIGHT
TZOFFSETFROM:+0200
TZOFFSETTO:+0300
TZNAME:EEST
DTSTART:20220327T010000
END:DAYLIGHT
BEGIN:STANDARD
TZOFFSETFROM:+0300
TZOFFSETTO:+0200
TZNAME:EET
DTSTART:20221030T010000
END:STANDARD
BEGIN:DAYLIGHT
TZOFFSETFROM:+0200
TZOFFSETTO:+0300
TZNAME:EEST
DTSTART:20230326T010000
END:DAYLIGHT
BEGIN:STANDARD
TZOFFSETFROM:+0300
TZOFFSETTO:+0200
TZNAME:EET
DTSTART:20231029T010000
END:STANDARD
BEGIN:DAYLIGHT
TZOFFSETFROM:+0200
TZOFFSETTO:+0300
TZNAME:EEST
DTSTART:20240331T010000
END:DAYLIGHT
BEGIN:STANDARD
TZOFFSETFROM:+0300
TZOFFSETTO:+0200
TZNAME:EET
DTSTART:20241027T010000
END:STANDARD
END:VTIMEZONE
BEGIN:VEVENT
DTSTART;TZID=Europe/Helsinki:20231206T140000
DTEND;TZID=Europe/Helsinki:20231206T153000
DTSTAMP:20260423T002316
CREATED:20230706T110641Z
LAST-MODIFIED:20230706T110641Z
UID:10000326-1701871200-1701876600@jagstheim.de
SUMMARY:католический приход
DESCRIPTION:Клуб пожилых людей \n 
URL:https://jagstheim.de/event/%d0%ba%d0%b0%d1%82%d0%be%d0%bb%d0%b8%d1%87%d0%b5%d1%81%d0%ba%d0%b8%d0%b9-%d0%bf%d1%80%d0%b8%d1%85%d0%be%d0%b4-4/?lang=ru
LOCATION:Зал католического прихода\, Эйхвальд Роуд 16\, Крайльсхайм\, Баден-Вюртемберг\, 74564\, Deutschland
CATEGORIES:католическая,Церковь
ATTACH;FMTTYPE=image/jpeg:https://jagstheim.de/wp-content/uploads/2023/07/sports-2863541_640.jpg
END:VEVENT
END:VCALENDAR