BEGIN:VCALENDAR
VERSION:2.0
PRODID:-//Jagstheim - ECPv6.15.20//NONSGML v1.0//EN
CALSCALE:GREGORIAN
METHOD:PUBLISH
X-WR-CALNAME:Jagstheim
X-ORIGINAL-URL:https://jagstheim.de/?lang=ru
X-WR-CALDESC:Мероприятия для Jagstheim
REFRESH-INTERVAL;VALUE=DURATION:PT1H
X-Robots-Tag:noindex
X-PUBLISHED-TTL:PT1H
BEGIN:VTIMEZONE
TZID:Europe/Helsinki
BEGIN:DAYLIGHT
TZOFFSETFROM:+0200
TZOFFSETTO:+0300
TZNAME:EEST
DTSTART:20270328T010000
END:DAYLIGHT
BEGIN:STANDARD
TZOFFSETFROM:+0300
TZOFFSETTO:+0200
TZNAME:EET
DTSTART:20271031T010000
END:STANDARD
BEGIN:DAYLIGHT
TZOFFSETFROM:+0200
TZOFFSETTO:+0300
TZNAME:EEST
DTSTART:20280326T010000
END:DAYLIGHT
BEGIN:STANDARD
TZOFFSETFROM:+0300
TZOFFSETTO:+0200
TZNAME:EET
DTSTART:20281029T010000
END:STANDARD
BEGIN:DAYLIGHT
TZOFFSETFROM:+0200
TZOFFSETTO:+0300
TZNAME:EEST
DTSTART:20290325T010000
END:DAYLIGHT
BEGIN:STANDARD
TZOFFSETFROM:+0300
TZOFFSETTO:+0200
TZNAME:EET
DTSTART:20291028T010000
END:STANDARD
END:VTIMEZONE
BEGIN:VEVENT
DTSTART;VALUE=DATE:20280104
DTEND;VALUE=DATE:20280105
DTSTAMP:20260422T103830
CREATED:20250102T070320Z
LAST-MODIFIED:20250102T070320Z
UID:10006390-1830556800-1830643199@jagstheim.de
SUMMARY:Органические отходы и остаточные отходы
DESCRIPTION:Крайльсхайм — район 4Датысбора: Район Швабиш-Холл \n  \n 
URL:https://jagstheim.de/event/%d0%be%d1%80%d0%b3%d0%b0%d0%bd%d0%b8%d1%87%d0%b5%d1%81%d0%ba%d0%b8%d0%b5-%d0%be%d1%82%d1%85%d0%be%d0%b4%d1%8b-%d0%b8-%d0%be%d1%81%d1%82%d0%b0%d1%82%d0%be%d1%87%d0%bd%d1%8b%d0%b5-%d0%be%d1%82%d1%85-14/2028-01-04/?lang=ru
CATEGORIES:Утилизация отходов
ATTACH;FMTTYPE=image/webp:https://jagstheim.de/wp-content/uploads/2023/07/BioRest.webp
END:VEVENT
BEGIN:VEVENT
DTSTART;VALUE=DATE:20280114
DTEND;VALUE=DATE:20280115
DTSTAMP:20260422T103830
CREATED:20250102T070715Z
LAST-MODIFIED:20250102T070715Z
UID:10007133-1831420800-1831507199@jagstheim.de
SUMMARY:Желтый пакет и корзина для бумаг
DESCRIPTION:Крайльсхайм — район 4Датысбора: Район Швабиш-Холл \n  \n 
URL:https://jagstheim.de/event/%d0%b6%d0%b5%d0%bb%d1%82%d1%8b%d0%b9-%d0%bf%d0%b0%d0%ba%d0%b5%d1%82-%d0%b8-%d0%ba%d0%be%d1%80%d0%b7%d0%b8%d0%bd%d0%b0-%d0%b4%d0%bb%d1%8f-%d0%b1%d1%83%d0%bc%d0%b0%d0%b3-9/2028-01-14/?lang=ru
CATEGORIES:Утилизация отходов
ATTACH;FMTTYPE=image/webp:https://jagstheim.de/wp-content/uploads/2023/07/GelbPapier.webp
END:VEVENT
BEGIN:VEVENT
DTSTART;VALUE=DATE:20280118
DTEND;VALUE=DATE:20280119
DTSTAMP:20260422T103830
CREATED:20250102T070320Z
LAST-MODIFIED:20250102T070320Z
UID:10006391-1831766400-1831852799@jagstheim.de
SUMMARY:Органические отходы и остаточные отходы
DESCRIPTION:Крайльсхайм — район 4Датысбора: Район Швабиш-Холл \n  \n 
URL:https://jagstheim.de/event/%d0%be%d1%80%d0%b3%d0%b0%d0%bd%d0%b8%d1%87%d0%b5%d1%81%d0%ba%d0%b8%d0%b5-%d0%be%d1%82%d1%85%d0%be%d0%b4%d1%8b-%d0%b8-%d0%be%d1%81%d1%82%d0%b0%d1%82%d0%be%d1%87%d0%bd%d1%8b%d0%b5-%d0%be%d1%82%d1%85-14/2028-01-18/?lang=ru
CATEGORIES:Утилизация отходов
ATTACH;FMTTYPE=image/webp:https://jagstheim.de/wp-content/uploads/2023/07/BioRest.webp
END:VEVENT
END:VCALENDAR