BEGIN:VCALENDAR
VERSION:2.0
PRODID:-//Jagstheim - ECPv6.15.20//NONSGML v1.0//EN
CALSCALE:GREGORIAN
METHOD:PUBLISH
X-WR-CALNAME:Jagstheim
X-ORIGINAL-URL:https://jagstheim.de/?lang=ru
X-WR-CALDESC:Мероприятия для Jagstheim
REFRESH-INTERVAL;VALUE=DURATION:PT1H
X-Robots-Tag:noindex
X-PUBLISHED-TTL:PT1H
BEGIN:VTIMEZONE
TZID:Europe/Helsinki
BEGIN:DAYLIGHT
TZOFFSETFROM:+0200
TZOFFSETTO:+0300
TZNAME:EEST
DTSTART:20230326T010000
END:DAYLIGHT
BEGIN:STANDARD
TZOFFSETFROM:+0300
TZOFFSETTO:+0200
TZNAME:EET
DTSTART:20231029T010000
END:STANDARD
BEGIN:DAYLIGHT
TZOFFSETFROM:+0200
TZOFFSETTO:+0300
TZNAME:EEST
DTSTART:20240331T010000
END:DAYLIGHT
BEGIN:STANDARD
TZOFFSETFROM:+0300
TZOFFSETTO:+0200
TZNAME:EET
DTSTART:20241027T010000
END:STANDARD
BEGIN:DAYLIGHT
TZOFFSETFROM:+0200
TZOFFSETTO:+0300
TZNAME:EEST
DTSTART:20250330T010000
END:DAYLIGHT
BEGIN:STANDARD
TZOFFSETFROM:+0300
TZOFFSETTO:+0200
TZNAME:EET
DTSTART:20251026T010000
END:STANDARD
BEGIN:DAYLIGHT
TZOFFSETFROM:+0200
TZOFFSETTO:+0300
TZNAME:EEST
DTSTART:20260329T010000
END:DAYLIGHT
BEGIN:STANDARD
TZOFFSETFROM:+0300
TZOFFSETTO:+0200
TZNAME:EET
DTSTART:20261025T010000
END:STANDARD
END:VTIMEZONE
BEGIN:VEVENT
DTSTART;TZID=Europe/Helsinki:20250313T143000
DTEND;TZID=Europe/Helsinki:20250313T160000
DTSTAMP:20260426T071012
CREATED:20250125T195117Z
LAST-MODIFIED:20250125T195117Z
UID:10007527-1741876200-1741881600@jagstheim.de
SUMMARY:VR Bank
DESCRIPTION: 
URL:https://jagstheim.de/event/vr-bank/?lang=ru
LOCATION:Jagstauenhalle\, Главная улица Ягстхаймера 157\, Крайльсхайм\, Баден-Вюртемберг\, 74564\, Deutschland
CATEGORIES:Событие
END:VEVENT
BEGIN:VEVENT
DTSTART;VALUE=DATE:20250223
DTEND;VALUE=DATE:20250224
DTSTAMP:20260426T071012
CREATED:20250102T093702Z
LAST-MODIFIED:20250102T093702Z
UID:10007440-1740268800-1740355199@jagstheim.de
SUMMARY:Федеральные выборы 2025
DESCRIPTION: 
URL:https://jagstheim.de/event/%d1%84%d0%b5%d0%b4%d0%b5%d1%80%d0%b0%d0%bb%d1%8c%d0%bd%d1%8b%d0%b5-%d0%b2%d1%8b%d0%b1%d0%be%d1%80%d1%8b-2025/?lang=ru
LOCATION:Jagstauenhalle\, Главная улица Ягстхаймера 157\, Крайльсхайм\, Баден-Вюртемберг\, 74564\, Deutschland
CATEGORIES:Событие
END:VEVENT
BEGIN:VEVENT
DTSTART;TZID=Europe/Helsinki:20250111T193000
DTEND;TZID=Europe/Helsinki:20250112T020000
DTSTAMP:20260426T071012
CREATED:20250102T072539Z
LAST-MODIFIED:20250102T074700Z
UID:10007298-1736623800-1736647200@jagstheim.de
SUMMARY:Крытая вечеринка XXL
DESCRIPTION:Ягстхайм / Гройтвег 30 Вход с 19:30 С 16 лет при наличии заявления о согласии \n 
URL:https://jagstheim.de/event/%d0%ba%d1%80%d1%8b%d1%82%d0%b0%d1%8f-%d0%b2%d0%b5%d1%87%d0%b5%d1%80%d0%b8%d0%bd%d0%ba%d0%b0-xxl-2/?lang=ru
LOCATION:Гройтвег 30\, Гройтвег 30\, Крайльсхайм\, 74564\, Deutschland
CATEGORIES:Событие
ATTACH;FMTTYPE=image/jpeg:https://jagstheim.de/wp-content/uploads/2025/01/20250111_Hallenparty_700.jpeg
END:VEVENT
BEGIN:VEVENT
DTSTART;TZID=Europe/Helsinki:20250105T193000
DTEND;TZID=Europe/Helsinki:20250105T220000
DTSTAMP:20260426T071012
CREATED:20250102T074606Z
LAST-MODIFIED:20250102T074606Z
UID:10007309-1736105400-1736114400@jagstheim.de
SUMMARY:Новогодний прием
DESCRIPTION:Помимо нескольких пунктов программы\, мы хотим\, чтобы Вы чувствовали себя комфортно в непринужденной и неформальной атмосфере. Будет предоставлено достаточное количество напитков и еды. \n 
URL:https://jagstheim.de/event/%d0%bd%d0%be%d0%b2%d0%be%d0%b3%d0%be%d0%b4%d0%bd%d0%b8%d0%b9-%d0%bf%d1%80%d0%b8%d0%b5%d0%bc-2/?lang=ru
LOCATION:Jagstauenhalle\, Главная улица Ягстхаймера 157\, Крайльсхайм\, Баден-Вюртемберг\, 74564\, Deutschland
CATEGORIES:Местный совет,Событие
ATTACH;FMTTYPE=image/jpeg:https://jagstheim.de/wp-content/uploads/2025/01/20250105_Neujahrsempfang_640.jpeg
END:VEVENT
BEGIN:VEVENT
DTSTART;VALUE=DATE:20240609
DTEND;VALUE=DATE:20240610
DTSTAMP:20260426T071012
CREATED:20240107T113257Z
LAST-MODIFIED:20240107T113257Z
UID:10004690-1717891200-1717977599@jagstheim.de
SUMMARY:Избирательный участок
DESCRIPTION: 
URL:https://jagstheim.de/event/%d0%b8%d0%b7%d0%b1%d0%b8%d1%80%d0%b0%d1%82%d0%b5%d0%bb%d1%8c%d0%bd%d1%8b%d0%b9-%d1%83%d1%87%d0%b0%d1%81%d1%82%d0%be%d0%ba/?lang=ru
LOCATION:Jagstauenhalle\, Главная улица Ягстхаймера 157\, Крайльсхайм\, Баден-Вюртемберг\, 74564\, Deutschland
CATEGORIES:Событие
END:VEVENT
BEGIN:VEVENT
DTSTART;VALUE=DATE:20240503
DTEND;VALUE=DATE:20240504
DTSTAMP:20260426T071012
CREATED:20240107T112331Z
LAST-MODIFIED:20240107T112331Z
UID:10004611-1714694400-1714780799@jagstheim.de
SUMMARY:Молочный завод
DESCRIPTION: 
URL:https://jagstheim.de/event/%d0%bc%d0%be%d0%bb%d0%be%d1%87%d0%bd%d1%8b%d0%b9-%d0%b7%d0%b0%d0%b2%d0%be%d0%b4/?lang=ru
LOCATION:Jagstauenhalle\, Главная улица Ягстхаймера 157\, Крайльсхайм\, Баден-Вюртемберг\, 74564\, Deutschland
CATEGORIES:Событие
END:VEVENT
END:VCALENDAR