BEGIN:VCALENDAR
VERSION:2.0
PRODID:-//Jagstheim - ECPv6.15.20//NONSGML v1.0//EN
CALSCALE:GREGORIAN
METHOD:PUBLISH
X-WR-CALNAME:Jagstheim
X-ORIGINAL-URL:https://jagstheim.de/?lang=ru
X-WR-CALDESC:Мероприятия для Jagstheim
REFRESH-INTERVAL;VALUE=DURATION:PT1H
X-Robots-Tag:noindex
X-PUBLISHED-TTL:PT1H
BEGIN:VTIMEZONE
TZID:Europe/Helsinki
BEGIN:DAYLIGHT
TZOFFSETFROM:+0200
TZOFFSETTO:+0300
TZNAME:EEST
DTSTART:20220327T010000
END:DAYLIGHT
BEGIN:STANDARD
TZOFFSETFROM:+0300
TZOFFSETTO:+0200
TZNAME:EET
DTSTART:20221030T010000
END:STANDARD
BEGIN:DAYLIGHT
TZOFFSETFROM:+0200
TZOFFSETTO:+0300
TZNAME:EEST
DTSTART:20230326T010000
END:DAYLIGHT
BEGIN:STANDARD
TZOFFSETFROM:+0300
TZOFFSETTO:+0200
TZNAME:EET
DTSTART:20231029T010000
END:STANDARD
BEGIN:DAYLIGHT
TZOFFSETFROM:+0200
TZOFFSETTO:+0300
TZNAME:EEST
DTSTART:20240331T010000
END:DAYLIGHT
BEGIN:STANDARD
TZOFFSETFROM:+0300
TZOFFSETTO:+0200
TZNAME:EET
DTSTART:20241027T010000
END:STANDARD
BEGIN:DAYLIGHT
TZOFFSETFROM:+0200
TZOFFSETTO:+0300
TZNAME:EEST
DTSTART:20250330T010000
END:DAYLIGHT
BEGIN:STANDARD
TZOFFSETFROM:+0300
TZOFFSETTO:+0200
TZNAME:EET
DTSTART:20251026T010000
END:STANDARD
BEGIN:DAYLIGHT
TZOFFSETFROM:+0200
TZOFFSETTO:+0300
TZNAME:EEST
DTSTART:20260329T010000
END:DAYLIGHT
BEGIN:STANDARD
TZOFFSETFROM:+0300
TZOFFSETTO:+0200
TZNAME:EET
DTSTART:20261025T010000
END:STANDARD
END:VTIMEZONE
BEGIN:VEVENT
DTSTART;VALUE=DATE:20250302
DTEND;VALUE=DATE:20250303
DTSTAMP:20260420T032247
CREATED:20250102T094910Z
LAST-MODIFIED:20250102T094910Z
UID:10007461-1740873600-1740959999@jagstheim.de
SUMMARY:Детский карнавал
DESCRIPTION: 
URL:https://jagstheim.de/event/%d0%b4%d0%b5%d1%82%d1%81%d0%ba%d0%b8%d0%b9-%d0%ba%d0%b0%d1%80%d0%bd%d0%b0%d0%b2%d0%b0%d0%bb-2/?lang=ru
LOCATION:Jagstauenhalle\, Главная улица Ягстхаймера 157\, Крайльсхайм\, Баден-Вюртемберг\, 74564\, Deutschland
CATEGORIES:Ассоциация,Спорт
ATTACH;FMTTYPE=image/jpeg:https://jagstheim.de/wp-content/uploads/2025/01/wig_640.jpg
END:VEVENT
BEGIN:VEVENT
DTSTART;VALUE=DATE:20240712
DTEND;VALUE=DATE:20240715
DTSTAMP:20260420T032247
CREATED:20240107T114628Z
LAST-MODIFIED:20240107T114628Z
UID:10004767-1720742400-1721001599@jagstheim.de
SUMMARY:Кубок футбольной деревни
DESCRIPTION: 
URL:https://jagstheim.de/event/%d0%ba%d1%83%d0%b1%d0%be%d0%ba-%d1%84%d1%83%d1%82%d0%b1%d0%be%d0%bb%d1%8c%d0%bd%d0%be%d0%b9-%d0%b4%d0%b5%d1%80%d0%b5%d0%b2%d0%bd%d0%b8/?lang=ru
LOCATION:Спортивная площадка\, Обергштрассе 72\, Крайльсхайм\, Баден-Вюртемберг\, 74564\, Deutschland
CATEGORIES:Ассоциация,Исправлено,Спорт
END:VEVENT
BEGIN:VEVENT
DTSTART;VALUE=DATE:20240406
DTEND;VALUE=DATE:20240407
DTSTAMP:20260420T032247
CREATED:20240107T110909Z
LAST-MODIFIED:20240107T110909Z
UID:10004503-1712361600-1712447999@jagstheim.de
SUMMARY:День игры в настольный теннис
DESCRIPTION: 
URL:https://jagstheim.de/event/%d0%b4%d0%b5%d0%bd%d1%8c-%d0%b8%d0%b3%d1%80%d1%8b-%d0%b2-%d0%bd%d0%b0%d1%81%d1%82%d0%be%d0%bb%d1%8c%d0%bd%d1%8b%d0%b9-%d1%82%d0%b5%d0%bd%d0%bd%d0%b8%d1%81-6/?lang=ru
LOCATION:Jagstauenhalle\, Главная улица Ягстхаймера 157\, Крайльсхайм\, Баден-Вюртемберг\, 74564\, Deutschland
CATEGORIES:Ассоциация,Спорт
END:VEVENT
BEGIN:VEVENT
DTSTART;VALUE=DATE:20240323
DTEND;VALUE=DATE:20240325
DTSTAMP:20260420T032247
CREATED:20240107T110142Z
LAST-MODIFIED:20240107T110142Z
UID:10004450-1711152000-1711324799@jagstheim.de
SUMMARY:Молодежный турнир VfB по футболу
DESCRIPTION: 
URL:https://jagstheim.de/event/%d0%bc%d0%be%d0%bb%d0%be%d0%b4%d0%b5%d0%b6%d0%bd%d1%8b%d0%b9-%d1%82%d1%83%d1%80%d0%bd%d0%b8%d1%80-vfb-%d0%bf%d0%be-%d1%84%d1%83%d1%82%d0%b1%d0%be%d0%bb%d1%83/?lang=ru
LOCATION:Большой спортивный зал\, In der Kistenwiesen 7\, Крайльсхайм\, Баден-Вюртемберг\, 74564\, Deutschland
CATEGORIES:Ассоциация,Спорт
END:VEVENT
BEGIN:VEVENT
DTSTART;VALUE=DATE:20240316
DTEND;VALUE=DATE:20240317
DTSTAMP:20260420T032247
CREATED:20240107T105823Z
LAST-MODIFIED:20240107T105927Z
UID:10004429-1710547200-1710633599@jagstheim.de
SUMMARY:Организатор командных соревнований в Крайльсхайме
DESCRIPTION:VfB Jagstheim \n 
URL:https://jagstheim.de/event/%d0%be%d1%80%d0%b3%d0%b0%d0%bd%d0%b8%d0%b7%d0%b0%d1%82%d0%be%d1%80-%d0%ba%d0%be%d0%bc%d0%b0%d0%bd%d0%b4%d0%bd%d1%8b%d1%85-%d1%81%d0%be%d1%80%d0%b5%d0%b2%d0%bd%d0%be%d0%b2%d0%b0%d0%bd%d0%b8%d0%b9/?lang=ru
LOCATION:Jagstauenhalle\, Главная улица Ягстхаймера 157\, Крайльсхайм\, Баден-Вюртемберг\, 74564\, Deutschland
CATEGORIES:Ассоциация,Спорт
END:VEVENT
BEGIN:VEVENT
DTSTART;VALUE=DATE:20240309
DTEND;VALUE=DATE:20240310
DTSTAMP:20260420T032247
CREATED:20240107T105417Z
LAST-MODIFIED:20250205T062445Z
UID:10004391-1709942400-1710028799@jagstheim.de
SUMMARY:День игры в настольный теннис
DESCRIPTION: 
URL:https://jagstheim.de/event/%d0%b4%d0%b5%d0%bd%d1%8c-%d0%b8%d0%b3%d1%80%d1%8b-%d0%b2-%d0%bd%d0%b0%d1%81%d1%82%d0%be%d0%bb%d1%8c%d0%bd%d1%8b%d0%b9-%d1%82%d0%b5%d0%bd%d0%bd%d0%b8%d1%81-5/?lang=ru
LOCATION:Баден-Вюртемберг
CATEGORIES:Ассоциация,Спорт
END:VEVENT
BEGIN:VEVENT
DTSTART;VALUE=DATE:20240224
DTEND;VALUE=DATE:20240225
DTSTAMP:20260420T032247
CREATED:20240107T102535Z
LAST-MODIFIED:20240107T102535Z
UID:10004325-1708732800-1708819199@jagstheim.de
SUMMARY:День игры в настольный теннис
DESCRIPTION: 
URL:https://jagstheim.de/event/%d0%b4%d0%b5%d0%bd%d1%8c-%d0%b8%d0%b3%d1%80%d1%8b-%d0%b2-%d0%bd%d0%b0%d1%81%d1%82%d0%be%d0%bb%d1%8c%d0%bd%d1%8b%d0%b9-%d1%82%d0%b5%d0%bd%d0%bd%d0%b8%d1%81-4/?lang=ru
LOCATION:Jagstauenhalle\, Главная улица Ягстхаймера 157\, Крайльсхайм\, Баден-Вюртемберг\, 74564\, Deutschland
CATEGORIES:Ассоциация,Спорт
ATTACH;FMTTYPE=image/jpeg:https://jagstheim.de/wp-content/uploads/2024/01/table-tennis_640.jpg
END:VEVENT
BEGIN:VEVENT
DTSTART;VALUE=DATE:20240203
DTEND;VALUE=DATE:20240204
DTSTAMP:20260420T032247
CREATED:20240107T100404Z
LAST-MODIFIED:20240107T100404Z
UID:10004250-1706918400-1707004799@jagstheim.de
SUMMARY:День игры в настольный теннис
DESCRIPTION: 
URL:https://jagstheim.de/event/%d0%b4%d0%b5%d0%bd%d1%8c-%d0%b8%d0%b3%d1%80%d1%8b-%d0%b2-%d0%bd%d0%b0%d1%81%d1%82%d0%be%d0%bb%d1%8c%d0%bd%d1%8b%d0%b9-%d1%82%d0%b5%d0%bd%d0%bd%d0%b8%d1%81-3/?lang=ru
LOCATION:Jagstauenhalle\, Главная улица Ягстхаймера 157\, Крайльсхайм\, Баден-Вюртемберг\, 74564\, Deutschland
CATEGORIES:Ассоциация,Спорт
ATTACH;FMTTYPE=image/jpeg:https://jagstheim.de/wp-content/uploads/2024/01/table-tennis_640.jpg
END:VEVENT
BEGIN:VEVENT
DTSTART;VALUE=DATE:20240127
DTEND;VALUE=DATE:20240128
DTSTAMP:20260420T032247
CREATED:20240107T095434Z
LAST-MODIFIED:20240107T095434Z
UID:10004220-1706313600-1706399999@jagstheim.de
SUMMARY:День игры в настольный теннис
DESCRIPTION: 
URL:https://jagstheim.de/event/%d0%b4%d0%b5%d0%bd%d1%8c-%d0%b8%d0%b3%d1%80%d1%8b-%d0%b2-%d0%bd%d0%b0%d1%81%d1%82%d0%be%d0%bb%d1%8c%d0%bd%d1%8b%d0%b9-%d1%82%d0%b5%d0%bd%d0%bd%d0%b8%d1%81-2/?lang=ru
LOCATION:Jagstauenhalle\, Главная улица Ягстхаймера 157\, Крайльсхайм\, Баден-Вюртемберг\, 74564\, Deutschland
CATEGORIES:Ассоциация,Спорт
ATTACH;FMTTYPE=image/jpeg:https://jagstheim.de/wp-content/uploads/2024/01/table-tennis_640.jpg
END:VEVENT
BEGIN:VEVENT
DTSTART;TZID=Europe/Helsinki:20240107T000000
DTEND;TZID=Europe/Helsinki:20240107T000000
DTSTAMP:20260420T032247
CREATED:20240107T094313Z
LAST-MODIFIED:20240107T094313Z
UID:10004198-1704585600-1704585600@jagstheim.de
SUMMARY:День игры в настольный теннис
DESCRIPTION: 
URL:https://jagstheim.de/event/%d0%b4%d0%b5%d0%bd%d1%8c-%d0%b8%d0%b3%d1%80%d1%8b-%d0%b2-%d0%bd%d0%b0%d1%81%d1%82%d0%be%d0%bb%d1%8c%d0%bd%d1%8b%d0%b9-%d1%82%d0%b5%d0%bd%d0%bd%d0%b8%d1%81/?lang=ru
LOCATION:Jagstauenhalle\, Главная улица Ягстхаймера 157\, Крайльсхайм\, Баден-Вюртемберг\, 74564\, Deutschland
CATEGORIES:Ассоциация,Спорт
ATTACH;FMTTYPE=image/jpeg:https://jagstheim.de/wp-content/uploads/2024/01/table-tennis_640.jpg
END:VEVENT
BEGIN:VEVENT
DTSTART;TZID=Europe/Helsinki:20231118T074500
DTEND;TZID=Europe/Helsinki:20231118T153000
DTSTAMP:20260420T032247
CREATED:20231010T112004Z
LAST-MODIFIED:20231010T112004Z
UID:10003669-1700293500-1700321400@jagstheim.de
SUMMARY:Молодежная экскурсия 18 ноября 2023 года
DESCRIPTION:Молодежная команда VfB Jagstheim 1946 e.V. организует однодневную поездку в батутный парк Airtime в Нюрнберге 18 ноября 2023 года.\nУчаствовать могут все дети и подростки в возрасте не менее 6 лет.\nВстречаемся в день мероприятия в 7.45 утра на автобусной остановке Ortsmitte Jagstheim. Отправление автобуса в 8.00 утра. Возвращение состоится примерно в 15.30 на автобусной остановке в центре Ягстхайма. \nСтоимость составляет 30 евро на участника (для нечленов клуба — 35 евро)\, включая проезд\, входной билет\, пиццу на обед и носки для прыжков\, и оплачивается в день мероприятия. \nВладельцам StwCard предоставляется скидка 10%. В этом случае\, пожалуйста\, укажите номер карты в разделе ниже.\nВам также понадобится перекус на дорогу\, немного карманных денег и достаточное количество напитков (только не стеклянные бутылки). \nДля самих прыжков рекомендуется надевать спортивную одежду. \nПросьба зарегистрироваться до 4 ноября 2023 года. \nПоскольку количество мест в автобусе ограничено\, то в случае превышения максимального количества участников\, при получении регистрации принимается решение о распределении мест (участники перед не участниками). \n 
URL:https://jagstheim.de/event/%d0%bc%d0%be%d0%bb%d0%be%d0%b4%d0%b5%d0%b6%d0%bd%d0%b0%d1%8f-%d1%8d%d0%ba%d1%81%d0%ba%d1%83%d1%80%d1%81%d0%b8%d1%8f-18-%d0%bd%d0%be%d1%8f%d0%b1%d1%80%d1%8f-2023-%d0%b3%d0%be%d0%b4%d0%b0/?lang=ru
LOCATION:Баден-Вюртемберг
CATEGORIES:Ассоциация,Спорт
ATTACH;FMTTYPE=image/png:https://jagstheim.de/wp-content/uploads/2023/10/vfb_header_2.png
END:VEVENT
BEGIN:VEVENT
DTSTART;VALUE=DATE:20230923
DTEND;VALUE=DATE:20230924
DTSTAMP:20260420T032247
CREATED:20230706T083856Z
LAST-MODIFIED:20230706T083856Z
UID:10000266-1695427200-1695513599@jagstheim.de
SUMMARY:VfB | Гимнастика
DESCRIPTION:Команда Гауфинале \n 
URL:https://jagstheim.de/event/vfb-%d0%b3%d0%b8%d0%bc%d0%bd%d0%b0%d1%81%d1%82%d0%b8%d0%ba%d0%b0/?lang=ru
LOCATION:Карлсберг Холл\, Beuerlbacher Str. 16\, Крайльсхайм\, 74564\, Deutschland
CATEGORIES:Ассоциация,Спорт
ATTACH;FMTTYPE=image/jpeg:https://jagstheim.de/wp-content/uploads/2023/07/rings-4876839-scaled.jpg
END:VEVENT
BEGIN:VEVENT
DTSTART;TZID=Europe/Helsinki:20230906T193000
DTEND;TZID=Europe/Helsinki:20230906T203000
DTSTAMP:20260420T032247
CREATED:20230706T081728Z
LAST-MODIFIED:20230706T081728Z
UID:10000261-1694028600-1694032200@jagstheim.de
SUMMARY:VfB | Айкидо
DESCRIPTION:Начало обучения \n 
URL:https://jagstheim.de/event/vfb-%d0%b0%d0%b9%d0%ba%d0%b8%d0%b4%d0%be-3/?lang=ru
LOCATION:Jagstauenhalle\, Главная улица Ягстхаймера 157\, Крайльсхайм\, Баден-Вюртемберг\, 74564\, Deutschland
CATEGORIES:Ассоциация,Спорт
ATTACH;FMTTYPE=image/jpeg:https://jagstheim.de/wp-content/uploads/2023/07/aikido-362959_640.jpg
END:VEVENT
BEGIN:VEVENT
DTSTART;TZID=Europe/Helsinki:20230723T110000
DTEND;TZID=Europe/Helsinki:20230723T120000
DTSTAMP:20260420T032248
CREATED:20230706T063058Z
LAST-MODIFIED:20230706T063058Z
UID:10000231-1690110000-1690113600@jagstheim.de
SUMMARY:VfB | Айкидо
DESCRIPTION:Демонтаж мата \n 
URL:https://jagstheim.de/event/vfb-%d0%b0%d0%b9%d0%ba%d0%b8%d0%b4%d0%be-2/?lang=ru
LOCATION:Jagstauenhalle\, Главная улица Ягстхаймера 157\, Крайльсхайм\, Баден-Вюртемберг\, 74564\, Deutschland
CATEGORIES:Спорт
ATTACH;FMTTYPE=image/jpeg:https://jagstheim.de/wp-content/uploads/2023/07/yoga-940359_640.jpg
END:VEVENT
BEGIN:VEVENT
DTSTART;TZID=Europe/Helsinki:20230723T093000
DTEND;TZID=Europe/Helsinki:20230723T113000
DTSTAMP:20260420T032248
CREATED:20230706T062158Z
LAST-MODIFIED:20230706T062158Z
UID:10000220-1690104600-1690111800@jagstheim.de
SUMMARY:VfB | Айкидо
DESCRIPTION:Очистка коврика \n 
URL:https://jagstheim.de/event/vfb-%d0%b0%d0%b9%d0%ba%d0%b8%d0%b4%d0%be/?lang=ru
LOCATION:Jagstauenhalle\, Главная улица Ягстхаймера 157\, Крайльсхайм\, Баден-Вюртемберг\, 74564\, Deutschland
CATEGORIES:Спорт
ATTACH;FMTTYPE=image/jpeg:https://jagstheim.de/wp-content/uploads/2023/07/cleaning-3977589_640.jpg
END:VEVENT
BEGIN:VEVENT
DTSTART;TZID=Europe/Helsinki:20230715T190000
DTEND;TZID=Europe/Helsinki:20230715T190000
DTSTAMP:20260420T032248
CREATED:20230714T060010Z
LAST-MODIFIED:20230714T060010Z
UID:10000766-1689447600-1689447600@jagstheim.de
SUMMARY:Спортивные выходные | Финалы
DESCRIPTION: 
URL:https://jagstheim.de/event/%d1%81%d0%bf%d0%be%d1%80%d1%82%d0%b8%d0%b2%d0%bd%d1%8b%d0%b5-%d0%b2%d1%8b%d1%85%d0%be%d0%b4%d0%bd%d1%8b%d0%b5-%d1%84%d0%b8%d0%bd%d0%b0%d0%bb%d1%8b/?lang=ru
LOCATION:Спортивная площадка\, Обергштрассе 72\, Крайльсхайм\, Баден-Вюртемберг\, 74564\, Deutschland
CATEGORIES:Ассоциация,Исправлено,Спорт
END:VEVENT
BEGIN:VEVENT
DTSTART;TZID=Europe/Helsinki:20230715T150000
DTEND;TZID=Europe/Helsinki:20230715T190000
DTSTAMP:20260420T032248
CREATED:20230714T055900Z
LAST-MODIFIED:20230714T055900Z
UID:10000755-1689433200-1689447600@jagstheim.de
SUMMARY:Спортивный уик-энд | Кубок деревни
DESCRIPTION: 
URL:https://jagstheim.de/event/%d1%81%d0%bf%d0%be%d1%80%d1%82%d0%b8%d0%b2%d0%bd%d1%8b%d0%b9-%d1%83%d0%b8%d0%ba-%d1%8d%d0%bd%d0%b4-%d0%ba%d1%83%d0%b1%d0%be%d0%ba-%d0%b4%d0%b5%d1%80%d0%b5%d0%b2%d0%bd%d0%b8/?lang=ru
LOCATION:Спортивная площадка\, Обергштрассе 72\, Крайльсхайм\, Баден-Вюртемберг\, 74564\, Deutschland
CATEGORIES:Ассоциация,Исправлено,Спорт
END:VEVENT
BEGIN:VEVENT
DTSTART;TZID=Europe/Helsinki:20230715T103000
DTEND;TZID=Europe/Helsinki:20230715T150000
DTSTAMP:20260420T032248
CREATED:20230714T055443Z
LAST-MODIFIED:20230714T055443Z
UID:10000744-1689417000-1689433200@jagstheim.de
SUMMARY:Спортивный уик-энд | Молодежный турнир
DESCRIPTION: 
URL:https://jagstheim.de/event/%d1%81%d0%bf%d0%be%d1%80%d1%82%d0%b8%d0%b2%d0%bd%d1%8b%d0%b9-%d1%83%d0%b8%d0%ba-%d1%8d%d0%bd%d0%b4-%d0%bc%d0%be%d0%bb%d0%be%d0%b4%d0%b5%d0%b6%d0%bd%d1%8b%d0%b9-%d1%82%d1%83%d1%80%d0%bd%d0%b8%d1%80/?lang=ru
LOCATION:Спортивная площадка\, Обергштрассе 72\, Крайльсхайм\, Баден-Вюртемберг\, 74564\, Deutschland
CATEGORIES:Ассоциация,Спорт
END:VEVENT
BEGIN:VEVENT
DTSTART;TZID=Europe/Helsinki:20230714T180000
DTEND;TZID=Europe/Helsinki:20230714T220000
DTSTAMP:20260420T032248
CREATED:20230714T055058Z
LAST-MODIFIED:20230714T055629Z
UID:10000733-1689357600-1689372000@jagstheim.de
SUMMARY:Спортивный уик-энд | Кубок по пенальти
DESCRIPTION:Кубок по пенальти и Кубок деревни с гостеприимством \n 
URL:https://jagstheim.de/event/%d1%81%d0%bf%d0%be%d1%80%d1%82%d0%b8%d0%b2%d0%bd%d1%8b%d0%b5-%d0%b2%d1%8b%d1%85%d0%be%d0%b4%d0%bd%d1%8b%d0%b5/?lang=ru
LOCATION:Спортивная площадка\, Обергштрассе 72\, Крайльсхайм\, Баден-Вюртемберг\, 74564\, Deutschland
CATEGORIES:Ассоциация,Спорт
ATTACH;FMTTYPE=image/jpeg:https://jagstheim.de/wp-content/uploads/2023/07/iStock-1167399616_640.jpg
END:VEVENT
END:VCALENDAR