BEGIN:VCALENDAR
VERSION:2.0
PRODID:-//Jagstheim - ECPv6.15.20//NONSGML v1.0//EN
CALSCALE:GREGORIAN
METHOD:PUBLISH
X-WR-CALNAME:Jagstheim
X-ORIGINAL-URL:https://jagstheim.de/?lang=ru
X-WR-CALDESC:Мероприятия для Jagstheim
REFRESH-INTERVAL;VALUE=DURATION:PT1H
X-Robots-Tag:noindex
X-PUBLISHED-TTL:PT1H
BEGIN:VTIMEZONE
TZID:Europe/Helsinki
BEGIN:DAYLIGHT
TZOFFSETFROM:+0200
TZOFFSETTO:+0300
TZNAME:EEST
DTSTART:20250330T010000
END:DAYLIGHT
BEGIN:STANDARD
TZOFFSETFROM:+0300
TZOFFSETTO:+0200
TZNAME:EET
DTSTART:20251026T010000
END:STANDARD
BEGIN:DAYLIGHT
TZOFFSETFROM:+0200
TZOFFSETTO:+0300
TZNAME:EEST
DTSTART:20260329T010000
END:DAYLIGHT
BEGIN:STANDARD
TZOFFSETFROM:+0300
TZOFFSETTO:+0200
TZNAME:EET
DTSTART:20261025T010000
END:STANDARD
BEGIN:DAYLIGHT
TZOFFSETFROM:+0200
TZOFFSETTO:+0300
TZNAME:EEST
DTSTART:20270328T010000
END:DAYLIGHT
BEGIN:STANDARD
TZOFFSETFROM:+0300
TZOFFSETTO:+0200
TZNAME:EET
DTSTART:20271031T010000
END:STANDARD
END:VTIMEZONE
BEGIN:VEVENT
DTSTART;TZID=Europe/Helsinki:20260506T181500
DTEND;TZID=Europe/Helsinki:20260506T193000
DTSTAMP:20260422T022736
CREATED:20230825T194007Z
LAST-MODIFIED:20230825T194208Z
UID:10003012-1778091300-1778095800@jagstheim.de
SUMMARY:KICK 4 Fit - это фитнес-программа
DESCRIPTION:KICK 4 Fit — это фитнес-программа с динамическими элементами боевого искусства тхэквондо.\nСовершенно ненасильственные\, мы тренируем скорость\, выносливость\, силу и координацию с молодыми и пожилыми.\nМы улучшаем свою реакцию и работоспособность\, стимулируем нервную систему\, мышцы\, сухожилия и суставы в чрезвычайно динамичном режиме.\nОн продолжается после летних каникул — прекрасная возможность присоединиться!\nПРИСОЕДИНЯЙТЕСЬ К НАМ! С 13 СЕНТЯБРЯ 2023 Г.\, 18.15 — 19.30\nТренеры:\nПаскаль Меле\, 5-й дан ТКД и Изабелл Шефер\, 3-й дан ТКД\nНачало:\nСреда 13 сентября 2023 года\, 18.15 — 19.30 часов каждая\nПроцедура:\nНепрерывный курс\, поступление возможно в любое время\nСтоимость курса:\n8\,00 € за единицу обучения + членство в Landfrauen Jagstheim\nМесто:\nJagstauenhalle\, Jagstheimer Hauptstraße 157\, 74564 Crailsheim\nВзять с собой:\nУдобная спортивная одежда\, напитки\nОбязательная регистрация:\nС Катрин Ленц (0176.426 01912) \n 
URL:https://jagstheim.de/event/kick-4-fit-%d1%8d%d1%82%d0%be-%d1%84%d0%b8%d1%82%d0%bd%d0%b5%d1%81-%d0%bf%d1%80%d0%be%d0%b3%d1%80%d0%b0%d0%bc%d0%bc%d0%b0/2026-05-06/?lang=ru
LOCATION:Jagstauenhalle\, Главная улица Ягстхаймера 157\, Крайльсхайм\, Баден-Вюртемберг\, 74564\, Deutschland
CATEGORIES:Ассоциация,Соотечественницы,Спортивный
END:VEVENT
BEGIN:VEVENT
DTSTART;TZID=Europe/Helsinki:20260513T181500
DTEND;TZID=Europe/Helsinki:20260513T193000
DTSTAMP:20260422T022736
CREATED:20230825T194007Z
LAST-MODIFIED:20230825T194208Z
UID:10003013-1778696100-1778700600@jagstheim.de
SUMMARY:KICK 4 Fit - это фитнес-программа
DESCRIPTION:KICK 4 Fit — это фитнес-программа с динамическими элементами боевого искусства тхэквондо.\nСовершенно ненасильственные\, мы тренируем скорость\, выносливость\, силу и координацию с молодыми и пожилыми.\nМы улучшаем свою реакцию и работоспособность\, стимулируем нервную систему\, мышцы\, сухожилия и суставы в чрезвычайно динамичном режиме.\nОн продолжается после летних каникул — прекрасная возможность присоединиться!\nПРИСОЕДИНЯЙТЕСЬ К НАМ! С 13 СЕНТЯБРЯ 2023 Г.\, 18.15 — 19.30\nТренеры:\nПаскаль Меле\, 5-й дан ТКД и Изабелл Шефер\, 3-й дан ТКД\nНачало:\nСреда 13 сентября 2023 года\, 18.15 — 19.30 часов каждая\nПроцедура:\nНепрерывный курс\, поступление возможно в любое время\nСтоимость курса:\n8\,00 € за единицу обучения + членство в Landfrauen Jagstheim\nМесто:\nJagstauenhalle\, Jagstheimer Hauptstraße 157\, 74564 Crailsheim\nВзять с собой:\nУдобная спортивная одежда\, напитки\nОбязательная регистрация:\nС Катрин Ленц (0176.426 01912) \n 
URL:https://jagstheim.de/event/kick-4-fit-%d1%8d%d1%82%d0%be-%d1%84%d0%b8%d1%82%d0%bd%d0%b5%d1%81-%d0%bf%d1%80%d0%be%d0%b3%d1%80%d0%b0%d0%bc%d0%bc%d0%b0/2026-05-13/?lang=ru
LOCATION:Jagstauenhalle\, Главная улица Ягстхаймера 157\, Крайльсхайм\, Баден-Вюртемберг\, 74564\, Deutschland
CATEGORIES:Ассоциация,Соотечественницы,Спортивный
END:VEVENT
BEGIN:VEVENT
DTSTART;TZID=Europe/Helsinki:20260520T181500
DTEND;TZID=Europe/Helsinki:20260520T193000
DTSTAMP:20260422T022736
CREATED:20230825T194007Z
LAST-MODIFIED:20230825T194208Z
UID:10003014-1779300900-1779305400@jagstheim.de
SUMMARY:KICK 4 Fit - это фитнес-программа
DESCRIPTION:KICK 4 Fit — это фитнес-программа с динамическими элементами боевого искусства тхэквондо.\nСовершенно ненасильственные\, мы тренируем скорость\, выносливость\, силу и координацию с молодыми и пожилыми.\nМы улучшаем свою реакцию и работоспособность\, стимулируем нервную систему\, мышцы\, сухожилия и суставы в чрезвычайно динамичном режиме.\nОн продолжается после летних каникул — прекрасная возможность присоединиться!\nПРИСОЕДИНЯЙТЕСЬ К НАМ! С 13 СЕНТЯБРЯ 2023 Г.\, 18.15 — 19.30\nТренеры:\nПаскаль Меле\, 5-й дан ТКД и Изабелл Шефер\, 3-й дан ТКД\nНачало:\nСреда 13 сентября 2023 года\, 18.15 — 19.30 часов каждая\nПроцедура:\nНепрерывный курс\, поступление возможно в любое время\nСтоимость курса:\n8\,00 € за единицу обучения + членство в Landfrauen Jagstheim\nМесто:\nJagstauenhalle\, Jagstheimer Hauptstraße 157\, 74564 Crailsheim\nВзять с собой:\nУдобная спортивная одежда\, напитки\nОбязательная регистрация:\nС Катрин Ленц (0176.426 01912) \n 
URL:https://jagstheim.de/event/kick-4-fit-%d1%8d%d1%82%d0%be-%d1%84%d0%b8%d1%82%d0%bd%d0%b5%d1%81-%d0%bf%d1%80%d0%be%d0%b3%d1%80%d0%b0%d0%bc%d0%bc%d0%b0/2026-05-20/?lang=ru
LOCATION:Jagstauenhalle\, Главная улица Ягстхаймера 157\, Крайльсхайм\, Баден-Вюртемберг\, 74564\, Deutschland
CATEGORIES:Ассоциация,Соотечественницы,Спортивный
END:VEVENT
BEGIN:VEVENT
DTSTART;TZID=Europe/Helsinki:20260527T181500
DTEND;TZID=Europe/Helsinki:20260527T193000
DTSTAMP:20260422T022736
CREATED:20230825T194007Z
LAST-MODIFIED:20230825T194208Z
UID:10003015-1779905700-1779910200@jagstheim.de
SUMMARY:KICK 4 Fit - это фитнес-программа
DESCRIPTION:KICK 4 Fit — это фитнес-программа с динамическими элементами боевого искусства тхэквондо.\nСовершенно ненасильственные\, мы тренируем скорость\, выносливость\, силу и координацию с молодыми и пожилыми.\nМы улучшаем свою реакцию и работоспособность\, стимулируем нервную систему\, мышцы\, сухожилия и суставы в чрезвычайно динамичном режиме.\nОн продолжается после летних каникул — прекрасная возможность присоединиться!\nПРИСОЕДИНЯЙТЕСЬ К НАМ! С 13 СЕНТЯБРЯ 2023 Г.\, 18.15 — 19.30\nТренеры:\nПаскаль Меле\, 5-й дан ТКД и Изабелл Шефер\, 3-й дан ТКД\nНачало:\nСреда 13 сентября 2023 года\, 18.15 — 19.30 часов каждая\nПроцедура:\nНепрерывный курс\, поступление возможно в любое время\nСтоимость курса:\n8\,00 € за единицу обучения + членство в Landfrauen Jagstheim\nМесто:\nJagstauenhalle\, Jagstheimer Hauptstraße 157\, 74564 Crailsheim\nВзять с собой:\nУдобная спортивная одежда\, напитки\nОбязательная регистрация:\nС Катрин Ленц (0176.426 01912) \n 
URL:https://jagstheim.de/event/kick-4-fit-%d1%8d%d1%82%d0%be-%d1%84%d0%b8%d1%82%d0%bd%d0%b5%d1%81-%d0%bf%d1%80%d0%be%d0%b3%d1%80%d0%b0%d0%bc%d0%bc%d0%b0/2026-05-27/?lang=ru
LOCATION:Jagstauenhalle\, Главная улица Ягстхаймера 157\, Крайльсхайм\, Баден-Вюртемберг\, 74564\, Deutschland
CATEGORIES:Ассоциация,Соотечественницы,Спортивный
END:VEVENT
END:VCALENDAR