BEGIN:VCALENDAR
VERSION:2.0
PRODID:-//Jagstheim - ECPv6.15.20//NONSGML v1.0//EN
CALSCALE:GREGORIAN
METHOD:PUBLISH
X-WR-CALNAME:Jagstheim
X-ORIGINAL-URL:https://jagstheim.de/?lang=fr
X-WR-CALDESC:Évènements pour Jagstheim
REFRESH-INTERVAL;VALUE=DURATION:PT1H
X-Robots-Tag:noindex
X-PUBLISHED-TTL:PT1H
BEGIN:VTIMEZONE
TZID:Europe/Helsinki
BEGIN:DAYLIGHT
TZOFFSETFROM:+0200
TZOFFSETTO:+0300
TZNAME:EEST
DTSTART:20230326T010000
END:DAYLIGHT
BEGIN:STANDARD
TZOFFSETFROM:+0300
TZOFFSETTO:+0200
TZNAME:EET
DTSTART:20231029T010000
END:STANDARD
BEGIN:DAYLIGHT
TZOFFSETFROM:+0200
TZOFFSETTO:+0300
TZNAME:EEST
DTSTART:20240331T010000
END:DAYLIGHT
BEGIN:STANDARD
TZOFFSETFROM:+0300
TZOFFSETTO:+0200
TZNAME:EET
DTSTART:20241027T010000
END:STANDARD
BEGIN:DAYLIGHT
TZOFFSETFROM:+0200
TZOFFSETTO:+0300
TZNAME:EEST
DTSTART:20250330T010000
END:DAYLIGHT
BEGIN:STANDARD
TZOFFSETFROM:+0300
TZOFFSETTO:+0200
TZNAME:EET
DTSTART:20251026T010000
END:STANDARD
END:VTIMEZONE
BEGIN:VEVENT
DTSTART;VALUE=DATE:20240927
DTEND;VALUE=DATE:20240928
DTSTAMP:20260426T042947
CREATED:20231210T174342Z
LAST-MODIFIED:20250205T062538Z
UID:10004071-1727395200-1727481599@jagstheim.de
SUMMARY:Sacs jaunes et poubelles à papier
DESCRIPTION:Crailsheim – District 4 \nLandkreis Schwäbisch Hall | Calendrier des déchets | (lrasha.de) \n 
URL:https://jagstheim.de/event/sacs-jaunes-et-poubelles-a-papier-8/2024-09-27/?lang=fr
CATEGORIES:Collecte des déchets
ATTACH;FMTTYPE=image/webp:https://jagstheim.de/wp-content/uploads/2023/07/GelbPapier.webp
END:VEVENT
BEGIN:VEVENT
DTSTART;VALUE=DATE:20241001
DTEND;VALUE=DATE:20241002
DTSTAMP:20260426T042947
CREATED:20231210T173700Z
LAST-MODIFIED:20250102T065655Z
UID:10003834-1727740800-1727827199@jagstheim.de
SUMMARY:Déchets biologiques et déchets résiduels
DESCRIPTION:Crailsheim – District 4 \nDates de collecte : District de Schwäbisch Hall \n  \n 
URL:https://jagstheim.de/event/dechets-biologiques-et-dechets-residuels-14/2024-10-01/?lang=fr
CATEGORIES:Collecte des déchets
ATTACH;FMTTYPE=image/webp:https://jagstheim.de/wp-content/uploads/2023/07/BioRest.webp
END:VEVENT
BEGIN:VEVENT
DTSTART;TZID=Europe/Helsinki:20241002T140000
DTEND;TZID=Europe/Helsinki:20241002T160000
DTSTAMP:20260426T042947
CREATED:20240107T115830Z
LAST-MODIFIED:20240107T115830Z
UID:10004847-1727877600-1727884800@jagstheim.de
SUMMARY:Club des anciens
DESCRIPTION: 
URL:https://jagstheim.de/event/club-des-anciens-9/?lang=fr
LOCATION:maison paroissiale catholique\, 16\, rue Eichwald\, Crailsheim\, Bade-Wurtemberg\, 74564\, Deutschland
CATEGORIES:catholique,Église
END:VEVENT
BEGIN:VEVENT
DTSTART;TZID=Europe/Helsinki:20241002T181500
DTEND;TZID=Europe/Helsinki:20241002T193000
DTSTAMP:20260426T042947
CREATED:20230825T194007Z
LAST-MODIFIED:20230825T194207Z
UID:10002152-1727892900-1727897400@jagstheim.de
SUMMARY:KICK 4 Fit est un programme de remise en forme
DESCRIPTION:KICK 4 Fit est un programme de remise en forme comprenant des éléments dynamiques issus de l’art martial Taekwondo.\nDe manière totalement non-violente\, nous entraînons notre vitesse\, notre endurance\, notre force et notre coordination avec les jeunes et les moins jeunes.\nNous améliorons nos réactions et nos performances et stimulons le système nerveux\, les muscles\, les tendons et les articulations de manière extrêmement dynamique.\nAprès les vacances d’été\, le programme reprend – l’occasion idéale pour toi de t’y mettre !\nPARTICIPEZ ! À PARTIR DU 13 SEPTEMBRE 2023\, 18H15 – 19H30\nEntraîneur :\nPascal Mele\, 5ème Dan TKD & Isabell Schäfer\, 3ème Dan TKD\nDébut\nMercredi 13 septembre 2023\, de 18h15 à 19h30\nDéroulement :\nCours en continu\, possibilité de commencer à tout moment\nFrais de cours :\n8\,00 € par unité d’entraînement + adhésion aux Landfrauen Jagstheim\nLieu\nJagstauenhalle\, Jagstheimer Hauptstraße 157\, 74564 Crailsheim\nA apporter :\nVêtements de sport confortables\, boisson\nInscription obligatoire :\nChez Kathrin Lenz (0176.426 01912) \n 
URL:https://jagstheim.de/event/kick-4-fit-est-un-programme-de-remise-en-forme/2024-10-02/?lang=fr
LOCATION:Salle du barrage de Jagstau\, 157\, rue principale de Jagstheim\, Crailsheim\, Bade-Wurtemberg\, 74564\, Deutschland
CATEGORIES:Association,Femmes rurales,Sportif
END:VEVENT
BEGIN:VEVENT
DTSTART;TZID=Europe/Helsinki:20241006T091500
DTEND;TZID=Europe/Helsinki:20241006T120000
DTSTAMP:20260426T042948
CREATED:20240107T120401Z
LAST-MODIFIED:20240107T120401Z
UID:10004891-1728206100-1728216000@jagstheim.de
SUMMARY:Culte d'action de grâces suivi d'un repas de midi Petit déjeuner à la maison communale
DESCRIPTION: 
URL:https://jagstheim.de/event/culte-daction-de-graces-suivi-dun-repas-de-midi-petit-dejeuner-a-la-maison-communale/?lang=fr
LOCATION:paroisse catholique Pierre et Paul\, 16\, rue Eichwald\, Crailsheim\, 74564\, Deutschland
CATEGORIES:catholique,Église
END:VEVENT
BEGIN:VEVENT
DTSTART;TZID=Europe/Helsinki:20241006T100000
DTEND;TZID=Europe/Helsinki:20241006T110000
DTSTAMP:20260426T042948
CREATED:20240107T120231Z
LAST-MODIFIED:20240107T120231Z
UID:10004880-1728208800-1728212400@jagstheim.de
SUMMARY:Fête des récoltes
DESCRIPTION: 
URL:https://jagstheim.de/event/fete-des-recoltes/?lang=fr
LOCATION:église évangélique Saint-Nicolas\, Rue de la Stause 3\, Crailsheim\, Bade-Wurtemberg\, 74564\, Deutschland
CATEGORIES:Église,évangélique
END:VEVENT
BEGIN:VEVENT
DTSTART;TZID=Europe/Helsinki:20241008T143000
DTEND;TZID=Europe/Helsinki:20241008T163000
DTSTAMP:20260426T042948
CREATED:20240107T120516Z
LAST-MODIFIED:20240107T120516Z
UID:10004903-1728397800-1728405000@jagstheim.de
SUMMARY:Après-midi des seniors
DESCRIPTION: 
URL:https://jagstheim.de/event/apres-midi-des-seniors-5/?lang=fr
LOCATION:Maison communale évangélique\, Stauseestraße 5\, Crailsheim\, 74564
CATEGORIES:Église,évangélique
END:VEVENT
BEGIN:VEVENT
DTSTART;TZID=Europe/Helsinki:20241009T181500
DTEND;TZID=Europe/Helsinki:20241009T193000
DTSTAMP:20260426T042948
CREATED:20230825T194007Z
LAST-MODIFIED:20230825T194207Z
UID:10002153-1728497700-1728502200@jagstheim.de
SUMMARY:KICK 4 Fit est un programme de remise en forme
DESCRIPTION:KICK 4 Fit est un programme de remise en forme comprenant des éléments dynamiques issus de l’art martial Taekwondo.\nDe manière totalement non-violente\, nous entraînons notre vitesse\, notre endurance\, notre force et notre coordination avec les jeunes et les moins jeunes.\nNous améliorons nos réactions et nos performances et stimulons le système nerveux\, les muscles\, les tendons et les articulations de manière extrêmement dynamique.\nAprès les vacances d’été\, le programme reprend – l’occasion idéale pour toi de t’y mettre !\nPARTICIPEZ ! À PARTIR DU 13 SEPTEMBRE 2023\, 18H15 – 19H30\nEntraîneur :\nPascal Mele\, 5ème Dan TKD & Isabell Schäfer\, 3ème Dan TKD\nDébut\nMercredi 13 septembre 2023\, de 18h15 à 19h30\nDéroulement :\nCours en continu\, possibilité de commencer à tout moment\nFrais de cours :\n8\,00 € par unité d’entraînement + adhésion aux Landfrauen Jagstheim\nLieu\nJagstauenhalle\, Jagstheimer Hauptstraße 157\, 74564 Crailsheim\nA apporter :\nVêtements de sport confortables\, boisson\nInscription obligatoire :\nChez Kathrin Lenz (0176.426 01912) \n 
URL:https://jagstheim.de/event/kick-4-fit-est-un-programme-de-remise-en-forme/2024-10-09/?lang=fr
LOCATION:Salle du barrage de Jagstau\, 157\, rue principale de Jagstheim\, Crailsheim\, Bade-Wurtemberg\, 74564\, Deutschland
CATEGORIES:Association,Femmes rurales,Sportif
END:VEVENT
BEGIN:VEVENT
DTSTART;VALUE=DATE:20241015
DTEND;VALUE=DATE:20241016
DTSTAMP:20260426T042948
CREATED:20231210T173700Z
LAST-MODIFIED:20250102T065655Z
UID:10003835-1728950400-1729036799@jagstheim.de
SUMMARY:Déchets biologiques et déchets résiduels
DESCRIPTION:Crailsheim – District 4 \nDates de collecte : District de Schwäbisch Hall \n  \n 
URL:https://jagstheim.de/event/dechets-biologiques-et-dechets-residuels-14/2024-10-15/?lang=fr
CATEGORIES:Collecte des déchets
ATTACH;FMTTYPE=image/webp:https://jagstheim.de/wp-content/uploads/2023/07/BioRest.webp
END:VEVENT
BEGIN:VEVENT
DTSTART;TZID=Europe/Helsinki:20241016T181500
DTEND;TZID=Europe/Helsinki:20241016T193000
DTSTAMP:20260426T042948
CREATED:20230825T194007Z
LAST-MODIFIED:20230825T194207Z
UID:10002154-1729102500-1729107000@jagstheim.de
SUMMARY:KICK 4 Fit est un programme de remise en forme
DESCRIPTION:KICK 4 Fit est un programme de remise en forme comprenant des éléments dynamiques issus de l’art martial Taekwondo.\nDe manière totalement non-violente\, nous entraînons notre vitesse\, notre endurance\, notre force et notre coordination avec les jeunes et les moins jeunes.\nNous améliorons nos réactions et nos performances et stimulons le système nerveux\, les muscles\, les tendons et les articulations de manière extrêmement dynamique.\nAprès les vacances d’été\, le programme reprend – l’occasion idéale pour toi de t’y mettre !\nPARTICIPEZ ! À PARTIR DU 13 SEPTEMBRE 2023\, 18H15 – 19H30\nEntraîneur :\nPascal Mele\, 5ème Dan TKD & Isabell Schäfer\, 3ème Dan TKD\nDébut\nMercredi 13 septembre 2023\, de 18h15 à 19h30\nDéroulement :\nCours en continu\, possibilité de commencer à tout moment\nFrais de cours :\n8\,00 € par unité d’entraînement + adhésion aux Landfrauen Jagstheim\nLieu\nJagstauenhalle\, Jagstheimer Hauptstraße 157\, 74564 Crailsheim\nA apporter :\nVêtements de sport confortables\, boisson\nInscription obligatoire :\nChez Kathrin Lenz (0176.426 01912) \n 
URL:https://jagstheim.de/event/kick-4-fit-est-un-programme-de-remise-en-forme/2024-10-16/?lang=fr
LOCATION:Salle du barrage de Jagstau\, 157\, rue principale de Jagstheim\, Crailsheim\, Bade-Wurtemberg\, 74564\, Deutschland
CATEGORIES:Association,Femmes rurales,Sportif
END:VEVENT
BEGIN:VEVENT
DTSTART;VALUE=DATE:20241019
DTEND;VALUE=DATE:20241020
DTSTAMP:20260426T042948
CREATED:20240107T120848Z
LAST-MODIFIED:20240107T120848Z
UID:10004921-1729296000-1729382399@jagstheim.de
SUMMARY:Excursion des jeunes du VfB au parc de trampolines de Nuremberg
DESCRIPTION: 
URL:https://jagstheim.de/event/excursion-des-jeunes-du-vfb-au-parc-de-trampolines-de-nuremberg/?lang=fr
CATEGORIES:Association
END:VEVENT
BEGIN:VEVENT
DTSTART;TZID=Europe/Helsinki:20241019T133000
DTEND;TZID=Europe/Helsinki:20241019T220000
DTSTAMP:20260426T042948
CREATED:20240107T120650Z
LAST-MODIFIED:20240107T120650Z
UID:10004914-1729344600-1729375200@jagstheim.de
SUMMARY:Tir des associations
DESCRIPTION: 
URL:https://jagstheim.de/event/tir-des-associations/?lang=fr
LOCATION:Maison de tir\, Le ruisseau de Honhardt\, Jagstheim\, 74564\, Deutschland
CATEGORIES:Association,Tireurs
END:VEVENT
BEGIN:VEVENT
DTSTART;TZID=Europe/Helsinki:20241023T181500
DTEND;TZID=Europe/Helsinki:20241023T193000
DTSTAMP:20260426T042948
CREATED:20230825T194007Z
LAST-MODIFIED:20230825T194207Z
UID:10002155-1729707300-1729711800@jagstheim.de
SUMMARY:KICK 4 Fit est un programme de remise en forme
DESCRIPTION:KICK 4 Fit est un programme de remise en forme comprenant des éléments dynamiques issus de l’art martial Taekwondo.\nDe manière totalement non-violente\, nous entraînons notre vitesse\, notre endurance\, notre force et notre coordination avec les jeunes et les moins jeunes.\nNous améliorons nos réactions et nos performances et stimulons le système nerveux\, les muscles\, les tendons et les articulations de manière extrêmement dynamique.\nAprès les vacances d’été\, le programme reprend – l’occasion idéale pour toi de t’y mettre !\nPARTICIPEZ ! À PARTIR DU 13 SEPTEMBRE 2023\, 18H15 – 19H30\nEntraîneur :\nPascal Mele\, 5ème Dan TKD & Isabell Schäfer\, 3ème Dan TKD\nDébut\nMercredi 13 septembre 2023\, de 18h15 à 19h30\nDéroulement :\nCours en continu\, possibilité de commencer à tout moment\nFrais de cours :\n8\,00 € par unité d’entraînement + adhésion aux Landfrauen Jagstheim\nLieu\nJagstauenhalle\, Jagstheimer Hauptstraße 157\, 74564 Crailsheim\nA apporter :\nVêtements de sport confortables\, boisson\nInscription obligatoire :\nChez Kathrin Lenz (0176.426 01912) \n 
URL:https://jagstheim.de/event/kick-4-fit-est-un-programme-de-remise-en-forme/2024-10-23/?lang=fr
LOCATION:Salle du barrage de Jagstau\, 157\, rue principale de Jagstheim\, Crailsheim\, Bade-Wurtemberg\, 74564\, Deutschland
CATEGORIES:Association,Femmes rurales,Sportif
END:VEVENT
BEGIN:VEVENT
DTSTART;VALUE=DATE:20241025
DTEND;VALUE=DATE:20241026
DTSTAMP:20260426T042948
CREATED:20231210T174342Z
LAST-MODIFIED:20250205T062538Z
UID:10004072-1729814400-1729900799@jagstheim.de
SUMMARY:Sacs jaunes et poubelles à papier
DESCRIPTION:Crailsheim – District 4 \nLandkreis Schwäbisch Hall | Calendrier des déchets | (lrasha.de) \n 
URL:https://jagstheim.de/event/sacs-jaunes-et-poubelles-a-papier-8/2024-10-25/?lang=fr
CATEGORIES:Collecte des déchets
ATTACH;FMTTYPE=image/webp:https://jagstheim.de/wp-content/uploads/2023/07/GelbPapier.webp
END:VEVENT
BEGIN:VEVENT
DTSTART;VALUE=DATE:20241026
DTEND;VALUE=DATE:20241027
DTSTAMP:20260426T042948
CREATED:20240130T081415Z
LAST-MODIFIED:20240130T081415Z
UID:10005126-1729900800-1729987199@jagstheim.de
SUMMARY:Le chant des chœurs de Crailsheim
DESCRIPTION: 
URL:https://jagstheim.de/event/le-chant-des-choeurs-de-crailsheim/?lang=fr
LOCATION:Salle du barrage de Jagstau\, 157\, rue principale de Jagstheim\, Crailsheim\, Bade-Wurtemberg\, 74564\, Deutschland
CATEGORIES:Association,Fixe,Liederkranz
END:VEVENT
BEGIN:VEVENT
DTSTART;VALUE=DATE:20241029
DTEND;VALUE=DATE:20241030
DTSTAMP:20260426T042948
CREATED:20231210T173700Z
LAST-MODIFIED:20250102T065655Z
UID:10003836-1730160000-1730246399@jagstheim.de
SUMMARY:Déchets biologiques et déchets résiduels
DESCRIPTION:Crailsheim – District 4 \nDates de collecte : District de Schwäbisch Hall \n  \n 
URL:https://jagstheim.de/event/dechets-biologiques-et-dechets-residuels-14/2024-10-29/?lang=fr
CATEGORIES:Collecte des déchets
ATTACH;FMTTYPE=image/webp:https://jagstheim.de/wp-content/uploads/2023/07/BioRest.webp
END:VEVENT
BEGIN:VEVENT
DTSTART;TZID=Europe/Helsinki:20241030T181500
DTEND;TZID=Europe/Helsinki:20241030T193000
DTSTAMP:20260426T042948
CREATED:20230825T194007Z
LAST-MODIFIED:20230825T194207Z
UID:10002156-1730312100-1730316600@jagstheim.de
SUMMARY:KICK 4 Fit est un programme de remise en forme
DESCRIPTION:KICK 4 Fit est un programme de remise en forme comprenant des éléments dynamiques issus de l’art martial Taekwondo.\nDe manière totalement non-violente\, nous entraînons notre vitesse\, notre endurance\, notre force et notre coordination avec les jeunes et les moins jeunes.\nNous améliorons nos réactions et nos performances et stimulons le système nerveux\, les muscles\, les tendons et les articulations de manière extrêmement dynamique.\nAprès les vacances d’été\, le programme reprend – l’occasion idéale pour toi de t’y mettre !\nPARTICIPEZ ! À PARTIR DU 13 SEPTEMBRE 2023\, 18H15 – 19H30\nEntraîneur :\nPascal Mele\, 5ème Dan TKD & Isabell Schäfer\, 3ème Dan TKD\nDébut\nMercredi 13 septembre 2023\, de 18h15 à 19h30\nDéroulement :\nCours en continu\, possibilité de commencer à tout moment\nFrais de cours :\n8\,00 € par unité d’entraînement + adhésion aux Landfrauen Jagstheim\nLieu\nJagstauenhalle\, Jagstheimer Hauptstraße 157\, 74564 Crailsheim\nA apporter :\nVêtements de sport confortables\, boisson\nInscription obligatoire :\nChez Kathrin Lenz (0176.426 01912) \n 
URL:https://jagstheim.de/event/kick-4-fit-est-un-programme-de-remise-en-forme/2024-10-30/?lang=fr
LOCATION:Salle du barrage de Jagstau\, 157\, rue principale de Jagstheim\, Crailsheim\, Bade-Wurtemberg\, 74564\, Deutschland
CATEGORIES:Association,Femmes rurales,Sportif
END:VEVENT
BEGIN:VEVENT
DTSTART;TZID=Europe/Helsinki:20241106T140000
DTEND;TZID=Europe/Helsinki:20241106T160000
DTSTAMP:20260426T042948
CREATED:20240107T115938Z
LAST-MODIFIED:20240107T115938Z
UID:10004861-1730901600-1730908800@jagstheim.de
SUMMARY:Club des anciens
DESCRIPTION: 
URL:https://jagstheim.de/event/club-des-anciens-10/?lang=fr
LOCATION:maison paroissiale catholique\, 16\, rue Eichwald\, Crailsheim\, Bade-Wurtemberg\, 74564\, Deutschland
CATEGORIES:catholique,Église
END:VEVENT
BEGIN:VEVENT
DTSTART;TZID=Europe/Helsinki:20241106T181500
DTEND;TZID=Europe/Helsinki:20241106T193000
DTSTAMP:20260426T042948
CREATED:20230825T194007Z
LAST-MODIFIED:20230825T194207Z
UID:10002157-1730916900-1730921400@jagstheim.de
SUMMARY:KICK 4 Fit est un programme de remise en forme
DESCRIPTION:KICK 4 Fit est un programme de remise en forme comprenant des éléments dynamiques issus de l’art martial Taekwondo.\nDe manière totalement non-violente\, nous entraînons notre vitesse\, notre endurance\, notre force et notre coordination avec les jeunes et les moins jeunes.\nNous améliorons nos réactions et nos performances et stimulons le système nerveux\, les muscles\, les tendons et les articulations de manière extrêmement dynamique.\nAprès les vacances d’été\, le programme reprend – l’occasion idéale pour toi de t’y mettre !\nPARTICIPEZ ! À PARTIR DU 13 SEPTEMBRE 2023\, 18H15 – 19H30\nEntraîneur :\nPascal Mele\, 5ème Dan TKD & Isabell Schäfer\, 3ème Dan TKD\nDébut\nMercredi 13 septembre 2023\, de 18h15 à 19h30\nDéroulement :\nCours en continu\, possibilité de commencer à tout moment\nFrais de cours :\n8\,00 € par unité d’entraînement + adhésion aux Landfrauen Jagstheim\nLieu\nJagstauenhalle\, Jagstheimer Hauptstraße 157\, 74564 Crailsheim\nA apporter :\nVêtements de sport confortables\, boisson\nInscription obligatoire :\nChez Kathrin Lenz (0176.426 01912) \n 
URL:https://jagstheim.de/event/kick-4-fit-est-un-programme-de-remise-en-forme/2024-11-06/?lang=fr
LOCATION:Salle du barrage de Jagstau\, 157\, rue principale de Jagstheim\, Crailsheim\, Bade-Wurtemberg\, 74564\, Deutschland
CATEGORIES:Association,Femmes rurales,Sportif
END:VEVENT
BEGIN:VEVENT
DTSTART;TZID=Europe/Helsinki:20241111T173000
DTEND;TZID=Europe/Helsinki:20241111T180000
DTSTAMP:20260426T042948
CREATED:20240107T121032Z
LAST-MODIFIED:20240107T121032Z
UID:10004937-1731346200-1731348000@jagstheim.de
SUMMARY:Veillée de la Saint-Martin
DESCRIPTION: 
URL:https://jagstheim.de/event/veillee-de-la-saint-martin/?lang=fr
LOCATION:église évangélique Saint-Nicolas\, Rue de la Stause 3\, Crailsheim\, Bade-Wurtemberg\, 74564\, Deutschland
CATEGORIES:Église,évangélique
END:VEVENT
BEGIN:VEVENT
DTSTART;TZID=Europe/Helsinki:20241111T180000
DTEND;TZID=Europe/Helsinki:20241111T200000
DTSTAMP:20260426T042948
CREATED:20240107T121155Z
LAST-MODIFIED:20240107T121155Z
UID:10004945-1731348000-1731355200@jagstheim.de
SUMMARY:Défilé aux lanternes avec le JHD et les jardins d'enfants
DESCRIPTION: 
URL:https://jagstheim.de/event/defile-aux-lanternes-avec-le-jhd-et-les-jardins-denfants/?lang=fr
CATEGORIES:Association,Commerce,Couleurs vives,Jardin d'enfants,Zottele
END:VEVENT
BEGIN:VEVENT
DTSTART;VALUE=DATE:20241112
DTEND;VALUE=DATE:20241113
DTSTAMP:20260426T042948
CREATED:20231210T173700Z
LAST-MODIFIED:20250102T065655Z
UID:10003837-1731369600-1731455999@jagstheim.de
SUMMARY:Déchets biologiques et déchets résiduels
DESCRIPTION:Crailsheim – District 4 \nDates de collecte : District de Schwäbisch Hall \n  \n 
URL:https://jagstheim.de/event/dechets-biologiques-et-dechets-residuels-14/2024-11-12/?lang=fr
CATEGORIES:Collecte des déchets
ATTACH;FMTTYPE=image/webp:https://jagstheim.de/wp-content/uploads/2023/07/BioRest.webp
END:VEVENT
BEGIN:VEVENT
DTSTART;TZID=Europe/Helsinki:20241112T143000
DTEND;TZID=Europe/Helsinki:20241112T163000
DTSTAMP:20260426T042948
CREATED:20240107T121303Z
LAST-MODIFIED:20240107T121303Z
UID:10004957-1731421800-1731429000@jagstheim.de
SUMMARY:Après-midi des seniors
DESCRIPTION: 
URL:https://jagstheim.de/event/apres-midi-des-seniors-6/?lang=fr
LOCATION:Maison communale évangélique\, Stauseestraße 5\, Crailsheim\, 74564
CATEGORIES:Église,évangélique
END:VEVENT
BEGIN:VEVENT
DTSTART;TZID=Europe/Helsinki:20241113T181500
DTEND;TZID=Europe/Helsinki:20241113T193000
DTSTAMP:20260426T042948
CREATED:20230825T194007Z
LAST-MODIFIED:20230825T194207Z
UID:10002158-1731521700-1731526200@jagstheim.de
SUMMARY:KICK 4 Fit est un programme de remise en forme
DESCRIPTION:KICK 4 Fit est un programme de remise en forme comprenant des éléments dynamiques issus de l’art martial Taekwondo.\nDe manière totalement non-violente\, nous entraînons notre vitesse\, notre endurance\, notre force et notre coordination avec les jeunes et les moins jeunes.\nNous améliorons nos réactions et nos performances et stimulons le système nerveux\, les muscles\, les tendons et les articulations de manière extrêmement dynamique.\nAprès les vacances d’été\, le programme reprend – l’occasion idéale pour toi de t’y mettre !\nPARTICIPEZ ! À PARTIR DU 13 SEPTEMBRE 2023\, 18H15 – 19H30\nEntraîneur :\nPascal Mele\, 5ème Dan TKD & Isabell Schäfer\, 3ème Dan TKD\nDébut\nMercredi 13 septembre 2023\, de 18h15 à 19h30\nDéroulement :\nCours en continu\, possibilité de commencer à tout moment\nFrais de cours :\n8\,00 € par unité d’entraînement + adhésion aux Landfrauen Jagstheim\nLieu\nJagstauenhalle\, Jagstheimer Hauptstraße 157\, 74564 Crailsheim\nA apporter :\nVêtements de sport confortables\, boisson\nInscription obligatoire :\nChez Kathrin Lenz (0176.426 01912) \n 
URL:https://jagstheim.de/event/kick-4-fit-est-un-programme-de-remise-en-forme/2024-11-13/?lang=fr
LOCATION:Salle du barrage de Jagstau\, 157\, rue principale de Jagstheim\, Crailsheim\, Bade-Wurtemberg\, 74564\, Deutschland
CATEGORIES:Association,Femmes rurales,Sportif
END:VEVENT
BEGIN:VEVENT
DTSTART;TZID=Europe/Helsinki:20241117T100000
DTEND;TZID=Europe/Helsinki:20241117T120000
DTSTAMP:20260426T042948
CREATED:20240107T121603Z
LAST-MODIFIED:20240107T121603Z
UID:10004980-1731837600-1731844800@jagstheim.de
SUMMARY:œcum. Service religieux pour le Jour du Souvenir avec le conseil local et le VfB
DESCRIPTION: 
URL:https://jagstheim.de/event/oecum-service-religieux-pour-le-jour-du-souvenir-avec-le-conseil-local-et-le-vfb/?lang=fr
LOCATION:Hall du cimetière\, 160\, rue principale de Jagstheim\, Crailsheim\, Bade-Wurtemberg\, 74564\, Deutschland
CATEGORIES:catholique,Église,évangélique
END:VEVENT
BEGIN:VEVENT
DTSTART;TZID=Europe/Helsinki:20241120T181500
DTEND;TZID=Europe/Helsinki:20241120T193000
DTSTAMP:20260426T042948
CREATED:20230825T194007Z
LAST-MODIFIED:20230825T194207Z
UID:10002159-1732126500-1732131000@jagstheim.de
SUMMARY:KICK 4 Fit est un programme de remise en forme
DESCRIPTION:KICK 4 Fit est un programme de remise en forme comprenant des éléments dynamiques issus de l’art martial Taekwondo.\nDe manière totalement non-violente\, nous entraînons notre vitesse\, notre endurance\, notre force et notre coordination avec les jeunes et les moins jeunes.\nNous améliorons nos réactions et nos performances et stimulons le système nerveux\, les muscles\, les tendons et les articulations de manière extrêmement dynamique.\nAprès les vacances d’été\, le programme reprend – l’occasion idéale pour toi de t’y mettre !\nPARTICIPEZ ! À PARTIR DU 13 SEPTEMBRE 2023\, 18H15 – 19H30\nEntraîneur :\nPascal Mele\, 5ème Dan TKD & Isabell Schäfer\, 3ème Dan TKD\nDébut\nMercredi 13 septembre 2023\, de 18h15 à 19h30\nDéroulement :\nCours en continu\, possibilité de commencer à tout moment\nFrais de cours :\n8\,00 € par unité d’entraînement + adhésion aux Landfrauen Jagstheim\nLieu\nJagstauenhalle\, Jagstheimer Hauptstraße 157\, 74564 Crailsheim\nA apporter :\nVêtements de sport confortables\, boisson\nInscription obligatoire :\nChez Kathrin Lenz (0176.426 01912) \n 
URL:https://jagstheim.de/event/kick-4-fit-est-un-programme-de-remise-en-forme/2024-11-20/?lang=fr
LOCATION:Salle du barrage de Jagstau\, 157\, rue principale de Jagstheim\, Crailsheim\, Bade-Wurtemberg\, 74564\, Deutschland
CATEGORIES:Association,Femmes rurales,Sportif
END:VEVENT
BEGIN:VEVENT
DTSTART;VALUE=DATE:20241122
DTEND;VALUE=DATE:20241123
DTSTAMP:20260426T042948
CREATED:20231210T174342Z
LAST-MODIFIED:20250205T062538Z
UID:10004073-1732233600-1732319999@jagstheim.de
SUMMARY:Sacs jaunes et poubelles à papier
DESCRIPTION:Crailsheim – District 4 \nLandkreis Schwäbisch Hall | Calendrier des déchets | (lrasha.de) \n 
URL:https://jagstheim.de/event/sacs-jaunes-et-poubelles-a-papier-8/2024-11-22/?lang=fr
CATEGORIES:Collecte des déchets
ATTACH;FMTTYPE=image/webp:https://jagstheim.de/wp-content/uploads/2023/07/GelbPapier.webp
END:VEVENT
BEGIN:VEVENT
DTSTART;TZID=Europe/Helsinki:20241123T100000
DTEND;TZID=Europe/Helsinki:20241123T110000
DTSTAMP:20260426T042948
CREATED:20240107T121711Z
LAST-MODIFIED:20240107T121711Z
UID:10004992-1732356000-1732359600@jagstheim.de
SUMMARY:Service divin en mémoire des défunts
DESCRIPTION: 
URL:https://jagstheim.de/event/service-divin-en-memoire-des-defunts/?lang=fr
LOCATION:église évangélique Saint-Nicolas\, Rue de la Stause 3\, Crailsheim\, Bade-Wurtemberg\, 74564\, Deutschland
CATEGORIES:Église,évangélique
END:VEVENT
BEGIN:VEVENT
DTSTART;VALUE=DATE:20241126
DTEND;VALUE=DATE:20241127
DTSTAMP:20260426T042948
CREATED:20231210T173700Z
LAST-MODIFIED:20250102T065655Z
UID:10003838-1732579200-1732665599@jagstheim.de
SUMMARY:Déchets biologiques et déchets résiduels
DESCRIPTION:Crailsheim – District 4 \nDates de collecte : District de Schwäbisch Hall \n  \n 
URL:https://jagstheim.de/event/dechets-biologiques-et-dechets-residuels-14/2024-11-26/?lang=fr
CATEGORIES:Collecte des déchets
ATTACH;FMTTYPE=image/webp:https://jagstheim.de/wp-content/uploads/2023/07/BioRest.webp
END:VEVENT
BEGIN:VEVENT
DTSTART;TZID=Europe/Helsinki:20241127T181500
DTEND;TZID=Europe/Helsinki:20241127T193000
DTSTAMP:20260426T042948
CREATED:20230825T194007Z
LAST-MODIFIED:20230825T194207Z
UID:10002160-1732731300-1732735800@jagstheim.de
SUMMARY:KICK 4 Fit est un programme de remise en forme
DESCRIPTION:KICK 4 Fit est un programme de remise en forme comprenant des éléments dynamiques issus de l’art martial Taekwondo.\nDe manière totalement non-violente\, nous entraînons notre vitesse\, notre endurance\, notre force et notre coordination avec les jeunes et les moins jeunes.\nNous améliorons nos réactions et nos performances et stimulons le système nerveux\, les muscles\, les tendons et les articulations de manière extrêmement dynamique.\nAprès les vacances d’été\, le programme reprend – l’occasion idéale pour toi de t’y mettre !\nPARTICIPEZ ! À PARTIR DU 13 SEPTEMBRE 2023\, 18H15 – 19H30\nEntraîneur :\nPascal Mele\, 5ème Dan TKD & Isabell Schäfer\, 3ème Dan TKD\nDébut\nMercredi 13 septembre 2023\, de 18h15 à 19h30\nDéroulement :\nCours en continu\, possibilité de commencer à tout moment\nFrais de cours :\n8\,00 € par unité d’entraînement + adhésion aux Landfrauen Jagstheim\nLieu\nJagstauenhalle\, Jagstheimer Hauptstraße 157\, 74564 Crailsheim\nA apporter :\nVêtements de sport confortables\, boisson\nInscription obligatoire :\nChez Kathrin Lenz (0176.426 01912) \n 
URL:https://jagstheim.de/event/kick-4-fit-est-un-programme-de-remise-en-forme/2024-11-27/?lang=fr
LOCATION:Salle du barrage de Jagstau\, 157\, rue principale de Jagstheim\, Crailsheim\, Bade-Wurtemberg\, 74564\, Deutschland
CATEGORIES:Association,Femmes rurales,Sportif
END:VEVENT
END:VCALENDAR