BEGIN:VCALENDAR
VERSION:2.0
PRODID:-//Jagstheim - ECPv6.15.20//NONSGML v1.0//EN
CALSCALE:GREGORIAN
METHOD:PUBLISH
X-WR-CALNAME:Jagstheim
X-ORIGINAL-URL:https://jagstheim.de/?lang=pl
X-WR-CALDESC:Wydarzenia dla Jagstheim
REFRESH-INTERVAL;VALUE=DURATION:PT1H
X-Robots-Tag:noindex
X-PUBLISHED-TTL:PT1H
BEGIN:VTIMEZONE
TZID:Europe/Helsinki
BEGIN:DAYLIGHT
TZOFFSETFROM:+0200
TZOFFSETTO:+0300
TZNAME:EEST
DTSTART:20220327T010000
END:DAYLIGHT
BEGIN:STANDARD
TZOFFSETFROM:+0300
TZOFFSETTO:+0200
TZNAME:EET
DTSTART:20221030T010000
END:STANDARD
BEGIN:DAYLIGHT
TZOFFSETFROM:+0200
TZOFFSETTO:+0300
TZNAME:EEST
DTSTART:20230326T010000
END:DAYLIGHT
BEGIN:STANDARD
TZOFFSETFROM:+0300
TZOFFSETTO:+0200
TZNAME:EET
DTSTART:20231029T010000
END:STANDARD
BEGIN:DAYLIGHT
TZOFFSETFROM:+0200
TZOFFSETTO:+0300
TZNAME:EEST
DTSTART:20240331T010000
END:DAYLIGHT
BEGIN:STANDARD
TZOFFSETFROM:+0300
TZOFFSETTO:+0200
TZNAME:EET
DTSTART:20241027T010000
END:STANDARD
BEGIN:DAYLIGHT
TZOFFSETFROM:+0200
TZOFFSETTO:+0300
TZNAME:EEST
DTSTART:20250330T010000
END:DAYLIGHT
BEGIN:STANDARD
TZOFFSETFROM:+0300
TZOFFSETTO:+0200
TZNAME:EET
DTSTART:20251026T010000
END:STANDARD
BEGIN:DAYLIGHT
TZOFFSETFROM:+0200
TZOFFSETTO:+0300
TZNAME:EEST
DTSTART:20260329T010000
END:DAYLIGHT
BEGIN:STANDARD
TZOFFSETFROM:+0300
TZOFFSETTO:+0200
TZNAME:EET
DTSTART:20261025T010000
END:STANDARD
END:VTIMEZONE
BEGIN:VEVENT
DTSTART;VALUE=DATE:20250315
DTEND;VALUE=DATE:20250316
DTSTAMP:20260426T071838
CREATED:20250125T195756Z
LAST-MODIFIED:20250125T195756Z
UID:10007532-1741996800-1742083199@jagstheim.de
SUMMARY:Dzień strzelców okręgowych Schützenhaus
DESCRIPTION: 
URL:https://jagstheim.de/event/dzien-strzelcow-okregowych-schuetzenhaus/?lang=pl
LOCATION:Schützenhaus\, Honhardt Bühl\, Jagstheim\, 74564\, Deutschland
CATEGORIES:Strzelcy
ATTACH;FMTTYPE=image/jpeg:https://jagstheim.de/wp-content/uploads/2023/07/pistol-1350484_640.jpg
END:VEVENT
BEGIN:VEVENT
DTSTART;TZID=Europe/Helsinki:20250307T193000
DTEND;TZID=Europe/Helsinki:20250307T213000
DTSTAMP:20260426T071838
CREATED:20250102T095952Z
LAST-MODIFIED:20250102T095952Z
UID:10007477-1741375800-1741383000@jagstheim.de
SUMMARY:Walne zebranie klubu strzeleckiego
DESCRIPTION: 
URL:https://jagstheim.de/event/walne-zebranie-klubu-strzeleckiego/?lang=pl
LOCATION:Schützenhaus\, Honhardt Bühl\, Jagstheim\, 74564\, Deutschland
CATEGORIES:Stowarzyszenie,Strzelcy
END:VEVENT
BEGIN:VEVENT
DTSTART;TZID=Europe/Helsinki:20241019T133000
DTEND;TZID=Europe/Helsinki:20241019T220000
DTSTAMP:20260426T071838
CREATED:20240107T120650Z
LAST-MODIFIED:20240107T120650Z
UID:10004916-1729344600-1729375200@jagstheim.de
SUMMARY:Strzelanie do klubów
DESCRIPTION: 
URL:https://jagstheim.de/event/strzelanie-do-klubow/?lang=pl
LOCATION:Schützenhaus\, Honhardt Bühl\, Jagstheim\, 74564\, Deutschland
CATEGORIES:Stowarzyszenie,Strzelcy
END:VEVENT
BEGIN:VEVENT
DTSTART;TZID=Europe/Helsinki:20240707T110000
DTEND;TZID=Europe/Helsinki:20240707T170000
DTSTAMP:20260426T071838
CREATED:20240107T114403Z
LAST-MODIFIED:20240107T114403Z
UID:10004750-1720350000-1720371600@jagstheim.de
SUMMARY:Jagstheim Shooting Club Grill dla wszystkich
DESCRIPTION: 
URL:https://jagstheim.de/event/jagstheim-shooting-club-grill-dla-wszystkich/?lang=pl
LOCATION:Schützenhaus\, Honhardt Bühl\, Jagstheim\, 74564\, Deutschland
CATEGORIES:Stowarzyszenie,Strzelcy
END:VEVENT
BEGIN:VEVENT
DTSTART;TZID=Europe/Helsinki:20231021T133000
DTEND;TZID=Europe/Helsinki:20231021T170000
DTSTAMP:20260426T071838
CREATED:20230706T093402Z
LAST-MODIFIED:20230724T140630Z
UID:10000530-1697895000-1697907600@jagstheim.de
SUMMARY:Strzelanie do klubów
DESCRIPTION:Dalsze informacje znajdują się poniżej \n 
URL:https://jagstheim.de/event/klub-strzelecki/?lang=pl
LOCATION:Schützenhaus\, Honhardt Bühl\, Jagstheim\, 74564\, Deutschland
CATEGORIES:Stowarzyszenie,Strzelcy
ATTACH;FMTTYPE=image/jpeg:https://jagstheim.de/wp-content/uploads/2023/07/pistol-1350484_640.jpg
END:VEVENT
BEGIN:VEVENT
DTSTART;VALUE=DATE:20230608
DTEND;VALUE=DATE:20230609
DTSTAMP:20260426T071838
CREATED:20230605T143855Z
LAST-MODIFIED:20230605T143855Z
UID:10000456-1686182400-1686268799@jagstheim.de
SUMMARY:Wycieczka klubowa - Klub strzelecki
DESCRIPTION:– Wyjazd do Schützenhaus o 09:30! \n– Późniejsze grillowanie w Schützenhaus \n– Goście są mile widziani! \n 
URL:https://jagstheim.de/event/wycieczka-klubowa-klub-strzelecki/?lang=pl
LOCATION:Schützenhaus\, Honhardt Bühl\, Jagstheim\, 74564\, Deutschland
CATEGORIES:Strzelcy
END:VEVENT
END:VCALENDAR