BEGIN:VCALENDAR
VERSION:2.0
PRODID:-//Jagstheim - ECPv6.15.20//NONSGML v1.0//EN
CALSCALE:GREGORIAN
METHOD:PUBLISH
X-WR-CALNAME:Jagstheim
X-ORIGINAL-URL:https://jagstheim.de/?lang=pl
X-WR-CALDESC:Wydarzenia dla Jagstheim
REFRESH-INTERVAL;VALUE=DURATION:PT1H
X-Robots-Tag:noindex
X-PUBLISHED-TTL:PT1H
BEGIN:VTIMEZONE
TZID:Europe/Helsinki
BEGIN:DAYLIGHT
TZOFFSETFROM:+0200
TZOFFSETTO:+0300
TZNAME:EEST
DTSTART:20270328T010000
END:DAYLIGHT
BEGIN:STANDARD
TZOFFSETFROM:+0300
TZOFFSETTO:+0200
TZNAME:EET
DTSTART:20271031T010000
END:STANDARD
BEGIN:DAYLIGHT
TZOFFSETFROM:+0200
TZOFFSETTO:+0300
TZNAME:EEST
DTSTART:20280326T010000
END:DAYLIGHT
BEGIN:STANDARD
TZOFFSETFROM:+0300
TZOFFSETTO:+0200
TZNAME:EET
DTSTART:20281029T010000
END:STANDARD
BEGIN:DAYLIGHT
TZOFFSETFROM:+0200
TZOFFSETTO:+0300
TZNAME:EEST
DTSTART:20290325T010000
END:DAYLIGHT
BEGIN:STANDARD
TZOFFSETFROM:+0300
TZOFFSETTO:+0200
TZNAME:EET
DTSTART:20291028T010000
END:STANDARD
END:VTIMEZONE
BEGIN:VEVENT
DTSTART;TZID=Europe/Helsinki:20280517T181500
DTEND;TZID=Europe/Helsinki:20280517T193000
DTSTAMP:20260422T042530
CREATED:20230825T194007Z
LAST-MODIFIED:20230825T194207Z
UID:10002600-1842200100-1842204600@jagstheim.de
SUMMARY:KICK 4 Fit to program fitness
DESCRIPTION:KICK 4 Fit to program fitness z dynamicznymi elementami sztuki walki Taekwondo.\nCałkowicie bez przemocy\, trenujemy naszą szybkość\, wytrzymałość\, siłę i koordynację z młodymi i starszymi.\nPoprawiamy naszą reakcję i wydajność oraz stymulujemy układ nerwowy\, mięśnie\, ścięgna i stawy w niezwykle dynamiczny sposób.\nJest on kontynuowany po wakacjach – to doskonała okazja\, aby do niego dołączyć!\nDOŁĄCZ DO NAS! OD 13 WRZEŚNIA 2023 R.\, GODZ. 18.15-19.30\nTrenerzy:\nPascal Mele\, 5. Dan TKD & Isabell Schäfer\, 3. Dan TKD\nStart:\nŚroda\, 13 września 2023 r.\, godz. 18.15 – 19.30 każda\nProcedura:\nKurs ciągły\, wejście możliwe w dowolnym momencie\nOpłata za kurs:\n8\,00 € za jednostkę treningową + członkostwo w Landfrauen Jagstheim\nMiejsce:\nJagstauenhalle\, Jagstheimer Hauptstraße 157\, 74564 Crailsheim\nDo zabrania ze sobą:\nWygodna odzież sportowa\, napój\nWiążąca rejestracja:\nZ Kathrin Lenz (0176.426.01912) \n 
URL:https://jagstheim.de/event/kick-4-fit-to-program-fitness/2028-05-17/?lang=pl
LOCATION:Jagstauenhalle\, Główna ulica Jagstheimer 157\, Crailsheim\, Badenia-Wirtembergia\, 74564\, Deutschland
CATEGORIES:Countrywomen,Sportowy,Stowarzyszenie
END:VEVENT
BEGIN:VEVENT
DTSTART;TZID=Europe/Helsinki:20280524T181500
DTEND;TZID=Europe/Helsinki:20280524T193000
DTSTAMP:20260422T042530
CREATED:20230825T194007Z
LAST-MODIFIED:20230825T194207Z
UID:10002601-1842804900-1842809400@jagstheim.de
SUMMARY:KICK 4 Fit to program fitness
DESCRIPTION:KICK 4 Fit to program fitness z dynamicznymi elementami sztuki walki Taekwondo.\nCałkowicie bez przemocy\, trenujemy naszą szybkość\, wytrzymałość\, siłę i koordynację z młodymi i starszymi.\nPoprawiamy naszą reakcję i wydajność oraz stymulujemy układ nerwowy\, mięśnie\, ścięgna i stawy w niezwykle dynamiczny sposób.\nJest on kontynuowany po wakacjach – to doskonała okazja\, aby do niego dołączyć!\nDOŁĄCZ DO NAS! OD 13 WRZEŚNIA 2023 R.\, GODZ. 18.15-19.30\nTrenerzy:\nPascal Mele\, 5. Dan TKD & Isabell Schäfer\, 3. Dan TKD\nStart:\nŚroda\, 13 września 2023 r.\, godz. 18.15 – 19.30 każda\nProcedura:\nKurs ciągły\, wejście możliwe w dowolnym momencie\nOpłata za kurs:\n8\,00 € za jednostkę treningową + członkostwo w Landfrauen Jagstheim\nMiejsce:\nJagstauenhalle\, Jagstheimer Hauptstraße 157\, 74564 Crailsheim\nDo zabrania ze sobą:\nWygodna odzież sportowa\, napój\nWiążąca rejestracja:\nZ Kathrin Lenz (0176.426.01912) \n 
URL:https://jagstheim.de/event/kick-4-fit-to-program-fitness/2028-05-24/?lang=pl
LOCATION:Jagstauenhalle\, Główna ulica Jagstheimer 157\, Crailsheim\, Badenia-Wirtembergia\, 74564\, Deutschland
CATEGORIES:Countrywomen,Sportowy,Stowarzyszenie
END:VEVENT
BEGIN:VEVENT
DTSTART;TZID=Europe/Helsinki:20280531T181500
DTEND;TZID=Europe/Helsinki:20280531T193000
DTSTAMP:20260422T042530
CREATED:20230825T194007Z
LAST-MODIFIED:20230825T194207Z
UID:10002602-1843409700-1843414200@jagstheim.de
SUMMARY:KICK 4 Fit to program fitness
DESCRIPTION:KICK 4 Fit to program fitness z dynamicznymi elementami sztuki walki Taekwondo.\nCałkowicie bez przemocy\, trenujemy naszą szybkość\, wytrzymałość\, siłę i koordynację z młodymi i starszymi.\nPoprawiamy naszą reakcję i wydajność oraz stymulujemy układ nerwowy\, mięśnie\, ścięgna i stawy w niezwykle dynamiczny sposób.\nJest on kontynuowany po wakacjach – to doskonała okazja\, aby do niego dołączyć!\nDOŁĄCZ DO NAS! OD 13 WRZEŚNIA 2023 R.\, GODZ. 18.15-19.30\nTrenerzy:\nPascal Mele\, 5. Dan TKD & Isabell Schäfer\, 3. Dan TKD\nStart:\nŚroda\, 13 września 2023 r.\, godz. 18.15 – 19.30 każda\nProcedura:\nKurs ciągły\, wejście możliwe w dowolnym momencie\nOpłata za kurs:\n8\,00 € za jednostkę treningową + członkostwo w Landfrauen Jagstheim\nMiejsce:\nJagstauenhalle\, Jagstheimer Hauptstraße 157\, 74564 Crailsheim\nDo zabrania ze sobą:\nWygodna odzież sportowa\, napój\nWiążąca rejestracja:\nZ Kathrin Lenz (0176.426.01912) \n 
URL:https://jagstheim.de/event/kick-4-fit-to-program-fitness/2028-05-31/?lang=pl
LOCATION:Jagstauenhalle\, Główna ulica Jagstheimer 157\, Crailsheim\, Badenia-Wirtembergia\, 74564\, Deutschland
CATEGORIES:Countrywomen,Sportowy,Stowarzyszenie
END:VEVENT
BEGIN:VEVENT
DTSTART;TZID=Europe/Helsinki:20280607T181500
DTEND;TZID=Europe/Helsinki:20280607T193000
DTSTAMP:20260422T042530
CREATED:20230825T194007Z
LAST-MODIFIED:20230825T194207Z
UID:10002603-1844014500-1844019000@jagstheim.de
SUMMARY:KICK 4 Fit to program fitness
DESCRIPTION:KICK 4 Fit to program fitness z dynamicznymi elementami sztuki walki Taekwondo.\nCałkowicie bez przemocy\, trenujemy naszą szybkość\, wytrzymałość\, siłę i koordynację z młodymi i starszymi.\nPoprawiamy naszą reakcję i wydajność oraz stymulujemy układ nerwowy\, mięśnie\, ścięgna i stawy w niezwykle dynamiczny sposób.\nJest on kontynuowany po wakacjach – to doskonała okazja\, aby do niego dołączyć!\nDOŁĄCZ DO NAS! OD 13 WRZEŚNIA 2023 R.\, GODZ. 18.15-19.30\nTrenerzy:\nPascal Mele\, 5. Dan TKD & Isabell Schäfer\, 3. Dan TKD\nStart:\nŚroda\, 13 września 2023 r.\, godz. 18.15 – 19.30 każda\nProcedura:\nKurs ciągły\, wejście możliwe w dowolnym momencie\nOpłata za kurs:\n8\,00 € za jednostkę treningową + członkostwo w Landfrauen Jagstheim\nMiejsce:\nJagstauenhalle\, Jagstheimer Hauptstraße 157\, 74564 Crailsheim\nDo zabrania ze sobą:\nWygodna odzież sportowa\, napój\nWiążąca rejestracja:\nZ Kathrin Lenz (0176.426.01912) \n 
URL:https://jagstheim.de/event/kick-4-fit-to-program-fitness/2028-06-07/?lang=pl
LOCATION:Jagstauenhalle\, Główna ulica Jagstheimer 157\, Crailsheim\, Badenia-Wirtembergia\, 74564\, Deutschland
CATEGORIES:Countrywomen,Sportowy,Stowarzyszenie
END:VEVENT
BEGIN:VEVENT
DTSTART;TZID=Europe/Helsinki:20280614T181500
DTEND;TZID=Europe/Helsinki:20280614T193000
DTSTAMP:20260422T042530
CREATED:20230825T194007Z
LAST-MODIFIED:20230825T194207Z
UID:10002604-1844619300-1844623800@jagstheim.de
SUMMARY:KICK 4 Fit to program fitness
DESCRIPTION:KICK 4 Fit to program fitness z dynamicznymi elementami sztuki walki Taekwondo.\nCałkowicie bez przemocy\, trenujemy naszą szybkość\, wytrzymałość\, siłę i koordynację z młodymi i starszymi.\nPoprawiamy naszą reakcję i wydajność oraz stymulujemy układ nerwowy\, mięśnie\, ścięgna i stawy w niezwykle dynamiczny sposób.\nJest on kontynuowany po wakacjach – to doskonała okazja\, aby do niego dołączyć!\nDOŁĄCZ DO NAS! OD 13 WRZEŚNIA 2023 R.\, GODZ. 18.15-19.30\nTrenerzy:\nPascal Mele\, 5. Dan TKD & Isabell Schäfer\, 3. Dan TKD\nStart:\nŚroda\, 13 września 2023 r.\, godz. 18.15 – 19.30 każda\nProcedura:\nKurs ciągły\, wejście możliwe w dowolnym momencie\nOpłata za kurs:\n8\,00 € za jednostkę treningową + członkostwo w Landfrauen Jagstheim\nMiejsce:\nJagstauenhalle\, Jagstheimer Hauptstraße 157\, 74564 Crailsheim\nDo zabrania ze sobą:\nWygodna odzież sportowa\, napój\nWiążąca rejestracja:\nZ Kathrin Lenz (0176.426.01912) \n 
URL:https://jagstheim.de/event/kick-4-fit-to-program-fitness/2028-06-14/?lang=pl
LOCATION:Jagstauenhalle\, Główna ulica Jagstheimer 157\, Crailsheim\, Badenia-Wirtembergia\, 74564\, Deutschland
CATEGORIES:Countrywomen,Sportowy,Stowarzyszenie
END:VEVENT
BEGIN:VEVENT
DTSTART;TZID=Europe/Helsinki:20280621T181500
DTEND;TZID=Europe/Helsinki:20280621T193000
DTSTAMP:20260422T042530
CREATED:20230825T194007Z
LAST-MODIFIED:20230825T194207Z
UID:10002605-1845224100-1845228600@jagstheim.de
SUMMARY:KICK 4 Fit to program fitness
DESCRIPTION:KICK 4 Fit to program fitness z dynamicznymi elementami sztuki walki Taekwondo.\nCałkowicie bez przemocy\, trenujemy naszą szybkość\, wytrzymałość\, siłę i koordynację z młodymi i starszymi.\nPoprawiamy naszą reakcję i wydajność oraz stymulujemy układ nerwowy\, mięśnie\, ścięgna i stawy w niezwykle dynamiczny sposób.\nJest on kontynuowany po wakacjach – to doskonała okazja\, aby do niego dołączyć!\nDOŁĄCZ DO NAS! OD 13 WRZEŚNIA 2023 R.\, GODZ. 18.15-19.30\nTrenerzy:\nPascal Mele\, 5. Dan TKD & Isabell Schäfer\, 3. Dan TKD\nStart:\nŚroda\, 13 września 2023 r.\, godz. 18.15 – 19.30 każda\nProcedura:\nKurs ciągły\, wejście możliwe w dowolnym momencie\nOpłata za kurs:\n8\,00 € za jednostkę treningową + członkostwo w Landfrauen Jagstheim\nMiejsce:\nJagstauenhalle\, Jagstheimer Hauptstraße 157\, 74564 Crailsheim\nDo zabrania ze sobą:\nWygodna odzież sportowa\, napój\nWiążąca rejestracja:\nZ Kathrin Lenz (0176.426.01912) \n 
URL:https://jagstheim.de/event/kick-4-fit-to-program-fitness/2028-06-21/?lang=pl
LOCATION:Jagstauenhalle\, Główna ulica Jagstheimer 157\, Crailsheim\, Badenia-Wirtembergia\, 74564\, Deutschland
CATEGORIES:Countrywomen,Sportowy,Stowarzyszenie
END:VEVENT
BEGIN:VEVENT
DTSTART;TZID=Europe/Helsinki:20280628T181500
DTEND;TZID=Europe/Helsinki:20280628T193000
DTSTAMP:20260422T042530
CREATED:20230825T194007Z
LAST-MODIFIED:20230825T194207Z
UID:10002606-1845828900-1845833400@jagstheim.de
SUMMARY:KICK 4 Fit to program fitness
DESCRIPTION:KICK 4 Fit to program fitness z dynamicznymi elementami sztuki walki Taekwondo.\nCałkowicie bez przemocy\, trenujemy naszą szybkość\, wytrzymałość\, siłę i koordynację z młodymi i starszymi.\nPoprawiamy naszą reakcję i wydajność oraz stymulujemy układ nerwowy\, mięśnie\, ścięgna i stawy w niezwykle dynamiczny sposób.\nJest on kontynuowany po wakacjach – to doskonała okazja\, aby do niego dołączyć!\nDOŁĄCZ DO NAS! OD 13 WRZEŚNIA 2023 R.\, GODZ. 18.15-19.30\nTrenerzy:\nPascal Mele\, 5. Dan TKD & Isabell Schäfer\, 3. Dan TKD\nStart:\nŚroda\, 13 września 2023 r.\, godz. 18.15 – 19.30 każda\nProcedura:\nKurs ciągły\, wejście możliwe w dowolnym momencie\nOpłata za kurs:\n8\,00 € za jednostkę treningową + członkostwo w Landfrauen Jagstheim\nMiejsce:\nJagstauenhalle\, Jagstheimer Hauptstraße 157\, 74564 Crailsheim\nDo zabrania ze sobą:\nWygodna odzież sportowa\, napój\nWiążąca rejestracja:\nZ Kathrin Lenz (0176.426.01912) \n 
URL:https://jagstheim.de/event/kick-4-fit-to-program-fitness/2028-06-28/?lang=pl
LOCATION:Jagstauenhalle\, Główna ulica Jagstheimer 157\, Crailsheim\, Badenia-Wirtembergia\, 74564\, Deutschland
CATEGORIES:Countrywomen,Sportowy,Stowarzyszenie
END:VEVENT
BEGIN:VEVENT
DTSTART;TZID=Europe/Helsinki:20280705T181500
DTEND;TZID=Europe/Helsinki:20280705T193000
DTSTAMP:20260422T042530
CREATED:20230825T194007Z
LAST-MODIFIED:20230825T194207Z
UID:10002607-1846433700-1846438200@jagstheim.de
SUMMARY:KICK 4 Fit to program fitness
DESCRIPTION:KICK 4 Fit to program fitness z dynamicznymi elementami sztuki walki Taekwondo.\nCałkowicie bez przemocy\, trenujemy naszą szybkość\, wytrzymałość\, siłę i koordynację z młodymi i starszymi.\nPoprawiamy naszą reakcję i wydajność oraz stymulujemy układ nerwowy\, mięśnie\, ścięgna i stawy w niezwykle dynamiczny sposób.\nJest on kontynuowany po wakacjach – to doskonała okazja\, aby do niego dołączyć!\nDOŁĄCZ DO NAS! OD 13 WRZEŚNIA 2023 R.\, GODZ. 18.15-19.30\nTrenerzy:\nPascal Mele\, 5. Dan TKD & Isabell Schäfer\, 3. Dan TKD\nStart:\nŚroda\, 13 września 2023 r.\, godz. 18.15 – 19.30 każda\nProcedura:\nKurs ciągły\, wejście możliwe w dowolnym momencie\nOpłata za kurs:\n8\,00 € za jednostkę treningową + członkostwo w Landfrauen Jagstheim\nMiejsce:\nJagstauenhalle\, Jagstheimer Hauptstraße 157\, 74564 Crailsheim\nDo zabrania ze sobą:\nWygodna odzież sportowa\, napój\nWiążąca rejestracja:\nZ Kathrin Lenz (0176.426.01912) \n 
URL:https://jagstheim.de/event/kick-4-fit-to-program-fitness/2028-07-05/?lang=pl
LOCATION:Jagstauenhalle\, Główna ulica Jagstheimer 157\, Crailsheim\, Badenia-Wirtembergia\, 74564\, Deutschland
CATEGORIES:Countrywomen,Sportowy,Stowarzyszenie
END:VEVENT
BEGIN:VEVENT
DTSTART;TZID=Europe/Helsinki:20280712T181500
DTEND;TZID=Europe/Helsinki:20280712T193000
DTSTAMP:20260422T042530
CREATED:20230825T194007Z
LAST-MODIFIED:20230825T194207Z
UID:10002608-1847038500-1847043000@jagstheim.de
SUMMARY:KICK 4 Fit to program fitness
DESCRIPTION:KICK 4 Fit to program fitness z dynamicznymi elementami sztuki walki Taekwondo.\nCałkowicie bez przemocy\, trenujemy naszą szybkość\, wytrzymałość\, siłę i koordynację z młodymi i starszymi.\nPoprawiamy naszą reakcję i wydajność oraz stymulujemy układ nerwowy\, mięśnie\, ścięgna i stawy w niezwykle dynamiczny sposób.\nJest on kontynuowany po wakacjach – to doskonała okazja\, aby do niego dołączyć!\nDOŁĄCZ DO NAS! OD 13 WRZEŚNIA 2023 R.\, GODZ. 18.15-19.30\nTrenerzy:\nPascal Mele\, 5. Dan TKD & Isabell Schäfer\, 3. Dan TKD\nStart:\nŚroda\, 13 września 2023 r.\, godz. 18.15 – 19.30 każda\nProcedura:\nKurs ciągły\, wejście możliwe w dowolnym momencie\nOpłata za kurs:\n8\,00 € za jednostkę treningową + członkostwo w Landfrauen Jagstheim\nMiejsce:\nJagstauenhalle\, Jagstheimer Hauptstraße 157\, 74564 Crailsheim\nDo zabrania ze sobą:\nWygodna odzież sportowa\, napój\nWiążąca rejestracja:\nZ Kathrin Lenz (0176.426.01912) \n 
URL:https://jagstheim.de/event/kick-4-fit-to-program-fitness/2028-07-12/?lang=pl
LOCATION:Jagstauenhalle\, Główna ulica Jagstheimer 157\, Crailsheim\, Badenia-Wirtembergia\, 74564\, Deutschland
CATEGORIES:Countrywomen,Sportowy,Stowarzyszenie
END:VEVENT
BEGIN:VEVENT
DTSTART;TZID=Europe/Helsinki:20280719T181500
DTEND;TZID=Europe/Helsinki:20280719T193000
DTSTAMP:20260422T042530
CREATED:20230825T194007Z
LAST-MODIFIED:20230825T194207Z
UID:10002609-1847643300-1847647800@jagstheim.de
SUMMARY:KICK 4 Fit to program fitness
DESCRIPTION:KICK 4 Fit to program fitness z dynamicznymi elementami sztuki walki Taekwondo.\nCałkowicie bez przemocy\, trenujemy naszą szybkość\, wytrzymałość\, siłę i koordynację z młodymi i starszymi.\nPoprawiamy naszą reakcję i wydajność oraz stymulujemy układ nerwowy\, mięśnie\, ścięgna i stawy w niezwykle dynamiczny sposób.\nJest on kontynuowany po wakacjach – to doskonała okazja\, aby do niego dołączyć!\nDOŁĄCZ DO NAS! OD 13 WRZEŚNIA 2023 R.\, GODZ. 18.15-19.30\nTrenerzy:\nPascal Mele\, 5. Dan TKD & Isabell Schäfer\, 3. Dan TKD\nStart:\nŚroda\, 13 września 2023 r.\, godz. 18.15 – 19.30 każda\nProcedura:\nKurs ciągły\, wejście możliwe w dowolnym momencie\nOpłata za kurs:\n8\,00 € za jednostkę treningową + członkostwo w Landfrauen Jagstheim\nMiejsce:\nJagstauenhalle\, Jagstheimer Hauptstraße 157\, 74564 Crailsheim\nDo zabrania ze sobą:\nWygodna odzież sportowa\, napój\nWiążąca rejestracja:\nZ Kathrin Lenz (0176.426.01912) \n 
URL:https://jagstheim.de/event/kick-4-fit-to-program-fitness/2028-07-19/?lang=pl
LOCATION:Jagstauenhalle\, Główna ulica Jagstheimer 157\, Crailsheim\, Badenia-Wirtembergia\, 74564\, Deutschland
CATEGORIES:Countrywomen,Sportowy,Stowarzyszenie
END:VEVENT
BEGIN:VEVENT
DTSTART;TZID=Europe/Helsinki:20280726T181500
DTEND;TZID=Europe/Helsinki:20280726T193000
DTSTAMP:20260422T042530
CREATED:20230825T194007Z
LAST-MODIFIED:20230825T194207Z
UID:10002610-1848248100-1848252600@jagstheim.de
SUMMARY:KICK 4 Fit to program fitness
DESCRIPTION:KICK 4 Fit to program fitness z dynamicznymi elementami sztuki walki Taekwondo.\nCałkowicie bez przemocy\, trenujemy naszą szybkość\, wytrzymałość\, siłę i koordynację z młodymi i starszymi.\nPoprawiamy naszą reakcję i wydajność oraz stymulujemy układ nerwowy\, mięśnie\, ścięgna i stawy w niezwykle dynamiczny sposób.\nJest on kontynuowany po wakacjach – to doskonała okazja\, aby do niego dołączyć!\nDOŁĄCZ DO NAS! OD 13 WRZEŚNIA 2023 R.\, GODZ. 18.15-19.30\nTrenerzy:\nPascal Mele\, 5. Dan TKD & Isabell Schäfer\, 3. Dan TKD\nStart:\nŚroda\, 13 września 2023 r.\, godz. 18.15 – 19.30 każda\nProcedura:\nKurs ciągły\, wejście możliwe w dowolnym momencie\nOpłata za kurs:\n8\,00 € za jednostkę treningową + członkostwo w Landfrauen Jagstheim\nMiejsce:\nJagstauenhalle\, Jagstheimer Hauptstraße 157\, 74564 Crailsheim\nDo zabrania ze sobą:\nWygodna odzież sportowa\, napój\nWiążąca rejestracja:\nZ Kathrin Lenz (0176.426.01912) \n 
URL:https://jagstheim.de/event/kick-4-fit-to-program-fitness/2028-07-26/?lang=pl
LOCATION:Jagstauenhalle\, Główna ulica Jagstheimer 157\, Crailsheim\, Badenia-Wirtembergia\, 74564\, Deutschland
CATEGORIES:Countrywomen,Sportowy,Stowarzyszenie
END:VEVENT
BEGIN:VEVENT
DTSTART;TZID=Europe/Helsinki:20280802T181500
DTEND;TZID=Europe/Helsinki:20280802T193000
DTSTAMP:20260422T042530
CREATED:20230825T194007Z
LAST-MODIFIED:20230825T194207Z
UID:10002611-1848852900-1848857400@jagstheim.de
SUMMARY:KICK 4 Fit to program fitness
DESCRIPTION:KICK 4 Fit to program fitness z dynamicznymi elementami sztuki walki Taekwondo.\nCałkowicie bez przemocy\, trenujemy naszą szybkość\, wytrzymałość\, siłę i koordynację z młodymi i starszymi.\nPoprawiamy naszą reakcję i wydajność oraz stymulujemy układ nerwowy\, mięśnie\, ścięgna i stawy w niezwykle dynamiczny sposób.\nJest on kontynuowany po wakacjach – to doskonała okazja\, aby do niego dołączyć!\nDOŁĄCZ DO NAS! OD 13 WRZEŚNIA 2023 R.\, GODZ. 18.15-19.30\nTrenerzy:\nPascal Mele\, 5. Dan TKD & Isabell Schäfer\, 3. Dan TKD\nStart:\nŚroda\, 13 września 2023 r.\, godz. 18.15 – 19.30 każda\nProcedura:\nKurs ciągły\, wejście możliwe w dowolnym momencie\nOpłata za kurs:\n8\,00 € za jednostkę treningową + członkostwo w Landfrauen Jagstheim\nMiejsce:\nJagstauenhalle\, Jagstheimer Hauptstraße 157\, 74564 Crailsheim\nDo zabrania ze sobą:\nWygodna odzież sportowa\, napój\nWiążąca rejestracja:\nZ Kathrin Lenz (0176.426.01912) \n 
URL:https://jagstheim.de/event/kick-4-fit-to-program-fitness/2028-08-02/?lang=pl
LOCATION:Jagstauenhalle\, Główna ulica Jagstheimer 157\, Crailsheim\, Badenia-Wirtembergia\, 74564\, Deutschland
CATEGORIES:Countrywomen,Sportowy,Stowarzyszenie
END:VEVENT
BEGIN:VEVENT
DTSTART;TZID=Europe/Helsinki:20280809T181500
DTEND;TZID=Europe/Helsinki:20280809T193000
DTSTAMP:20260422T042530
CREATED:20230825T194007Z
LAST-MODIFIED:20230825T194207Z
UID:10002612-1849457700-1849462200@jagstheim.de
SUMMARY:KICK 4 Fit to program fitness
DESCRIPTION:KICK 4 Fit to program fitness z dynamicznymi elementami sztuki walki Taekwondo.\nCałkowicie bez przemocy\, trenujemy naszą szybkość\, wytrzymałość\, siłę i koordynację z młodymi i starszymi.\nPoprawiamy naszą reakcję i wydajność oraz stymulujemy układ nerwowy\, mięśnie\, ścięgna i stawy w niezwykle dynamiczny sposób.\nJest on kontynuowany po wakacjach – to doskonała okazja\, aby do niego dołączyć!\nDOŁĄCZ DO NAS! OD 13 WRZEŚNIA 2023 R.\, GODZ. 18.15-19.30\nTrenerzy:\nPascal Mele\, 5. Dan TKD & Isabell Schäfer\, 3. Dan TKD\nStart:\nŚroda\, 13 września 2023 r.\, godz. 18.15 – 19.30 każda\nProcedura:\nKurs ciągły\, wejście możliwe w dowolnym momencie\nOpłata za kurs:\n8\,00 € za jednostkę treningową + członkostwo w Landfrauen Jagstheim\nMiejsce:\nJagstauenhalle\, Jagstheimer Hauptstraße 157\, 74564 Crailsheim\nDo zabrania ze sobą:\nWygodna odzież sportowa\, napój\nWiążąca rejestracja:\nZ Kathrin Lenz (0176.426.01912) \n 
URL:https://jagstheim.de/event/kick-4-fit-to-program-fitness/2028-08-09/?lang=pl
LOCATION:Jagstauenhalle\, Główna ulica Jagstheimer 157\, Crailsheim\, Badenia-Wirtembergia\, 74564\, Deutschland
CATEGORIES:Countrywomen,Sportowy,Stowarzyszenie
END:VEVENT
BEGIN:VEVENT
DTSTART;TZID=Europe/Helsinki:20280816T181500
DTEND;TZID=Europe/Helsinki:20280816T193000
DTSTAMP:20260422T042530
CREATED:20230825T194007Z
LAST-MODIFIED:20230825T194207Z
UID:10002613-1850062500-1850067000@jagstheim.de
SUMMARY:KICK 4 Fit to program fitness
DESCRIPTION:KICK 4 Fit to program fitness z dynamicznymi elementami sztuki walki Taekwondo.\nCałkowicie bez przemocy\, trenujemy naszą szybkość\, wytrzymałość\, siłę i koordynację z młodymi i starszymi.\nPoprawiamy naszą reakcję i wydajność oraz stymulujemy układ nerwowy\, mięśnie\, ścięgna i stawy w niezwykle dynamiczny sposób.\nJest on kontynuowany po wakacjach – to doskonała okazja\, aby do niego dołączyć!\nDOŁĄCZ DO NAS! OD 13 WRZEŚNIA 2023 R.\, GODZ. 18.15-19.30\nTrenerzy:\nPascal Mele\, 5. Dan TKD & Isabell Schäfer\, 3. Dan TKD\nStart:\nŚroda\, 13 września 2023 r.\, godz. 18.15 – 19.30 każda\nProcedura:\nKurs ciągły\, wejście możliwe w dowolnym momencie\nOpłata za kurs:\n8\,00 € za jednostkę treningową + członkostwo w Landfrauen Jagstheim\nMiejsce:\nJagstauenhalle\, Jagstheimer Hauptstraße 157\, 74564 Crailsheim\nDo zabrania ze sobą:\nWygodna odzież sportowa\, napój\nWiążąca rejestracja:\nZ Kathrin Lenz (0176.426.01912) \n 
URL:https://jagstheim.de/event/kick-4-fit-to-program-fitness/2028-08-16/?lang=pl
LOCATION:Jagstauenhalle\, Główna ulica Jagstheimer 157\, Crailsheim\, Badenia-Wirtembergia\, 74564\, Deutschland
CATEGORIES:Countrywomen,Sportowy,Stowarzyszenie
END:VEVENT
BEGIN:VEVENT
DTSTART;TZID=Europe/Helsinki:20280823T181500
DTEND;TZID=Europe/Helsinki:20280823T193000
DTSTAMP:20260422T042530
CREATED:20230825T194007Z
LAST-MODIFIED:20230825T194207Z
UID:10002614-1850667300-1850671800@jagstheim.de
SUMMARY:KICK 4 Fit to program fitness
DESCRIPTION:KICK 4 Fit to program fitness z dynamicznymi elementami sztuki walki Taekwondo.\nCałkowicie bez przemocy\, trenujemy naszą szybkość\, wytrzymałość\, siłę i koordynację z młodymi i starszymi.\nPoprawiamy naszą reakcję i wydajność oraz stymulujemy układ nerwowy\, mięśnie\, ścięgna i stawy w niezwykle dynamiczny sposób.\nJest on kontynuowany po wakacjach – to doskonała okazja\, aby do niego dołączyć!\nDOŁĄCZ DO NAS! OD 13 WRZEŚNIA 2023 R.\, GODZ. 18.15-19.30\nTrenerzy:\nPascal Mele\, 5. Dan TKD & Isabell Schäfer\, 3. Dan TKD\nStart:\nŚroda\, 13 września 2023 r.\, godz. 18.15 – 19.30 każda\nProcedura:\nKurs ciągły\, wejście możliwe w dowolnym momencie\nOpłata za kurs:\n8\,00 € za jednostkę treningową + członkostwo w Landfrauen Jagstheim\nMiejsce:\nJagstauenhalle\, Jagstheimer Hauptstraße 157\, 74564 Crailsheim\nDo zabrania ze sobą:\nWygodna odzież sportowa\, napój\nWiążąca rejestracja:\nZ Kathrin Lenz (0176.426.01912) \n 
URL:https://jagstheim.de/event/kick-4-fit-to-program-fitness/2028-08-23/?lang=pl
LOCATION:Jagstauenhalle\, Główna ulica Jagstheimer 157\, Crailsheim\, Badenia-Wirtembergia\, 74564\, Deutschland
CATEGORIES:Countrywomen,Sportowy,Stowarzyszenie
END:VEVENT
BEGIN:VEVENT
DTSTART;TZID=Europe/Helsinki:20280830T181500
DTEND;TZID=Europe/Helsinki:20280830T193000
DTSTAMP:20260422T042530
CREATED:20230825T194007Z
LAST-MODIFIED:20230825T194207Z
UID:10002615-1851272100-1851276600@jagstheim.de
SUMMARY:KICK 4 Fit to program fitness
DESCRIPTION:KICK 4 Fit to program fitness z dynamicznymi elementami sztuki walki Taekwondo.\nCałkowicie bez przemocy\, trenujemy naszą szybkość\, wytrzymałość\, siłę i koordynację z młodymi i starszymi.\nPoprawiamy naszą reakcję i wydajność oraz stymulujemy układ nerwowy\, mięśnie\, ścięgna i stawy w niezwykle dynamiczny sposób.\nJest on kontynuowany po wakacjach – to doskonała okazja\, aby do niego dołączyć!\nDOŁĄCZ DO NAS! OD 13 WRZEŚNIA 2023 R.\, GODZ. 18.15-19.30\nTrenerzy:\nPascal Mele\, 5. Dan TKD & Isabell Schäfer\, 3. Dan TKD\nStart:\nŚroda\, 13 września 2023 r.\, godz. 18.15 – 19.30 każda\nProcedura:\nKurs ciągły\, wejście możliwe w dowolnym momencie\nOpłata za kurs:\n8\,00 € za jednostkę treningową + członkostwo w Landfrauen Jagstheim\nMiejsce:\nJagstauenhalle\, Jagstheimer Hauptstraße 157\, 74564 Crailsheim\nDo zabrania ze sobą:\nWygodna odzież sportowa\, napój\nWiążąca rejestracja:\nZ Kathrin Lenz (0176.426.01912) \n 
URL:https://jagstheim.de/event/kick-4-fit-to-program-fitness/2028-08-30/?lang=pl
LOCATION:Jagstauenhalle\, Główna ulica Jagstheimer 157\, Crailsheim\, Badenia-Wirtembergia\, 74564\, Deutschland
CATEGORIES:Countrywomen,Sportowy,Stowarzyszenie
END:VEVENT
END:VCALENDAR