BEGIN:VCALENDAR
VERSION:2.0
PRODID:-//Jagstheim - ECPv6.15.20//NONSGML v1.0//EN
CALSCALE:GREGORIAN
METHOD:PUBLISH
X-WR-CALNAME:Jagstheim
X-ORIGINAL-URL:https://jagstheim.de/?lang=pl
X-WR-CALDESC:Wydarzenia dla Jagstheim
REFRESH-INTERVAL;VALUE=DURATION:PT1H
X-Robots-Tag:noindex
X-PUBLISHED-TTL:PT1H
BEGIN:VTIMEZONE
TZID:Europe/Helsinki
BEGIN:DAYLIGHT
TZOFFSETFROM:+0200
TZOFFSETTO:+0300
TZNAME:EEST
DTSTART:20250330T010000
END:DAYLIGHT
BEGIN:STANDARD
TZOFFSETFROM:+0300
TZOFFSETTO:+0200
TZNAME:EET
DTSTART:20251026T010000
END:STANDARD
BEGIN:DAYLIGHT
TZOFFSETFROM:+0200
TZOFFSETTO:+0300
TZNAME:EEST
DTSTART:20260329T010000
END:DAYLIGHT
BEGIN:STANDARD
TZOFFSETFROM:+0300
TZOFFSETTO:+0200
TZNAME:EET
DTSTART:20261025T010000
END:STANDARD
BEGIN:DAYLIGHT
TZOFFSETFROM:+0200
TZOFFSETTO:+0300
TZNAME:EEST
DTSTART:20270328T010000
END:DAYLIGHT
BEGIN:STANDARD
TZOFFSETFROM:+0300
TZOFFSETTO:+0200
TZNAME:EET
DTSTART:20271031T010000
END:STANDARD
END:VTIMEZONE
BEGIN:VEVENT
DTSTART;TZID=Europe/Helsinki:20260701T181500
DTEND;TZID=Europe/Helsinki:20260701T193000
DTSTAMP:20260420T170931
CREATED:20230825T194007Z
LAST-MODIFIED:20230825T194207Z
UID:10002502-1782929700-1782934200@jagstheim.de
SUMMARY:KICK 4 Fit to program fitness
DESCRIPTION:KICK 4 Fit to program fitness z dynamicznymi elementami sztuki walki Taekwondo.\nCałkowicie bez przemocy\, trenujemy naszą szybkość\, wytrzymałość\, siłę i koordynację z młodymi i starszymi.\nPoprawiamy naszą reakcję i wydajność oraz stymulujemy układ nerwowy\, mięśnie\, ścięgna i stawy w niezwykle dynamiczny sposób.\nJest on kontynuowany po wakacjach – to doskonała okazja\, aby do niego dołączyć!\nDOŁĄCZ DO NAS! OD 13 WRZEŚNIA 2023 R.\, GODZ. 18.15-19.30\nTrenerzy:\nPascal Mele\, 5. Dan TKD & Isabell Schäfer\, 3. Dan TKD\nStart:\nŚroda\, 13 września 2023 r.\, godz. 18.15 – 19.30 każda\nProcedura:\nKurs ciągły\, wejście możliwe w dowolnym momencie\nOpłata za kurs:\n8\,00 € za jednostkę treningową + członkostwo w Landfrauen Jagstheim\nMiejsce:\nJagstauenhalle\, Jagstheimer Hauptstraße 157\, 74564 Crailsheim\nDo zabrania ze sobą:\nWygodna odzież sportowa\, napój\nWiążąca rejestracja:\nZ Kathrin Lenz (0176.426.01912) \n 
URL:https://jagstheim.de/event/kick-4-fit-to-program-fitness/2026-07-01/?lang=pl
LOCATION:Jagstauenhalle\, Główna ulica Jagstheimer 157\, Crailsheim\, Badenia-Wirtembergia\, 74564\, Deutschland
CATEGORIES:Countrywomen,Sportowy,Stowarzyszenie
END:VEVENT
BEGIN:VEVENT
DTSTART;TZID=Europe/Helsinki:20260708T181500
DTEND;TZID=Europe/Helsinki:20260708T193000
DTSTAMP:20260420T170931
CREATED:20230825T194007Z
LAST-MODIFIED:20230825T194207Z
UID:10002503-1783534500-1783539000@jagstheim.de
SUMMARY:KICK 4 Fit to program fitness
DESCRIPTION:KICK 4 Fit to program fitness z dynamicznymi elementami sztuki walki Taekwondo.\nCałkowicie bez przemocy\, trenujemy naszą szybkość\, wytrzymałość\, siłę i koordynację z młodymi i starszymi.\nPoprawiamy naszą reakcję i wydajność oraz stymulujemy układ nerwowy\, mięśnie\, ścięgna i stawy w niezwykle dynamiczny sposób.\nJest on kontynuowany po wakacjach – to doskonała okazja\, aby do niego dołączyć!\nDOŁĄCZ DO NAS! OD 13 WRZEŚNIA 2023 R.\, GODZ. 18.15-19.30\nTrenerzy:\nPascal Mele\, 5. Dan TKD & Isabell Schäfer\, 3. Dan TKD\nStart:\nŚroda\, 13 września 2023 r.\, godz. 18.15 – 19.30 każda\nProcedura:\nKurs ciągły\, wejście możliwe w dowolnym momencie\nOpłata za kurs:\n8\,00 € za jednostkę treningową + członkostwo w Landfrauen Jagstheim\nMiejsce:\nJagstauenhalle\, Jagstheimer Hauptstraße 157\, 74564 Crailsheim\nDo zabrania ze sobą:\nWygodna odzież sportowa\, napój\nWiążąca rejestracja:\nZ Kathrin Lenz (0176.426.01912) \n 
URL:https://jagstheim.de/event/kick-4-fit-to-program-fitness/2026-07-08/?lang=pl
LOCATION:Jagstauenhalle\, Główna ulica Jagstheimer 157\, Crailsheim\, Badenia-Wirtembergia\, 74564\, Deutschland
CATEGORIES:Countrywomen,Sportowy,Stowarzyszenie
END:VEVENT
BEGIN:VEVENT
DTSTART;TZID=Europe/Helsinki:20260715T181500
DTEND;TZID=Europe/Helsinki:20260715T193000
DTSTAMP:20260420T170931
CREATED:20230825T194007Z
LAST-MODIFIED:20230825T194207Z
UID:10002504-1784139300-1784143800@jagstheim.de
SUMMARY:KICK 4 Fit to program fitness
DESCRIPTION:KICK 4 Fit to program fitness z dynamicznymi elementami sztuki walki Taekwondo.\nCałkowicie bez przemocy\, trenujemy naszą szybkość\, wytrzymałość\, siłę i koordynację z młodymi i starszymi.\nPoprawiamy naszą reakcję i wydajność oraz stymulujemy układ nerwowy\, mięśnie\, ścięgna i stawy w niezwykle dynamiczny sposób.\nJest on kontynuowany po wakacjach – to doskonała okazja\, aby do niego dołączyć!\nDOŁĄCZ DO NAS! OD 13 WRZEŚNIA 2023 R.\, GODZ. 18.15-19.30\nTrenerzy:\nPascal Mele\, 5. Dan TKD & Isabell Schäfer\, 3. Dan TKD\nStart:\nŚroda\, 13 września 2023 r.\, godz. 18.15 – 19.30 każda\nProcedura:\nKurs ciągły\, wejście możliwe w dowolnym momencie\nOpłata za kurs:\n8\,00 € za jednostkę treningową + członkostwo w Landfrauen Jagstheim\nMiejsce:\nJagstauenhalle\, Jagstheimer Hauptstraße 157\, 74564 Crailsheim\nDo zabrania ze sobą:\nWygodna odzież sportowa\, napój\nWiążąca rejestracja:\nZ Kathrin Lenz (0176.426.01912) \n 
URL:https://jagstheim.de/event/kick-4-fit-to-program-fitness/2026-07-15/?lang=pl
LOCATION:Jagstauenhalle\, Główna ulica Jagstheimer 157\, Crailsheim\, Badenia-Wirtembergia\, 74564\, Deutschland
CATEGORIES:Countrywomen,Sportowy,Stowarzyszenie
END:VEVENT
BEGIN:VEVENT
DTSTART;TZID=Europe/Helsinki:20260722T181500
DTEND;TZID=Europe/Helsinki:20260722T193000
DTSTAMP:20260420T170931
CREATED:20230825T194007Z
LAST-MODIFIED:20230825T194207Z
UID:10002505-1784744100-1784748600@jagstheim.de
SUMMARY:KICK 4 Fit to program fitness
DESCRIPTION:KICK 4 Fit to program fitness z dynamicznymi elementami sztuki walki Taekwondo.\nCałkowicie bez przemocy\, trenujemy naszą szybkość\, wytrzymałość\, siłę i koordynację z młodymi i starszymi.\nPoprawiamy naszą reakcję i wydajność oraz stymulujemy układ nerwowy\, mięśnie\, ścięgna i stawy w niezwykle dynamiczny sposób.\nJest on kontynuowany po wakacjach – to doskonała okazja\, aby do niego dołączyć!\nDOŁĄCZ DO NAS! OD 13 WRZEŚNIA 2023 R.\, GODZ. 18.15-19.30\nTrenerzy:\nPascal Mele\, 5. Dan TKD & Isabell Schäfer\, 3. Dan TKD\nStart:\nŚroda\, 13 września 2023 r.\, godz. 18.15 – 19.30 każda\nProcedura:\nKurs ciągły\, wejście możliwe w dowolnym momencie\nOpłata za kurs:\n8\,00 € za jednostkę treningową + członkostwo w Landfrauen Jagstheim\nMiejsce:\nJagstauenhalle\, Jagstheimer Hauptstraße 157\, 74564 Crailsheim\nDo zabrania ze sobą:\nWygodna odzież sportowa\, napój\nWiążąca rejestracja:\nZ Kathrin Lenz (0176.426.01912) \n 
URL:https://jagstheim.de/event/kick-4-fit-to-program-fitness/2026-07-22/?lang=pl
LOCATION:Jagstauenhalle\, Główna ulica Jagstheimer 157\, Crailsheim\, Badenia-Wirtembergia\, 74564\, Deutschland
CATEGORIES:Countrywomen,Sportowy,Stowarzyszenie
END:VEVENT
BEGIN:VEVENT
DTSTART;TZID=Europe/Helsinki:20260729T181500
DTEND;TZID=Europe/Helsinki:20260729T193000
DTSTAMP:20260420T170931
CREATED:20230825T194007Z
LAST-MODIFIED:20230825T194207Z
UID:10002506-1785348900-1785353400@jagstheim.de
SUMMARY:KICK 4 Fit to program fitness
DESCRIPTION:KICK 4 Fit to program fitness z dynamicznymi elementami sztuki walki Taekwondo.\nCałkowicie bez przemocy\, trenujemy naszą szybkość\, wytrzymałość\, siłę i koordynację z młodymi i starszymi.\nPoprawiamy naszą reakcję i wydajność oraz stymulujemy układ nerwowy\, mięśnie\, ścięgna i stawy w niezwykle dynamiczny sposób.\nJest on kontynuowany po wakacjach – to doskonała okazja\, aby do niego dołączyć!\nDOŁĄCZ DO NAS! OD 13 WRZEŚNIA 2023 R.\, GODZ. 18.15-19.30\nTrenerzy:\nPascal Mele\, 5. Dan TKD & Isabell Schäfer\, 3. Dan TKD\nStart:\nŚroda\, 13 września 2023 r.\, godz. 18.15 – 19.30 każda\nProcedura:\nKurs ciągły\, wejście możliwe w dowolnym momencie\nOpłata za kurs:\n8\,00 € za jednostkę treningową + członkostwo w Landfrauen Jagstheim\nMiejsce:\nJagstauenhalle\, Jagstheimer Hauptstraße 157\, 74564 Crailsheim\nDo zabrania ze sobą:\nWygodna odzież sportowa\, napój\nWiążąca rejestracja:\nZ Kathrin Lenz (0176.426.01912) \n 
URL:https://jagstheim.de/event/kick-4-fit-to-program-fitness/2026-07-29/?lang=pl
LOCATION:Jagstauenhalle\, Główna ulica Jagstheimer 157\, Crailsheim\, Badenia-Wirtembergia\, 74564\, Deutschland
CATEGORIES:Countrywomen,Sportowy,Stowarzyszenie
END:VEVENT
BEGIN:VEVENT
DTSTART;TZID=Europe/Helsinki:20260731T190000
DTEND;TZID=Europe/Helsinki:20260731T210000
DTSTAMP:20260420T170931
CREATED:20251214T123854Z
LAST-MODIFIED:20251214T123911Z
UID:10007801-1785524400-1785531600@jagstheim.de
SUMMARY:Stowarzyszenie wsparcia usług pielęgniarskich Jagstheim
DESCRIPTION: 
URL:https://jagstheim.de/event/stowarzyszenie-wsparcia-uslug-pielegniarskich-jagstheim/?lang=pl
LOCATION:sala parafialna\, Droga do zbiornika 5\, Crailsheim\, 74564
CATEGORIES:Stowarzyszenie
END:VEVENT
END:VCALENDAR