BEGIN:VCALENDAR
VERSION:2.0
PRODID:-//Jagstheim - ECPv6.15.20//NONSGML v1.0//EN
CALSCALE:GREGORIAN
METHOD:PUBLISH
X-ORIGINAL-URL:https://jagstheim.de/?lang=pl
X-WR-CALDESC:Wydarzenia dla Jagstheim
REFRESH-INTERVAL;VALUE=DURATION:PT1H
X-Robots-Tag:noindex
X-PUBLISHED-TTL:PT1H
BEGIN:VTIMEZONE
TZID:Europe/Helsinki
BEGIN:DAYLIGHT
TZOFFSETFROM:+0200
TZOFFSETTO:+0300
TZNAME:EEST
DTSTART:20240331T010000
END:DAYLIGHT
BEGIN:STANDARD
TZOFFSETFROM:+0300
TZOFFSETTO:+0200
TZNAME:EET
DTSTART:20241027T010000
END:STANDARD
BEGIN:DAYLIGHT
TZOFFSETFROM:+0200
TZOFFSETTO:+0300
TZNAME:EEST
DTSTART:20250330T010000
END:DAYLIGHT
BEGIN:STANDARD
TZOFFSETFROM:+0300
TZOFFSETTO:+0200
TZNAME:EET
DTSTART:20251026T010000
END:STANDARD
BEGIN:DAYLIGHT
TZOFFSETFROM:+0200
TZOFFSETTO:+0300
TZNAME:EEST
DTSTART:20260329T010000
END:DAYLIGHT
BEGIN:STANDARD
TZOFFSETFROM:+0300
TZOFFSETTO:+0200
TZNAME:EET
DTSTART:20261025T010000
END:STANDARD
END:VTIMEZONE
BEGIN:VEVENT
DTSTART;TZID=Europe/Helsinki:20250903T181500
DTEND;TZID=Europe/Helsinki:20250903T193000
DTSTAMP:20260421T230911
CREATED:20230825T194007Z
LAST-MODIFIED:20230825T194207Z
UID:10002459-1756923300-1756927800@jagstheim.de
SUMMARY:KICK 4 Fit to program fitness
DESCRIPTION:KICK 4 Fit to program fitness z dynamicznymi elementami sztuki walki Taekwondo.\nCałkowicie bez przemocy\, trenujemy naszą szybkość\, wytrzymałość\, siłę i koordynację z młodymi i starszymi.\nPoprawiamy naszą reakcję i wydajność oraz stymulujemy układ nerwowy\, mięśnie\, ścięgna i stawy w niezwykle dynamiczny sposób.\nJest on kontynuowany po wakacjach – to doskonała okazja\, aby do niego dołączyć!\nDOŁĄCZ DO NAS! OD 13 WRZEŚNIA 2023 R.\, GODZ. 18.15-19.30\nTrenerzy:\nPascal Mele\, 5. Dan TKD & Isabell Schäfer\, 3. Dan TKD\nStart:\nŚroda\, 13 września 2023 r.\, godz. 18.15 – 19.30 każda\nProcedura:\nKurs ciągły\, wejście możliwe w dowolnym momencie\nOpłata za kurs:\n8\,00 € za jednostkę treningową + członkostwo w Landfrauen Jagstheim\nMiejsce:\nJagstauenhalle\, Jagstheimer Hauptstraße 157\, 74564 Crailsheim\nDo zabrania ze sobą:\nWygodna odzież sportowa\, napój\nWiążąca rejestracja:\nZ Kathrin Lenz (0176.426.01912) \n 
URL:https://jagstheim.de/event/kick-4-fit-to-program-fitness/2025-09-03/?lang=pl
LOCATION:Jagstauenhalle\, Główna ulica Jagstheimer 157\, Crailsheim\, Badenia-Wirtembergia\, 74564\, Deutschland
CATEGORIES:Countrywomen,Sportowy,Stowarzyszenie
END:VEVENT
BEGIN:VEVENT
DTSTART;TZID=Europe/Helsinki:20250910T181500
DTEND;TZID=Europe/Helsinki:20250910T193000
DTSTAMP:20260421T230911
CREATED:20230825T194007Z
LAST-MODIFIED:20230825T194207Z
UID:10002460-1757528100-1757532600@jagstheim.de
SUMMARY:KICK 4 Fit to program fitness
DESCRIPTION:KICK 4 Fit to program fitness z dynamicznymi elementami sztuki walki Taekwondo.\nCałkowicie bez przemocy\, trenujemy naszą szybkość\, wytrzymałość\, siłę i koordynację z młodymi i starszymi.\nPoprawiamy naszą reakcję i wydajność oraz stymulujemy układ nerwowy\, mięśnie\, ścięgna i stawy w niezwykle dynamiczny sposób.\nJest on kontynuowany po wakacjach – to doskonała okazja\, aby do niego dołączyć!\nDOŁĄCZ DO NAS! OD 13 WRZEŚNIA 2023 R.\, GODZ. 18.15-19.30\nTrenerzy:\nPascal Mele\, 5. Dan TKD & Isabell Schäfer\, 3. Dan TKD\nStart:\nŚroda\, 13 września 2023 r.\, godz. 18.15 – 19.30 każda\nProcedura:\nKurs ciągły\, wejście możliwe w dowolnym momencie\nOpłata za kurs:\n8\,00 € za jednostkę treningową + członkostwo w Landfrauen Jagstheim\nMiejsce:\nJagstauenhalle\, Jagstheimer Hauptstraße 157\, 74564 Crailsheim\nDo zabrania ze sobą:\nWygodna odzież sportowa\, napój\nWiążąca rejestracja:\nZ Kathrin Lenz (0176.426.01912) \n 
URL:https://jagstheim.de/event/kick-4-fit-to-program-fitness/2025-09-10/?lang=pl
LOCATION:Jagstauenhalle\, Główna ulica Jagstheimer 157\, Crailsheim\, Badenia-Wirtembergia\, 74564\, Deutschland
CATEGORIES:Countrywomen,Sportowy,Stowarzyszenie
END:VEVENT
BEGIN:VEVENT
DTSTART;TZID=Europe/Helsinki:20250917T181500
DTEND;TZID=Europe/Helsinki:20250917T193000
DTSTAMP:20260421T230911
CREATED:20230825T194007Z
LAST-MODIFIED:20230825T194207Z
UID:10002461-1758132900-1758137400@jagstheim.de
SUMMARY:KICK 4 Fit to program fitness
DESCRIPTION:KICK 4 Fit to program fitness z dynamicznymi elementami sztuki walki Taekwondo.\nCałkowicie bez przemocy\, trenujemy naszą szybkość\, wytrzymałość\, siłę i koordynację z młodymi i starszymi.\nPoprawiamy naszą reakcję i wydajność oraz stymulujemy układ nerwowy\, mięśnie\, ścięgna i stawy w niezwykle dynamiczny sposób.\nJest on kontynuowany po wakacjach – to doskonała okazja\, aby do niego dołączyć!\nDOŁĄCZ DO NAS! OD 13 WRZEŚNIA 2023 R.\, GODZ. 18.15-19.30\nTrenerzy:\nPascal Mele\, 5. Dan TKD & Isabell Schäfer\, 3. Dan TKD\nStart:\nŚroda\, 13 września 2023 r.\, godz. 18.15 – 19.30 każda\nProcedura:\nKurs ciągły\, wejście możliwe w dowolnym momencie\nOpłata za kurs:\n8\,00 € za jednostkę treningową + członkostwo w Landfrauen Jagstheim\nMiejsce:\nJagstauenhalle\, Jagstheimer Hauptstraße 157\, 74564 Crailsheim\nDo zabrania ze sobą:\nWygodna odzież sportowa\, napój\nWiążąca rejestracja:\nZ Kathrin Lenz (0176.426.01912) \n 
URL:https://jagstheim.de/event/kick-4-fit-to-program-fitness/2025-09-17/?lang=pl
LOCATION:Jagstauenhalle\, Główna ulica Jagstheimer 157\, Crailsheim\, Badenia-Wirtembergia\, 74564\, Deutschland
CATEGORIES:Countrywomen,Sportowy,Stowarzyszenie
END:VEVENT
BEGIN:VEVENT
DTSTART;TZID=Europe/Helsinki:20250924T181500
DTEND;TZID=Europe/Helsinki:20250924T193000
DTSTAMP:20260421T230911
CREATED:20230825T194007Z
LAST-MODIFIED:20230825T194207Z
UID:10002462-1758737700-1758742200@jagstheim.de
SUMMARY:KICK 4 Fit to program fitness
DESCRIPTION:KICK 4 Fit to program fitness z dynamicznymi elementami sztuki walki Taekwondo.\nCałkowicie bez przemocy\, trenujemy naszą szybkość\, wytrzymałość\, siłę i koordynację z młodymi i starszymi.\nPoprawiamy naszą reakcję i wydajność oraz stymulujemy układ nerwowy\, mięśnie\, ścięgna i stawy w niezwykle dynamiczny sposób.\nJest on kontynuowany po wakacjach – to doskonała okazja\, aby do niego dołączyć!\nDOŁĄCZ DO NAS! OD 13 WRZEŚNIA 2023 R.\, GODZ. 18.15-19.30\nTrenerzy:\nPascal Mele\, 5. Dan TKD & Isabell Schäfer\, 3. Dan TKD\nStart:\nŚroda\, 13 września 2023 r.\, godz. 18.15 – 19.30 każda\nProcedura:\nKurs ciągły\, wejście możliwe w dowolnym momencie\nOpłata za kurs:\n8\,00 € za jednostkę treningową + członkostwo w Landfrauen Jagstheim\nMiejsce:\nJagstauenhalle\, Jagstheimer Hauptstraße 157\, 74564 Crailsheim\nDo zabrania ze sobą:\nWygodna odzież sportowa\, napój\nWiążąca rejestracja:\nZ Kathrin Lenz (0176.426.01912) \n 
URL:https://jagstheim.de/event/kick-4-fit-to-program-fitness/2025-09-24/?lang=pl
LOCATION:Jagstauenhalle\, Główna ulica Jagstheimer 157\, Crailsheim\, Badenia-Wirtembergia\, 74564\, Deutschland
CATEGORIES:Countrywomen,Sportowy,Stowarzyszenie
END:VEVENT
END:VCALENDAR