BEGIN:VCALENDAR
VERSION:2.0
PRODID:-//Jagstheim - ECPv6.15.20//NONSGML v1.0//EN
CALSCALE:GREGORIAN
METHOD:PUBLISH
X-WR-CALNAME:Jagstheim
X-ORIGINAL-URL:https://jagstheim.de/?lang=pl
X-WR-CALDESC:Wydarzenia dla Jagstheim
REFRESH-INTERVAL;VALUE=DURATION:PT1H
X-Robots-Tag:noindex
X-PUBLISHED-TTL:PT1H
BEGIN:VTIMEZONE
TZID:Europe/Helsinki
BEGIN:DAYLIGHT
TZOFFSETFROM:+0200
TZOFFSETTO:+0300
TZNAME:EEST
DTSTART:20230326T010000
END:DAYLIGHT
BEGIN:STANDARD
TZOFFSETFROM:+0300
TZOFFSETTO:+0200
TZNAME:EET
DTSTART:20231029T010000
END:STANDARD
BEGIN:DAYLIGHT
TZOFFSETFROM:+0200
TZOFFSETTO:+0300
TZNAME:EEST
DTSTART:20240331T010000
END:DAYLIGHT
BEGIN:STANDARD
TZOFFSETFROM:+0300
TZOFFSETTO:+0200
TZNAME:EET
DTSTART:20241027T010000
END:STANDARD
BEGIN:DAYLIGHT
TZOFFSETFROM:+0200
TZOFFSETTO:+0300
TZNAME:EEST
DTSTART:20250330T010000
END:DAYLIGHT
BEGIN:STANDARD
TZOFFSETFROM:+0300
TZOFFSETTO:+0200
TZNAME:EET
DTSTART:20251026T010000
END:STANDARD
BEGIN:DAYLIGHT
TZOFFSETFROM:+0200
TZOFFSETTO:+0300
TZNAME:EEST
DTSTART:20260329T010000
END:DAYLIGHT
BEGIN:STANDARD
TZOFFSETFROM:+0300
TZOFFSETTO:+0200
TZNAME:EET
DTSTART:20261025T010000
END:STANDARD
END:VTIMEZONE
BEGIN:VEVENT
DTSTART;TZID=Europe/Helsinki:20250420T100000
DTEND;TZID=Europe/Helsinki:20250420T113000
DTSTAMP:20260425T193058
CREATED:20250205T060727Z
LAST-MODIFIED:20250205T060727Z
UID:10007570-1745143200-1745148600@jagstheim.de
SUMMARY:Nabożeństwo kościelne z chórem puzonowym
DESCRIPTION: 
URL:https://jagstheim.de/event/nabozenstwo-koscielne-z-chorem-puzonowym-2/?lang=pl
LOCATION:Kościół św. Mikołaja\, Droga do zbiornika 3\, Crailsheim\, Badenia-Wirtembergia\, 74564\, Deutschland
CATEGORIES:Protestant
END:VEVENT
BEGIN:VEVENT
DTSTART;TZID=Europe/Helsinki:20250418T150000
DTEND;TZID=Europe/Helsinki:20250418T170000
DTSTAMP:20260425T193058
CREATED:20250205T060727Z
LAST-MODIFIED:20250205T060727Z
UID:10007596-1744988400-1744995600@jagstheim.de
SUMMARY:Nabożeństwo komunijne
DESCRIPTION: 
URL:https://jagstheim.de/event/nabozenstwo-komunijne-2/?lang=pl
LOCATION:Kościół św. Mikołaja\, Droga do zbiornika 3\, Crailsheim\, Badenia-Wirtembergia\, 74564\, Deutschland
CATEGORIES:Protestant
END:VEVENT
BEGIN:VEVENT
DTSTART;TZID=Europe/Helsinki:20250417T193000
DTEND;TZID=Europe/Helsinki:20250417T203000
DTSTAMP:20260425T193058
CREATED:20250205T060726Z
LAST-MODIFIED:20250205T060726Z
UID:10007617-1744918200-1744921800@jagstheim.de
SUMMARY:Nabożeństwo komunijne
DESCRIPTION: 
URL:https://jagstheim.de/event/nabozenstwo-komunijne-3/?lang=pl
LOCATION:Kościół św. Mikołaja\, Droga do zbiornika 3\, Crailsheim\, Badenia-Wirtembergia\, 74564\, Deutschland
CATEGORIES:Protestant
END:VEVENT
BEGIN:VEVENT
DTSTART;TZID=Europe/Helsinki:20250413T000000
DTEND;TZID=Europe/Helsinki:20250413T000000
DTSTAMP:20260425T193058
CREATED:20250205T060726Z
LAST-MODIFIED:20250205T060726Z
UID:10007637-1744502400-1744502400@jagstheim.de
SUMMARY:Złote potwierdzenie
DESCRIPTION: 
URL:https://jagstheim.de/event/zlote-potwierdzenie/?lang=pl
LOCATION:Kościół św. Mikołaja\, Droga do zbiornika 3\, Crailsheim\, Badenia-Wirtembergia\, 74564\, Deutschland
CATEGORIES:Protestant
END:VEVENT
BEGIN:VEVENT
DTSTART;TZID=Europe/Helsinki:20250408T143000
DTEND;TZID=Europe/Helsinki:20250408T163000
DTSTAMP:20260425T193058
CREATED:20250205T060725Z
LAST-MODIFIED:20250205T060725Z
UID:10007663-1744122600-1744129800@jagstheim.de
SUMMARY:Popołudnie dla seniorów
DESCRIPTION: 
URL:https://jagstheim.de/event/popoludnie-dla-seniorow-10/?lang=pl
LOCATION:sala parafialna\, Droga do zbiornika 5\, Crailsheim\, 74564
CATEGORIES:Protestant
END:VEVENT
BEGIN:VEVENT
DTSTART;TZID=Europe/Helsinki:20250330T100000
DTEND;TZID=Europe/Helsinki:20250330T110000
DTSTAMP:20260425T193058
CREATED:20250205T060716Z
LAST-MODIFIED:20250205T060716Z
UID:10007605-1743328800-1743332400@jagstheim.de
SUMMARY:Nabożeństwo
DESCRIPTION: 
URL:https://jagstheim.de/event/nabozenstwo/?lang=pl
LOCATION:Kościół św. Mikołaja\, Droga do zbiornika 3\, Crailsheim\, Badenia-Wirtembergia\, 74564\, Deutschland
CATEGORIES:Protestant
END:VEVENT
BEGIN:VEVENT
DTSTART;TZID=Europe/Helsinki:20250311T143000
DTEND;TZID=Europe/Helsinki:20250311T163000
DTSTAMP:20260425T193058
CREATED:20250102T100132Z
LAST-MODIFIED:20250102T100132Z
UID:10007491-1741703400-1741710600@jagstheim.de
SUMMARY:Popołudnie dla seniorów
DESCRIPTION: 
URL:https://jagstheim.de/event/popoludnie-dla-seniorow-9/?lang=pl
LOCATION:sala parafialna\, Droga do zbiornika 5\, Crailsheim\, 74564
CATEGORIES:Kościół,Protestant
ATTACH;FMTTYPE=image/jpeg:https://jagstheim.de/wp-content/uploads/2023/07/sports-2863541_640.jpg
END:VEVENT
BEGIN:VEVENT
DTSTART;TZID=Europe/Helsinki:20250307T190000
DTEND;TZID=Europe/Helsinki:20250307T200000
DTSTAMP:20260425T193058
CREATED:20250102T095804Z
LAST-MODIFIED:20250102T095804Z
UID:10007466-1741374000-1741377600@jagstheim.de
SUMMARY:ecum. Obchody Światowego Dnia Modlitwy
DESCRIPTION: 
URL:https://jagstheim.de/event/ecum-obchody-swiatowego-dnia-modlitwy/?lang=pl
LOCATION:Katolicka sala parafialna\, Eichwald Road 16\, Crailsheim\, Badenia-Wirtembergia\, 74564\, Deutschland
CATEGORIES:katolik,Kościół
ATTACH;FMTTYPE=image/jpeg:https://jagstheim.de/wp-content/uploads/2023/07/bible-5255924_640.jpg
END:VEVENT
BEGIN:VEVENT
DTSTART;TZID=Europe/Helsinki:20250211T143000
DTEND;TZID=Europe/Helsinki:20250211T163000
DTSTAMP:20260425T193058
CREATED:20250102T090902Z
LAST-MODIFIED:20250102T090902Z
UID:10007389-1739284200-1739291400@jagstheim.de
SUMMARY:Popołudnie dla seniorów
DESCRIPTION: 
URL:https://jagstheim.de/event/popoludnie-dla-seniorow-8/?lang=pl
LOCATION:sala parafialna\, Droga do zbiornika 5\, Crailsheim\, 74564
CATEGORIES:Kościół,Protestant
END:VEVENT
BEGIN:VEVENT
DTSTART;TZID=Europe/Helsinki:20250114T143000
DTEND;TZID=Europe/Helsinki:20250114T153000
DTSTAMP:20260425T193058
CREATED:20250102T075528Z
LAST-MODIFIED:20250102T075528Z
UID:10007324-1736865000-1736868600@jagstheim.de
SUMMARY:Popołudnie dla seniorów
DESCRIPTION: 
URL:https://jagstheim.de/event/popoludnie-dla-seniorow-7/?lang=pl
LOCATION:sala parafialna\, Droga do zbiornika 5\, Crailsheim\, 74564
CATEGORIES:Kościół,Protestant
ATTACH;FMTTYPE=image/jpeg:https://jagstheim.de/wp-content/uploads/2023/07/coffee-shop-3699340-scaled.jpg
END:VEVENT
BEGIN:VEVENT
DTSTART;TZID=Europe/Helsinki:20250106T101500
DTEND;TZID=Europe/Helsinki:20250106T111500
DTSTAMP:20260425T193058
CREATED:20250102T075306Z
LAST-MODIFIED:20250102T075306Z
UID:10007313-1736158500-1736162100@jagstheim.de
SUMMARY:Usługi okręgowe w Onolzheim
DESCRIPTION: 
URL:https://jagstheim.de/event/uslugi-okregowe-w-onolzheim/?lang=pl
LOCATION:Baden-Württemberg
CATEGORIES:Kościół,Protestant
ATTACH;FMTTYPE=image/jpeg:https://jagstheim.de/wp-content/uploads/2023/07/bible-5255924_640.jpg
END:VEVENT
BEGIN:VEVENT
DTSTART;TZID=Europe/Helsinki:20241230T190000
DTEND;TZID=Europe/Helsinki:20241230T203000
DTSTAMP:20260425T193059
CREATED:20240107T122627Z
LAST-MODIFIED:20240107T122627Z
UID:10005055-1735585200-1735590600@jagstheim.de
SUMMARY:Nabożeństwo komunijne
DESCRIPTION: 
URL:https://jagstheim.de/event/nabozenstwo-komunijne/?lang=pl
LOCATION:Kościół św. Mikołaja\, Droga do zbiornika 3\, Crailsheim\, Badenia-Wirtembergia\, 74564\, Deutschland
CATEGORIES:Kościół,Protestant
END:VEVENT
BEGIN:VEVENT
DTSTART;TZID=Europe/Helsinki:20241224T100000
DTEND;TZID=Europe/Helsinki:20241224T113000
DTSTAMP:20260425T193059
CREATED:20240107T122514Z
LAST-MODIFIED:20240107T122514Z
UID:10005048-1735034400-1735039800@jagstheim.de
SUMMARY:Serwis świąteczny
DESCRIPTION: 
URL:https://jagstheim.de/event/serwis-swiateczny/?lang=pl
LOCATION:Kościół św. Mikołaja\, Droga do zbiornika 3\, Crailsheim\, Badenia-Wirtembergia\, 74564\, Deutschland
CATEGORIES:Kościół,Protestant
END:VEVENT
BEGIN:VEVENT
DTSTART;TZID=Europe/Helsinki:20241223T190000
DTEND;TZID=Europe/Helsinki:20241223T200000
DTSTAMP:20260425T193059
CREATED:20240107T122359Z
LAST-MODIFIED:20240107T122359Z
UID:10005038-1734980400-1734984000@jagstheim.de
SUMMARY:Msza bożonarodzeniowa
DESCRIPTION: 
URL:https://jagstheim.de/event/msza-bozonarodzeniowa/?lang=pl
LOCATION:Kościół św. Mikołaja\, Droga do zbiornika 3\, Crailsheim\, Badenia-Wirtembergia\, 74564\, Deutschland
CATEGORIES:Kościół,Protestant
END:VEVENT
BEGIN:VEVENT
DTSTART;TZID=Europe/Helsinki:20241223T160000
DTEND;TZID=Europe/Helsinki:20241223T170000
DTSTAMP:20260425T193059
CREATED:20240107T122243Z
LAST-MODIFIED:20240107T122243Z
UID:10005026-1734969600-1734973200@jagstheim.de
SUMMARY:Usługa rodzinna
DESCRIPTION: 
URL:https://jagstheim.de/event/usluga-rodzinna/?lang=pl
LOCATION:Kościół św. Mikołaja\, Droga do zbiornika 3\, Crailsheim\, Badenia-Wirtembergia\, 74564\, Deutschland
CATEGORIES:Kościół,Protestant
END:VEVENT
BEGIN:VEVENT
DTSTART;TZID=Europe/Helsinki:20241209T143000
DTEND;TZID=Europe/Helsinki:20241209T163000
DTSTAMP:20260425T193059
CREATED:20240107T121449Z
LAST-MODIFIED:20240107T121449Z
UID:10004971-1733754600-1733761800@jagstheim.de
SUMMARY:Impreza bożonarodzeniowa dla seniorów
DESCRIPTION: 
URL:https://jagstheim.de/event/impreza-bozonarodzeniowa-dla-seniorow/?lang=pl
LOCATION:sala parafialna\, Droga do zbiornika 5\, Crailsheim\, 74564
CATEGORIES:Kościół,Protestant
END:VEVENT
BEGIN:VEVENT
DTSTART;TZID=Europe/Helsinki:20241208T100000
DTEND;TZID=Europe/Helsinki:20241208T130000
DTSTAMP:20260425T193059
CREATED:20240107T122120Z
LAST-MODIFIED:20240107T122120Z
UID:10005010-1733652000-1733662800@jagstheim.de
SUMMARY:ecum. Nabożeństwo adwentowe\, pomarańczowa kampania ejcr\, obiad 11.30.
DESCRIPTION: 
URL:https://jagstheim.de/event/ecum-nabozenstwo-adwentowe-pomaranczowa-kampania-ejcr-obiad-11-30/?lang=pl
LOCATION:Kościół św. Mikołaja\, Droga do zbiornika 3\, Crailsheim\, Badenia-Wirtembergia\, 74564\, Deutschland
CATEGORIES:katolik,Kościół,Protestant
END:VEVENT
BEGIN:VEVENT
DTSTART;TZID=Europe/Helsinki:20241204T140000
DTEND;TZID=Europe/Helsinki:20241204T160000
DTSTAMP:20260425T193059
CREATED:20240107T120034Z
LAST-MODIFIED:20240107T120034Z
UID:10004871-1733320800-1733328000@jagstheim.de
SUMMARY:Old People's Club
DESCRIPTION: 
URL:https://jagstheim.de/event/old-peoples-club-11/?lang=pl
LOCATION:Katolicka sala parafialna\, Eichwald Road 16\, Crailsheim\, Badenia-Wirtembergia\, 74564\, Deutschland
CATEGORIES:katolik,Kościół
END:VEVENT
BEGIN:VEVENT
DTSTART;TZID=Europe/Helsinki:20241123T100000
DTEND;TZID=Europe/Helsinki:20241123T110000
DTSTAMP:20260425T193059
CREATED:20240107T121711Z
LAST-MODIFIED:20240107T121711Z
UID:10004993-1732356000-1732359600@jagstheim.de
SUMMARY:Nabożeństwo żałobne za zmarłego
DESCRIPTION: 
URL:https://jagstheim.de/event/nabozenstwo-zalobne-za-zmarlego/?lang=pl
LOCATION:Kościół św. Mikołaja\, Droga do zbiornika 3\, Crailsheim\, Badenia-Wirtembergia\, 74564\, Deutschland
CATEGORIES:Kościół,Protestant
END:VEVENT
BEGIN:VEVENT
DTSTART;TZID=Europe/Helsinki:20241117T100000
DTEND;TZID=Europe/Helsinki:20241117T120000
DTSTAMP:20260425T193059
CREATED:20240107T121603Z
LAST-MODIFIED:20240107T121603Z
UID:10004982-1731837600-1731844800@jagstheim.de
SUMMARY:ecum. Nabożeństwo z okazji Dnia Pamięci z udziałem władz lokalnych i VfB
DESCRIPTION: 
URL:https://jagstheim.de/event/ecum-nabozenstwo-z-okazji-dnia-pamieci-z-udzialem-wladz-lokalnych-i-vfb/?lang=pl
LOCATION:Sala Cmentarna\, Jagstheimer Haupstraße 160\, Crailsheim\, Badenia-Wirtembergia\, 74564\, Deutschland
CATEGORIES:katolik,Kościół,Protestant
END:VEVENT
BEGIN:VEVENT
DTSTART;TZID=Europe/Helsinki:20241112T143000
DTEND;TZID=Europe/Helsinki:20241112T163000
DTSTAMP:20260425T193059
CREATED:20240107T121303Z
LAST-MODIFIED:20240107T121303Z
UID:10004959-1731421800-1731429000@jagstheim.de
SUMMARY:Popołudnie dla seniorów
DESCRIPTION: 
URL:https://jagstheim.de/event/popoludnie-dla-seniorow-6/?lang=pl
LOCATION:sala parafialna\, Droga do zbiornika 5\, Crailsheim\, 74564
CATEGORIES:Kościół,Protestant
END:VEVENT
BEGIN:VEVENT
DTSTART;TZID=Europe/Helsinki:20241111T173000
DTEND;TZID=Europe/Helsinki:20241111T180000
DTSTAMP:20260425T193059
CREATED:20240107T121032Z
LAST-MODIFIED:20240107T121032Z
UID:10004938-1731346200-1731348000@jagstheim.de
SUMMARY:Nabożeństwo Martinmas
DESCRIPTION: 
URL:https://jagstheim.de/event/nabozenstwo-martinmas/?lang=pl
LOCATION:Kościół św. Mikołaja\, Droga do zbiornika 3\, Crailsheim\, Badenia-Wirtembergia\, 74564\, Deutschland
CATEGORIES:Kościół,Protestant
END:VEVENT
BEGIN:VEVENT
DTSTART;TZID=Europe/Helsinki:20241106T140000
DTEND;TZID=Europe/Helsinki:20241106T160000
DTSTAMP:20260425T193059
CREATED:20240107T115938Z
LAST-MODIFIED:20240107T115938Z
UID:10004862-1730901600-1730908800@jagstheim.de
SUMMARY:Old People's Club
DESCRIPTION: 
URL:https://jagstheim.de/event/old-peoples-club-10/?lang=pl
LOCATION:Katolicka sala parafialna\, Eichwald Road 16\, Crailsheim\, Badenia-Wirtembergia\, 74564\, Deutschland
CATEGORIES:katolik,Kościół
END:VEVENT
BEGIN:VEVENT
DTSTART;TZID=Europe/Helsinki:20241008T143000
DTEND;TZID=Europe/Helsinki:20241008T163000
DTSTAMP:20260425T193059
CREATED:20240107T120516Z
LAST-MODIFIED:20240107T120516Z
UID:10004905-1728397800-1728405000@jagstheim.de
SUMMARY:Popołudnie dla seniorów
DESCRIPTION: 
URL:https://jagstheim.de/event/popoludnie-dla-seniorow-5/?lang=pl
LOCATION:sala parafialna\, Droga do zbiornika 5\, Crailsheim\, 74564
CATEGORIES:Kościół,Protestant
END:VEVENT
BEGIN:VEVENT
DTSTART;TZID=Europe/Helsinki:20241006T100000
DTEND;TZID=Europe/Helsinki:20241006T110000
DTSTAMP:20260425T193059
CREATED:20240107T120231Z
LAST-MODIFIED:20240107T120231Z
UID:10004882-1728208800-1728212400@jagstheim.de
SUMMARY:Dożynki
DESCRIPTION: 
URL:https://jagstheim.de/event/dozynki/?lang=pl
LOCATION:Kościół św. Mikołaja\, Droga do zbiornika 3\, Crailsheim\, Badenia-Wirtembergia\, 74564\, Deutschland
CATEGORIES:Kościół,Protestant
END:VEVENT
BEGIN:VEVENT
DTSTART;TZID=Europe/Helsinki:20241006T091500
DTEND;TZID=Europe/Helsinki:20241006T120000
DTSTAMP:20260425T193059
CREATED:20240107T120401Z
LAST-MODIFIED:20240107T120401Z
UID:10004893-1728206100-1728216000@jagstheim.de
SUMMARY:Dożynkowe nabożeństwo dziękczynne z późniejszym świętowaniem. Śniadanie w sali parafialnej
DESCRIPTION: 
URL:https://jagstheim.de/event/dozynkowe-nabozenstwo-dziekczynne-z-pozniejszym-swietowaniem-sniadanie-w-sali-parafialnej/?lang=pl
LOCATION:Parafia katolicka Piotra i Pawła\, Eichwald Road 16\, Crailsheim\, 74564\, Deutschland
CATEGORIES:katolik,Kościół
END:VEVENT
BEGIN:VEVENT
DTSTART;TZID=Europe/Helsinki:20241002T140000
DTEND;TZID=Europe/Helsinki:20241002T160000
DTSTAMP:20260425T193059
CREATED:20240107T115830Z
LAST-MODIFIED:20240107T115830Z
UID:10004849-1727877600-1727884800@jagstheim.de
SUMMARY:Old People's Club
DESCRIPTION: 
URL:https://jagstheim.de/event/old-peoples-club-9/?lang=pl
LOCATION:Katolicka sala parafialna\, Eichwald Road 16\, Crailsheim\, Badenia-Wirtembergia\, 74564\, Deutschland
CATEGORIES:katolik,Kościół
END:VEVENT
BEGIN:VEVENT
DTSTART;TZID=Europe/Helsinki:20240904T140000
DTEND;TZID=Europe/Helsinki:20240904T160000
DTSTAMP:20260425T193059
CREATED:20240107T115703Z
LAST-MODIFIED:20240107T115703Z
UID:10004839-1725458400-1725465600@jagstheim.de
SUMMARY:Old People's Club
DESCRIPTION: 
URL:https://jagstheim.de/event/old-peoples-club-8/?lang=pl
LOCATION:Katolicka sala parafialna\, Eichwald Road 16\, Crailsheim\, Badenia-Wirtembergia\, 74564\, Deutschland
CATEGORIES:katolik,Kościół
END:VEVENT
BEGIN:VEVENT
DTSTART;TZID=Europe/Helsinki:20240725T200000
DTEND;TZID=Europe/Helsinki:20240725T210000
DTSTAMP:20260425T193059
CREATED:20240107T115318Z
LAST-MODIFIED:20240107T115318Z
UID:10004805-1721937600-1721941200@jagstheim.de
SUMMARY:Niech żyje święto
DESCRIPTION: 
URL:https://jagstheim.de/event/niech-zyje-swieto/?lang=pl
LOCATION:Kościół św. Mikołaja\, Droga do zbiornika 3\, Crailsheim\, Badenia-Wirtembergia\, 74564\, Deutschland
CATEGORIES:Kościół,Protestant
END:VEVENT
BEGIN:VEVENT
DTSTART;TZID=Europe/Helsinki:20240629T180000
DTEND;TZID=Europe/Helsinki:20240629T200000
DTSTAMP:20260425T193059
CREATED:20240107T114026Z
LAST-MODIFIED:20240107T114026Z
UID:10004738-1719684000-1719691200@jagstheim.de
SUMMARY:Festiwal Piotra i Pawła
DESCRIPTION: 
URL:https://jagstheim.de/event/festiwal-piotra-i-pawla/?lang=pl
LOCATION:Parafia katolicka Piotra i Pawła\, Eichwald Road 16\, Crailsheim\, 74564\, Deutschland
CATEGORIES:katolik,Kościół
END:VEVENT
END:VCALENDAR