BEGIN:VCALENDAR
VERSION:2.0
PRODID:-//Jagstheim - ECPv6.15.20//NONSGML v1.0//EN
CALSCALE:GREGORIAN
METHOD:PUBLISH
X-WR-CALNAME:Jagstheim
X-ORIGINAL-URL:https://jagstheim.de/?lang=pl
X-WR-CALDESC:Wydarzenia dla Jagstheim
REFRESH-INTERVAL;VALUE=DURATION:PT1H
X-Robots-Tag:noindex
X-PUBLISHED-TTL:PT1H
BEGIN:VTIMEZONE
TZID:Europe/Helsinki
BEGIN:DAYLIGHT
TZOFFSETFROM:+0200
TZOFFSETTO:+0300
TZNAME:EEST
DTSTART:20230326T010000
END:DAYLIGHT
BEGIN:STANDARD
TZOFFSETFROM:+0300
TZOFFSETTO:+0200
TZNAME:EET
DTSTART:20231029T010000
END:STANDARD
BEGIN:DAYLIGHT
TZOFFSETFROM:+0200
TZOFFSETTO:+0300
TZNAME:EEST
DTSTART:20240331T010000
END:DAYLIGHT
BEGIN:STANDARD
TZOFFSETFROM:+0300
TZOFFSETTO:+0200
TZNAME:EET
DTSTART:20241027T010000
END:STANDARD
BEGIN:DAYLIGHT
TZOFFSETFROM:+0200
TZOFFSETTO:+0300
TZNAME:EEST
DTSTART:20250330T010000
END:DAYLIGHT
BEGIN:STANDARD
TZOFFSETFROM:+0300
TZOFFSETTO:+0200
TZNAME:EET
DTSTART:20251026T010000
END:STANDARD
END:VTIMEZONE
BEGIN:VEVENT
DTSTART;TZID=Europe/Helsinki:20241204T140000
DTEND;TZID=Europe/Helsinki:20241204T160000
DTSTAMP:20260426T062823
CREATED:20240107T120034Z
LAST-MODIFIED:20240107T120034Z
UID:10004871-1733320800-1733328000@jagstheim.de
SUMMARY:Old People's Club
DESCRIPTION: 
URL:https://jagstheim.de/event/old-peoples-club-11/?lang=pl
LOCATION:Katolicka sala parafialna\, Eichwald Road 16\, Crailsheim\, Badenia-Wirtembergia\, 74564\, Deutschland
CATEGORIES:katolik,Kościół
END:VEVENT
BEGIN:VEVENT
DTSTART;TZID=Europe/Helsinki:20241208T100000
DTEND;TZID=Europe/Helsinki:20241208T130000
DTSTAMP:20260426T062823
CREATED:20240107T122120Z
LAST-MODIFIED:20240107T122120Z
UID:10005010-1733652000-1733662800@jagstheim.de
SUMMARY:ecum. Nabożeństwo adwentowe\, pomarańczowa kampania ejcr\, obiad 11.30.
DESCRIPTION: 
URL:https://jagstheim.de/event/ecum-nabozenstwo-adwentowe-pomaranczowa-kampania-ejcr-obiad-11-30/?lang=pl
LOCATION:Kościół św. Mikołaja\, Droga do zbiornika 3\, Crailsheim\, Badenia-Wirtembergia\, 74564\, Deutschland
CATEGORIES:katolik,Kościół,Protestant
END:VEVENT
END:VCALENDAR