BEGIN:VCALENDAR
VERSION:2.0
PRODID:-//Jagstheim - ECPv6.15.20//NONSGML v1.0//EN
CALSCALE:GREGORIAN
METHOD:PUBLISH
X-WR-CALNAME:Jagstheim
X-ORIGINAL-URL:https://jagstheim.de/?lang=en
X-WR-CALDESC:Events for Jagstheim
REFRESH-INTERVAL;VALUE=DURATION:PT1H
X-Robots-Tag:noindex
X-PUBLISHED-TTL:PT1H
BEGIN:VTIMEZONE
TZID:Europe/Helsinki
BEGIN:DAYLIGHT
TZOFFSETFROM:+0200
TZOFFSETTO:+0300
TZNAME:EEST
DTSTART:20220327T010000
END:DAYLIGHT
BEGIN:STANDARD
TZOFFSETFROM:+0300
TZOFFSETTO:+0200
TZNAME:EET
DTSTART:20221030T010000
END:STANDARD
BEGIN:DAYLIGHT
TZOFFSETFROM:+0200
TZOFFSETTO:+0300
TZNAME:EEST
DTSTART:20230326T010000
END:DAYLIGHT
BEGIN:STANDARD
TZOFFSETFROM:+0300
TZOFFSETTO:+0200
TZNAME:EET
DTSTART:20231029T010000
END:STANDARD
BEGIN:DAYLIGHT
TZOFFSETFROM:+0200
TZOFFSETTO:+0300
TZNAME:EEST
DTSTART:20240331T010000
END:DAYLIGHT
BEGIN:STANDARD
TZOFFSETFROM:+0300
TZOFFSETTO:+0200
TZNAME:EET
DTSTART:20241027T010000
END:STANDARD
END:VTIMEZONE
BEGIN:VEVENT
DTSTART;VALUE=DATE:20231031
DTEND;VALUE=DATE:20231101
DTSTAMP:20260420T102453
CREATED:20230526T080956Z
LAST-MODIFIED:20230711T143743Z
UID:10000091-1698710400-1698796799@jagstheim.de
SUMMARY:Organic waste and residual waste
DESCRIPTION:Crailsheim – District 4 \nSchwäbisch Hall District | Waste Calendar | (lrasha.de) \n 
URL:https://jagstheim.de/event/organic-waste-and-residual-waste-6-2/?lang=en
CATEGORIES:Waste disposal
ATTACH;FMTTYPE=image/webp:https://jagstheim.de/wp-content/uploads/2023/07/BioRest.webp
END:VEVENT
BEGIN:VEVENT
DTSTART;VALUE=DATE:20231027
DTEND;VALUE=DATE:20231028
DTSTAMP:20260420T102454
CREATED:20230526T080953Z
LAST-MODIFIED:20230711T143353Z
UID:10000101-1698364800-1698451199@jagstheim.de
SUMMARY:Yellow bag and paper garbage can
DESCRIPTION:Crailsheim – District 4 \nSchwäbisch Hall District | Waste Calendar | (lrasha.de) \n 
URL:https://jagstheim.de/event/yellow-bag-and-paper-garbage-can-5/?lang=en
CATEGORIES:Waste disposal
ATTACH;FMTTYPE=image/webp:https://jagstheim.de/wp-content/uploads/2023/07/GelbPapier.webp
END:VEVENT
BEGIN:VEVENT
DTSTART;VALUE=DATE:20231017
DTEND;VALUE=DATE:20231018
DTSTAMP:20260420T102454
CREATED:20230526T080953Z
LAST-MODIFIED:20230711T143805Z
UID:10000108-1697500800-1697587199@jagstheim.de
SUMMARY:Organic waste and residual waste
DESCRIPTION:Crailsheim – District 4 \nSchwäbisch Hall District | Waste Calendar | (lrasha.de) \n 
URL:https://jagstheim.de/event/organic-waste-and-residual-waste-8/?lang=en
CATEGORIES:Waste disposal
ATTACH;FMTTYPE=image/webp:https://jagstheim.de/wp-content/uploads/2023/07/BioRest.webp
END:VEVENT
BEGIN:VEVENT
DTSTART;VALUE=DATE:20230930
DTEND;VALUE=DATE:20231001
DTSTAMP:20260420T102454
CREATED:20230526T080952Z
LAST-MODIFIED:20230711T143824Z
UID:10000128-1696032000-1696118399@jagstheim.de
SUMMARY:Organic waste and residual waste
DESCRIPTION:Crailsheim – District 4 \nSchwäbisch Hall District | Waste Calendar | (lrasha.de) \n 
URL:https://jagstheim.de/event/organic-waste-and-residual-waste-9/?lang=en
CATEGORIES:Waste disposal
ATTACH;FMTTYPE=image/webp:https://jagstheim.de/wp-content/uploads/2023/07/BioRest.webp
END:VEVENT
BEGIN:VEVENT
DTSTART;VALUE=DATE:20230929
DTEND;VALUE=DATE:20230930
DTSTAMP:20260420T102454
CREATED:20230526T080952Z
LAST-MODIFIED:20230711T143225Z
UID:10000103-1695945600-1696031999@jagstheim.de
SUMMARY:Yellow bag and paper garbage can
DESCRIPTION:Crailsheim – District 4 \nSchwäbisch Hall District | Waste Calendar | (lrasha.de) \n 
URL:https://jagstheim.de/event/yellow-bag-and-paper-garbage-can-4/?lang=en
CATEGORIES:Waste disposal
ATTACH;FMTTYPE=image/webp:https://jagstheim.de/wp-content/uploads/2023/07/GelbPapier.webp
END:VEVENT
BEGIN:VEVENT
DTSTART;VALUE=DATE:20230919
DTEND;VALUE=DATE:20230920
DTSTAMP:20260420T102454
CREATED:20230526T080951Z
LAST-MODIFIED:20230711T143843Z
UID:10000112-1695081600-1695167999@jagstheim.de
SUMMARY:Organic waste and residual waste
DESCRIPTION:Crailsheim – District 4 \nSchwäbisch Hall District | Waste Calendar | (lrasha.de) \n 
URL:https://jagstheim.de/event/organic-waste-and-residual-waste-6/?lang=en
CATEGORIES:Waste disposal
ATTACH;FMTTYPE=image/webp:https://jagstheim.de/wp-content/uploads/2023/07/BioRest.webp
END:VEVENT
BEGIN:VEVENT
DTSTART;VALUE=DATE:20230905
DTEND;VALUE=DATE:20230906
DTSTAMP:20260420T102454
CREATED:20230525T180315Z
LAST-MODIFIED:20230711T143906Z
UID:10000088-1693872000-1693958399@jagstheim.de
SUMMARY:Organic waste and residual waste
DESCRIPTION:Crailsheim – District 4 \nSchwäbisch Hall District | Waste Calendar | (lrasha.de) \n 
URL:https://jagstheim.de/event/organic-waste-and-residual-waste-7/?lang=en
CATEGORIES:Waste disposal
ATTACH;FMTTYPE=image/webp:https://jagstheim.de/wp-content/uploads/2023/07/BioRest.webp
END:VEVENT
BEGIN:VEVENT
DTSTART;VALUE=DATE:20230901
DTEND;VALUE=DATE:20230902
DTSTAMP:20260420T102454
CREATED:20230525T180315Z
LAST-MODIFIED:20230711T143053Z
UID:10000126-1693526400-1693612799@jagstheim.de
SUMMARY:Yellow bag and paper garbage can
DESCRIPTION:Crailsheim – District 4 \nSchwäbisch Hall District | Waste Calendar | (lrasha.de) \n 
URL:https://jagstheim.de/event/yellow-bag-and-paper-garbage-can-6/?lang=en
CATEGORIES:Waste disposal
ATTACH;FMTTYPE=image/webp:https://jagstheim.de/wp-content/uploads/2023/07/GelbPapier.webp
END:VEVENT
BEGIN:VEVENT
DTSTART;VALUE=DATE:20230822
DTEND;VALUE=DATE:20230823
DTSTAMP:20260420T102454
CREATED:20230525T180314Z
LAST-MODIFIED:20230711T143927Z
UID:10000081-1692662400-1692748799@jagstheim.de
SUMMARY:Organic waste and residual waste
DESCRIPTION:Crailsheim – District 4 \nSchwäbisch Hall District | Waste Calendar | (lrasha.de) \n 
URL:https://jagstheim.de/event/organic-waste-and-residual-waste-4-2/?lang=en
CATEGORIES:Waste disposal
ATTACH;FMTTYPE=image/webp:https://jagstheim.de/wp-content/uploads/2023/07/BioRest.webp
END:VEVENT
BEGIN:VEVENT
DTSTART;VALUE=DATE:20230808
DTEND;VALUE=DATE:20230809
DTSTAMP:20260420T102454
CREATED:20230525T180314Z
LAST-MODIFIED:20230711T143945Z
UID:10000079-1691452800-1691539199@jagstheim.de
SUMMARY:Organic waste and residual waste
DESCRIPTION:Crailsheim – District 4 \nSchwäbisch Hall District | Waste Calendar | (lrasha.de) \n 
URL:https://jagstheim.de/event/organic-waste-and-residual-waste-4/?lang=en
CATEGORIES:Waste disposal
ATTACH;FMTTYPE=image/webp:https://jagstheim.de/wp-content/uploads/2023/07/BioRest.webp
END:VEVENT
BEGIN:VEVENT
DTSTART;VALUE=DATE:20230804
DTEND;VALUE=DATE:20230805
DTSTAMP:20260420T102454
CREATED:20230525T180313Z
LAST-MODIFIED:20230711T142853Z
UID:10000072-1691107200-1691193599@jagstheim.de
SUMMARY:Yellow bag and paper garbage can
DESCRIPTION:Crailsheim – District 4 \nSchwäbisch Hall District | Waste Calendar | (lrasha.de) \n 
URL:https://jagstheim.de/event/yellow-bag-and-paper-garbage-can-3/?lang=en
CATEGORIES:Waste disposal
ATTACH;FMTTYPE=image/webp:https://jagstheim.de/wp-content/uploads/2023/07/GelbPapier.webp
END:VEVENT
BEGIN:VEVENT
DTSTART;VALUE=DATE:20230725
DTEND;VALUE=DATE:20230726
DTSTAMP:20260420T102454
CREATED:20230525T180310Z
LAST-MODIFIED:20230711T144011Z
UID:10000100-1690243200-1690329599@jagstheim.de
SUMMARY:Organic waste and residual waste
DESCRIPTION:Crailsheim – District 4 \nSchwäbisch Hall District | Waste Calendar | (lrasha.de) \n 
URL:https://jagstheim.de/event/organic-waste-and-residual-waste-5/?lang=en
CATEGORIES:Waste disposal
ATTACH;FMTTYPE=image/webp:https://jagstheim.de/wp-content/uploads/2023/07/BioRest.webp
END:VEVENT
BEGIN:VEVENT
DTSTART;VALUE=DATE:20230711
DTEND;VALUE=DATE:20230712
DTSTAMP:20260420T102454
CREATED:20230525T180310Z
LAST-MODIFIED:20230711T144031Z
UID:10000067-1689033600-1689119999@jagstheim.de
SUMMARY:Organic waste and residual waste
DESCRIPTION:Crailsheim – District 4 \nSchwäbisch Hall District | Waste Calendar | (lrasha.de) \n 
URL:https://jagstheim.de/event/organic-waste-and-residual-waste-3/?lang=en
CATEGORIES:Waste disposal
ATTACH;FMTTYPE=image/webp:https://jagstheim.de/wp-content/uploads/2023/07/BioRest.webp
END:VEVENT
BEGIN:VEVENT
DTSTART;VALUE=DATE:20230707
DTEND;VALUE=DATE:20230708
DTSTAMP:20260420T102454
CREATED:20230525T180309Z
LAST-MODIFIED:20230711T142720Z
UID:10000064-1688688000-1688774399@jagstheim.de
SUMMARY:Yellow bag and paper garbage can
DESCRIPTION:Crailsheim – District 4 \nSchwäbisch Hall District | Waste Calendar | (lrasha.de) \n 
URL:https://jagstheim.de/event/yellow-bag-and-paper-garbage-can-2/?lang=en
CATEGORIES:Waste disposal
ATTACH;FMTTYPE=image/webp:https://jagstheim.de/wp-content/uploads/2023/07/GelbPapier.webp
END:VEVENT
BEGIN:VEVENT
DTSTART;VALUE=DATE:20230627
DTEND;VALUE=DATE:20230628
DTSTAMP:20260420T102454
CREATED:20230525T180309Z
LAST-MODIFIED:20230711T144049Z
UID:10000054-1687824000-1687910399@jagstheim.de
SUMMARY:Organic waste and residual waste
DESCRIPTION:Crailsheim – District 4 \nSchwäbisch Hall District | Waste Calendar | (lrasha.de) \n 
URL:https://jagstheim.de/event/organic-waste-and-residual-waste-2/?lang=en
CATEGORIES:Waste disposal
ATTACH;FMTTYPE=image/webp:https://jagstheim.de/wp-content/uploads/2023/07/BioRest.webp
END:VEVENT
BEGIN:VEVENT
DTSTART;VALUE=DATE:20230613
DTEND;VALUE=DATE:20230614
DTSTAMP:20260420T102454
CREATED:20230525T180308Z
LAST-MODIFIED:20230711T144110Z
UID:10000046-1686614400-1686700799@jagstheim.de
SUMMARY:Organic waste and residual waste
DESCRIPTION:Crailsheim – District 4 \nSchwäbisch Hall District | Waste Calendar | (lrasha.de) \n 
URL:https://jagstheim.de/event/organic-waste-and-residual-waste/?lang=en
CATEGORIES:Waste disposal
ATTACH;FMTTYPE=image/webp:https://jagstheim.de/wp-content/uploads/2023/07/BioRest.webp
END:VEVENT
BEGIN:VEVENT
DTSTART;VALUE=DATE:20230609
DTEND;VALUE=DATE:20230610
DTSTAMP:20260420T102454
CREATED:20230525T173943Z
LAST-MODIFIED:20230706T110524Z
UID:10000053-1686268800-1686355199@jagstheim.de
SUMMARY:Yellow bag and paper garbage can
DESCRIPTION:Crailsheim – District 4 \nSchwäbisch Hall District | Waste Calendar | (lrasha.de) \n 
URL:https://jagstheim.de/event/yellow-bag-and-paper-garbage-can/?lang=en
CATEGORIES:Waste disposal
ATTACH;FMTTYPE=image/webp:https://jagstheim.de/wp-content/uploads/2023/07/GelbPapier.webp
END:VEVENT
BEGIN:VEVENT
DTSTART;VALUE=DATE:20230530
DTEND;VALUE=DATE:20230531
DTSTAMP:20260420T102454
CREATED:20230525T173942Z
LAST-MODIFIED:20230706T110526Z
UID:10000047-1685404800-1685491199@jagstheim.de
SUMMARY:Organic waste and residual waste
DESCRIPTION:Crailsheim – District 4 \nSchwäbisch Hall District | Waste Calendar | (lrasha.de) \n 
URL:https://jagstheim.de/event/organic-waste-and-residual-waste-19/?lang=en
CATEGORIES:Waste disposal
ATTACH;FMTTYPE=image/webp:https://jagstheim.de/wp-content/uploads/2023/07/BioRest.webp
END:VEVENT
END:VCALENDAR