BEGIN:VCALENDAR
VERSION:2.0
PRODID:-//Jagstheim - ECPv6.15.20//NONSGML v1.0//EN
CALSCALE:GREGORIAN
METHOD:PUBLISH
X-WR-CALNAME:Jagstheim
X-ORIGINAL-URL:https://jagstheim.de/?lang=en
X-WR-CALDESC:Events for Jagstheim
REFRESH-INTERVAL;VALUE=DURATION:PT1H
X-Robots-Tag:noindex
X-PUBLISHED-TTL:PT1H
BEGIN:VTIMEZONE
TZID:Europe/Helsinki
BEGIN:DAYLIGHT
TZOFFSETFROM:+0200
TZOFFSETTO:+0300
TZNAME:EEST
DTSTART:20220327T010000
END:DAYLIGHT
BEGIN:STANDARD
TZOFFSETFROM:+0300
TZOFFSETTO:+0200
TZNAME:EET
DTSTART:20221030T010000
END:STANDARD
BEGIN:DAYLIGHT
TZOFFSETFROM:+0200
TZOFFSETTO:+0300
TZNAME:EEST
DTSTART:20230326T010000
END:DAYLIGHT
BEGIN:STANDARD
TZOFFSETFROM:+0300
TZOFFSETTO:+0200
TZNAME:EET
DTSTART:20231029T010000
END:STANDARD
BEGIN:DAYLIGHT
TZOFFSETFROM:+0200
TZOFFSETTO:+0300
TZNAME:EEST
DTSTART:20240331T010000
END:DAYLIGHT
BEGIN:STANDARD
TZOFFSETFROM:+0300
TZOFFSETTO:+0200
TZNAME:EET
DTSTART:20241027T010000
END:STANDARD
END:VTIMEZONE
BEGIN:VEVENT
DTSTART;VALUE=DATE:20230711
DTEND;VALUE=DATE:20230712
DTSTAMP:20260421T224304
CREATED:20230525T180310Z
LAST-MODIFIED:20230711T144031Z
UID:10000067-1689033600-1689119999@jagstheim.de
SUMMARY:Organic waste and residual waste
DESCRIPTION:Crailsheim – District 4 \nSchwäbisch Hall District | Waste Calendar | (lrasha.de) \n 
URL:https://jagstheim.de/event/organic-waste-and-residual-waste-3/?lang=en
CATEGORIES:Waste disposal
ATTACH;FMTTYPE=image/webp:https://jagstheim.de/wp-content/uploads/2023/07/BioRest.webp
END:VEVENT
BEGIN:VEVENT
DTSTART;VALUE=DATE:20230707
DTEND;VALUE=DATE:20230708
DTSTAMP:20260421T224304
CREATED:20230525T180309Z
LAST-MODIFIED:20230711T142720Z
UID:10000064-1688688000-1688774399@jagstheim.de
SUMMARY:Yellow bag and paper garbage can
DESCRIPTION:Crailsheim – District 4 \nSchwäbisch Hall District | Waste Calendar | (lrasha.de) \n 
URL:https://jagstheim.de/event/yellow-bag-and-paper-garbage-can-2/?lang=en
CATEGORIES:Waste disposal
ATTACH;FMTTYPE=image/webp:https://jagstheim.de/wp-content/uploads/2023/07/GelbPapier.webp
END:VEVENT
BEGIN:VEVENT
DTSTART;VALUE=DATE:20230627
DTEND;VALUE=DATE:20230628
DTSTAMP:20260421T224304
CREATED:20230525T180309Z
LAST-MODIFIED:20230711T144049Z
UID:10000054-1687824000-1687910399@jagstheim.de
SUMMARY:Organic waste and residual waste
DESCRIPTION:Crailsheim – District 4 \nSchwäbisch Hall District | Waste Calendar | (lrasha.de) \n 
URL:https://jagstheim.de/event/organic-waste-and-residual-waste-2/?lang=en
CATEGORIES:Waste disposal
ATTACH;FMTTYPE=image/webp:https://jagstheim.de/wp-content/uploads/2023/07/BioRest.webp
END:VEVENT
BEGIN:VEVENT
DTSTART;VALUE=DATE:20230613
DTEND;VALUE=DATE:20230614
DTSTAMP:20260421T224305
CREATED:20230525T180308Z
LAST-MODIFIED:20230711T144110Z
UID:10000046-1686614400-1686700799@jagstheim.de
SUMMARY:Organic waste and residual waste
DESCRIPTION:Crailsheim – District 4 \nSchwäbisch Hall District | Waste Calendar | (lrasha.de) \n 
URL:https://jagstheim.de/event/organic-waste-and-residual-waste/?lang=en
CATEGORIES:Waste disposal
ATTACH;FMTTYPE=image/webp:https://jagstheim.de/wp-content/uploads/2023/07/BioRest.webp
END:VEVENT
BEGIN:VEVENT
DTSTART;VALUE=DATE:20230609
DTEND;VALUE=DATE:20230610
DTSTAMP:20260421T224305
CREATED:20230525T173943Z
LAST-MODIFIED:20230706T110524Z
UID:10000053-1686268800-1686355199@jagstheim.de
SUMMARY:Yellow bag and paper garbage can
DESCRIPTION:Crailsheim – District 4 \nSchwäbisch Hall District | Waste Calendar | (lrasha.de) \n 
URL:https://jagstheim.de/event/yellow-bag-and-paper-garbage-can/?lang=en
CATEGORIES:Waste disposal
ATTACH;FMTTYPE=image/webp:https://jagstheim.de/wp-content/uploads/2023/07/GelbPapier.webp
END:VEVENT
BEGIN:VEVENT
DTSTART;VALUE=DATE:20230530
DTEND;VALUE=DATE:20230531
DTSTAMP:20260421T224305
CREATED:20230525T173942Z
LAST-MODIFIED:20230706T110526Z
UID:10000047-1685404800-1685491199@jagstheim.de
SUMMARY:Organic waste and residual waste
DESCRIPTION:Crailsheim – District 4 \nSchwäbisch Hall District | Waste Calendar | (lrasha.de) \n 
URL:https://jagstheim.de/event/organic-waste-and-residual-waste-19/?lang=en
CATEGORIES:Waste disposal
ATTACH;FMTTYPE=image/webp:https://jagstheim.de/wp-content/uploads/2023/07/BioRest.webp
END:VEVENT
END:VCALENDAR