BEGIN:VCALENDAR
VERSION:2.0
PRODID:-//Jagstheim - ECPv6.15.20//NONSGML v1.0//EN
CALSCALE:GREGORIAN
METHOD:PUBLISH
X-WR-CALNAME:Jagstheim
X-ORIGINAL-URL:https://jagstheim.de/?lang=en
X-WR-CALDESC:Events for Jagstheim
REFRESH-INTERVAL;VALUE=DURATION:PT1H
X-Robots-Tag:noindex
X-PUBLISHED-TTL:PT1H
BEGIN:VTIMEZONE
TZID:Europe/Helsinki
BEGIN:DAYLIGHT
TZOFFSETFROM:+0200
TZOFFSETTO:+0300
TZNAME:EEST
DTSTART:20230326T010000
END:DAYLIGHT
BEGIN:STANDARD
TZOFFSETFROM:+0300
TZOFFSETTO:+0200
TZNAME:EET
DTSTART:20231029T010000
END:STANDARD
BEGIN:DAYLIGHT
TZOFFSETFROM:+0200
TZOFFSETTO:+0300
TZNAME:EEST
DTSTART:20240331T010000
END:DAYLIGHT
BEGIN:STANDARD
TZOFFSETFROM:+0300
TZOFFSETTO:+0200
TZNAME:EET
DTSTART:20241027T010000
END:STANDARD
BEGIN:DAYLIGHT
TZOFFSETFROM:+0200
TZOFFSETTO:+0300
TZNAME:EEST
DTSTART:20250330T010000
END:DAYLIGHT
BEGIN:STANDARD
TZOFFSETFROM:+0300
TZOFFSETTO:+0200
TZNAME:EET
DTSTART:20251026T010000
END:STANDARD
END:VTIMEZONE
BEGIN:VEVENT
DTSTART;TZID=Europe/Helsinki:20240207T140000
DTEND;TZID=Europe/Helsinki:20240207T160000
DTSTAMP:20260423T102455
CREATED:20240107T100625Z
LAST-MODIFIED:20240107T100625Z
UID:10004261-1707314400-1707321600@jagstheim.de
SUMMARY:Old People's Club
DESCRIPTION: 
URL:https://jagstheim.de/event/old-peoples-club-2/?lang=en
LOCATION:cathol. parish hall\, Eichwald road 16\, Crailsheim\, Baden-Württemberg\, 74564\, Deutschland
CATEGORIES:catholic,Church
ATTACH;FMTTYPE=image/jpeg:https://jagstheim.de/wp-content/uploads/2023/07/sports-2863541_640.jpg
END:VEVENT
BEGIN:VEVENT
DTSTART;TZID=Europe/Helsinki:20240213T143000
DTEND;TZID=Europe/Helsinki:20240213T163000
DTSTAMP:20260423T102455
CREATED:20240107T101713Z
LAST-MODIFIED:20240107T101713Z
UID:10004286-1707834600-1707841800@jagstheim.de
SUMMARY:Senior afternoon
DESCRIPTION: 
URL:https://jagstheim.de/event/senior-afternoon-2/?lang=en
LOCATION:ev. parish hall\, Reservoir road 5\, Crailsheim\, 74564
CATEGORIES:catholic,Church
ATTACH;FMTTYPE=image/jpeg:https://jagstheim.de/wp-content/uploads/2023/07/coffee-shop-3699340-scaled.jpg
END:VEVENT
END:VCALENDAR