BEGIN:VCALENDAR
VERSION:2.0
PRODID:-//Jagstheim - ECPv6.15.20//NONSGML v1.0//EN
CALSCALE:GREGORIAN
METHOD:PUBLISH
X-WR-CALNAME:Jagstheim
X-ORIGINAL-URL:https://jagstheim.de/?lang=ar
X-WR-CALDESC:Events for Jagstheim
REFRESH-INTERVAL;VALUE=DURATION:PT1H
X-Robots-Tag:noindex
X-PUBLISHED-TTL:PT1H
BEGIN:VTIMEZONE
TZID:Europe/Helsinki
BEGIN:DAYLIGHT
TZOFFSETFROM:+0200
TZOFFSETTO:+0300
TZNAME:EEST
DTSTART:20220327T010000
END:DAYLIGHT
BEGIN:STANDARD
TZOFFSETFROM:+0300
TZOFFSETTO:+0200
TZNAME:EET
DTSTART:20221030T010000
END:STANDARD
BEGIN:DAYLIGHT
TZOFFSETFROM:+0200
TZOFFSETTO:+0300
TZNAME:EEST
DTSTART:20230326T010000
END:DAYLIGHT
BEGIN:STANDARD
TZOFFSETFROM:+0300
TZOFFSETTO:+0200
TZNAME:EET
DTSTART:20231029T010000
END:STANDARD
BEGIN:DAYLIGHT
TZOFFSETFROM:+0200
TZOFFSETTO:+0300
TZNAME:EEST
DTSTART:20240331T010000
END:DAYLIGHT
BEGIN:STANDARD
TZOFFSETFROM:+0300
TZOFFSETTO:+0200
TZNAME:EET
DTSTART:20241027T010000
END:STANDARD
BEGIN:DAYLIGHT
TZOFFSETFROM:+0200
TZOFFSETTO:+0300
TZNAME:EEST
DTSTART:20250330T010000
END:DAYLIGHT
BEGIN:STANDARD
TZOFFSETFROM:+0300
TZOFFSETTO:+0200
TZNAME:EET
DTSTART:20251026T010000
END:STANDARD
BEGIN:DAYLIGHT
TZOFFSETFROM:+0200
TZOFFSETTO:+0300
TZNAME:EEST
DTSTART:20260329T010000
END:DAYLIGHT
BEGIN:STANDARD
TZOFFSETFROM:+0300
TZOFFSETTO:+0200
TZNAME:EET
DTSTART:20261025T010000
END:STANDARD
END:VTIMEZONE
BEGIN:VEVENT
DTSTART;VALUE=DATE:20250302
DTEND;VALUE=DATE:20250303
DTSTAMP:20260424T124735
CREATED:20250102T094910Z
LAST-MODIFIED:20250102T094910Z
UID:10007464-1740873600-1740959999@jagstheim.de
SUMMARY:كرنفال الأطفال
DESCRIPTION: 
URL:https://jagstheim.de/event/%d9%83%d8%b1%d9%86%d9%81%d8%a7%d9%84-%d8%a7%d9%84%d8%a3%d8%b7%d9%81%d8%a7%d9%84-2/?lang=ar
LOCATION:Jagstauenhalle\, جاغستهايمر Hauptstrasse 157\, كريلسهايم\, بادن فورتمبيرغ\, 74564\, Deutschland
CATEGORIES:رياضات,منظمة
ATTACH;FMTTYPE=image/jpeg:https://jagstheim.de/wp-content/uploads/2025/01/wig_640.jpg
END:VEVENT
BEGIN:VEVENT
DTSTART;VALUE=DATE:20240712
DTEND;VALUE=DATE:20240715
DTSTAMP:20260424T124735
CREATED:20240107T114628Z
LAST-MODIFIED:20240107T114628Z
UID:10004765-1720742400-1721001599@jagstheim.de
SUMMARY:كأس القرية لكرة القدم
DESCRIPTION: 
URL:https://jagstheim.de/event/%d9%83%d8%a3%d8%b3-%d8%a7%d9%84%d9%82%d8%b1%d9%8a%d8%a9-%d9%84%d9%83%d8%b1%d8%a9-%d8%a7%d9%84%d9%82%d8%af%d9%85/?lang=ar
LOCATION:الملاعب الرياضية\, Aubergstrasse 72\, كريلسهايم\, بادن فورتمبيرغ\, 74564\, Deutschland
CATEGORIES:المهرجانات,رياضات,منظمة
END:VEVENT
BEGIN:VEVENT
DTSTART;VALUE=DATE:20240406
DTEND;VALUE=DATE:20240407
DTSTAMP:20260424T124735
CREATED:20240107T110909Z
LAST-MODIFIED:20240107T110909Z
UID:10004500-1712361600-1712447999@jagstheim.de
SUMMARY:يوم مباراة تنس الطاولة
DESCRIPTION: 
URL:https://jagstheim.de/event/%d9%8a%d9%88%d9%85-%d9%85%d8%a8%d8%a7%d8%b1%d8%a7%d8%a9-%d8%aa%d9%86%d8%b3-%d8%a7%d9%84%d8%b7%d8%a7%d9%88%d9%84%d8%a9-6/?lang=ar
LOCATION:Jagstauenhalle\, جاغستهايمر Hauptstrasse 157\, كريلسهايم\, بادن فورتمبيرغ\, 74564\, Deutschland
CATEGORIES:رياضات,منظمة
END:VEVENT
BEGIN:VEVENT
DTSTART;VALUE=DATE:20240323
DTEND;VALUE=DATE:20240325
DTSTAMP:20260424T124735
CREATED:20240107T110142Z
LAST-MODIFIED:20240107T110142Z
UID:10004445-1711152000-1711324799@jagstheim.de
SUMMARY:بطولة VfB لكرة القدم للشباب
DESCRIPTION: 
URL:https://jagstheim.de/event/%d8%a8%d8%b7%d9%88%d9%84%d8%a9-vfb-%d9%84%d9%83%d8%b1%d8%a9-%d8%a7%d9%84%d9%82%d8%af%d9%85-%d9%84%d9%84%d8%b4%d8%a8%d8%a7%d8%a8/?lang=ar
LOCATION:صالة رياضية كبيرة\, في كيستينفايسن 7\, كريلسهايم\, بادن فورتمبيرغ\, 74564\, Deutschland
CATEGORIES:رياضات,منظمة
END:VEVENT
BEGIN:VEVENT
DTSTART;VALUE=DATE:20240316
DTEND;VALUE=DATE:20240317
DTSTAMP:20260424T124735
CREATED:20240107T105823Z
LAST-MODIFIED:20240107T105927Z
UID:10004423-1710547200-1710633599@jagstheim.de
SUMMARY:منظم مسابقة الفريق الداخلي في منطقة الجمباز كرايلسهايم
DESCRIPTION:في إف بي ياغستهايم \n 
URL:https://jagstheim.de/event/%d9%85%d9%86%d8%b8%d9%85-%d9%85%d8%b3%d8%a7%d8%a8%d9%82%d8%a9-%d8%a7%d9%84%d9%81%d8%b1%d9%8a%d9%82-%d8%a7%d9%84%d8%af%d8%a7%d8%ae%d9%84%d9%8a-%d9%81%d9%8a-%d9%85%d9%86%d8%b7%d9%82%d8%a9-%d8%a7%d9%84/?lang=ar
LOCATION:Jagstauenhalle\, جاغستهايمر Hauptstrasse 157\, كريلسهايم\, بادن فورتمبيرغ\, 74564\, Deutschland
CATEGORIES:رياضات,منظمة
END:VEVENT
BEGIN:VEVENT
DTSTART;VALUE=DATE:20240309
DTEND;VALUE=DATE:20240310
DTSTAMP:20260424T124735
CREATED:20240107T105417Z
LAST-MODIFIED:20250205T062445Z
UID:10004394-1709942400-1710028799@jagstheim.de
SUMMARY:يوم مباراة تنس الطاولة
DESCRIPTION: 
URL:https://jagstheim.de/event/%d9%8a%d9%88%d9%85-%d9%85%d8%a8%d8%a7%d8%b1%d8%a7%d8%a9-%d8%aa%d9%86%d8%b3-%d8%a7%d9%84%d8%b7%d8%a7%d9%88%d9%84%d8%a9-5/?lang=ar
LOCATION:بادن فورتمبيرغ
CATEGORIES:رياضات,منظمة
END:VEVENT
BEGIN:VEVENT
DTSTART;VALUE=DATE:20240224
DTEND;VALUE=DATE:20240225
DTSTAMP:20260424T124735
CREATED:20240107T102535Z
LAST-MODIFIED:20240107T102535Z
UID:10004327-1708732800-1708819199@jagstheim.de
SUMMARY:يوم مباراة تنس الطاولة
DESCRIPTION: 
URL:https://jagstheim.de/event/%d9%8a%d9%88%d9%85-%d9%85%d8%a8%d8%a7%d8%b1%d8%a7%d8%a9-%d8%aa%d9%86%d8%b3-%d8%a7%d9%84%d8%b7%d8%a7%d9%88%d9%84%d8%a9-4/?lang=ar
LOCATION:Jagstauenhalle\, جاغستهايمر Hauptstrasse 157\, كريلسهايم\, بادن فورتمبيرغ\, 74564\, Deutschland
CATEGORIES:رياضات,منظمة
ATTACH;FMTTYPE=image/jpeg:https://jagstheim.de/wp-content/uploads/2024/01/table-tennis_640.jpg
END:VEVENT
BEGIN:VEVENT
DTSTART;VALUE=DATE:20240203
DTEND;VALUE=DATE:20240204
DTSTAMP:20260424T124735
CREATED:20240107T100404Z
LAST-MODIFIED:20240107T100404Z
UID:10004247-1706918400-1707004799@jagstheim.de
SUMMARY:يوم مباراة تنس الطاولة
DESCRIPTION: 
URL:https://jagstheim.de/event/%d9%8a%d9%88%d9%85-%d9%85%d8%a8%d8%a7%d8%b1%d8%a7%d8%a9-%d8%aa%d9%86%d8%b3-%d8%a7%d9%84%d8%b7%d8%a7%d9%88%d9%84%d8%a9-3/?lang=ar
LOCATION:Jagstauenhalle\, جاغستهايمر Hauptstrasse 157\, كريلسهايم\, بادن فورتمبيرغ\, 74564\, Deutschland
CATEGORIES:رياضات,منظمة
ATTACH;FMTTYPE=image/jpeg:https://jagstheim.de/wp-content/uploads/2024/01/table-tennis_640.jpg
END:VEVENT
BEGIN:VEVENT
DTSTART;VALUE=DATE:20240127
DTEND;VALUE=DATE:20240128
DTSTAMP:20260424T124735
CREATED:20240107T095434Z
LAST-MODIFIED:20240107T095434Z
UID:10004214-1706313600-1706399999@jagstheim.de
SUMMARY:يوم مباراة تنس الطاولة
DESCRIPTION: 
URL:https://jagstheim.de/event/%d9%8a%d9%88%d9%85-%d9%85%d8%a8%d8%a7%d8%b1%d8%a7%d8%a9-%d8%aa%d9%86%d8%b3-%d8%a7%d9%84%d8%b7%d8%a7%d9%88%d9%84%d8%a9-2/?lang=ar
LOCATION:Jagstauenhalle\, جاغستهايمر Hauptstrasse 157\, كريلسهايم\, بادن فورتمبيرغ\, 74564\, Deutschland
CATEGORIES:رياضات,منظمة
ATTACH;FMTTYPE=image/jpeg:https://jagstheim.de/wp-content/uploads/2024/01/table-tennis_640.jpg
END:VEVENT
BEGIN:VEVENT
DTSTART;TZID=Europe/Helsinki:20240107T000000
DTEND;TZID=Europe/Helsinki:20240107T000000
DTSTAMP:20260424T124735
CREATED:20240107T094313Z
LAST-MODIFIED:20240107T094313Z
UID:10004192-1704585600-1704585600@jagstheim.de
SUMMARY:يوم مباراة تنس الطاولة
DESCRIPTION: 
URL:https://jagstheim.de/event/%d9%8a%d9%88%d9%85-%d9%85%d8%a8%d8%a7%d8%b1%d8%a7%d8%a9-%d8%aa%d9%86%d8%b3-%d8%a7%d9%84%d8%b7%d8%a7%d9%88%d9%84%d8%a9/?lang=ar
LOCATION:Jagstauenhalle\, جاغستهايمر Hauptstrasse 157\, كريلسهايم\, بادن فورتمبيرغ\, 74564\, Deutschland
CATEGORIES:رياضات,منظمة
ATTACH;FMTTYPE=image/jpeg:https://jagstheim.de/wp-content/uploads/2024/01/table-tennis_640.jpg
END:VEVENT
BEGIN:VEVENT
DTSTART;TZID=Europe/Helsinki:20231118T074500
DTEND;TZID=Europe/Helsinki:20231118T153000
DTSTAMP:20260424T124735
CREATED:20231010T112004Z
LAST-MODIFIED:20231010T112004Z
UID:10003664-1700293500-1700321400@jagstheim.de
SUMMARY:رحلة الشباب on 18 نوفمبر 2023
DESCRIPTION:ينظم شباب VfB Jagstheim 1946 e.V. بأكمله رحلة ليوم واحد إلى حديقة Airtime Trampoline Park في نورمبرغ في 18 نوفمبر 2023.\nيمكن لجميع الأطفال والشباب الذين لا تقل أعمارهم عن 6 سنوات المشاركة.\nنلتقي في يوم الحدث في الساعة 7.45 صباحا في محطة الحافلات في وسط Jagstheim. المغادرة بالحافلة في الساعة 8:00 صباحا. ستكون العودة حوالي الساعة 3.30 مساء في محطة الحافلات في وسط Jagstheim. \nتبلغ التكاليف 30 يورو / مشارك (غير الأعضاء 35 يورو) ، بما في ذلك السفر والدخول والبيتزا لتناول طعام الغداء وجوارب القفز ويجب دفعها في يوم الحدث. \nيحصل حاملو بطاقة StwCard على خصم 10٪. في هذه الحالة ، يرجى ملاحظة رقم البطاقة في القسم أدناه.\nستحتاج أيضا إلى وجبة خفيفة للرحلة الخارجية ، وبعض مصروف الجيب ومشروبات كافية (بدون زجاجات زجاجية ، من فضلك). \nبالنسبة للقفز نفسه ، من الجيد ارتداء الملابس الرياضية. \nيرجى التسجيل بحلول 4 نوفمبر 2023 \nنظرا لأن المقاعد في الحافلة محدودة ، إذا تم تجاوز الحد الأقصى لعدد المشاركين ، فإن استلام التسجيل يقرر تخصيص المقاعد. (الأعضاء قبل غير الأعضاء) \n 
URL:https://jagstheim.de/event/%d8%b1%d8%ad%d9%84%d8%a9-%d8%a7%d9%84%d8%b4%d8%a8%d8%a7%d8%a8-on-18-%d9%86%d9%88%d9%81%d9%85%d8%a8%d8%b1-2023/?lang=ar
LOCATION:بادن فورتمبيرغ
CATEGORIES:رياضات,منظمة
ATTACH;FMTTYPE=image/png:https://jagstheim.de/wp-content/uploads/2023/10/vfb_header_2.png
END:VEVENT
BEGIN:VEVENT
DTSTART;VALUE=DATE:20230923
DTEND;VALUE=DATE:20230924
DTSTAMP:20260424T124735
CREATED:20230706T083856Z
LAST-MODIFIED:20230706T083856Z
UID:10000263-1695427200-1695513599@jagstheim.de
SUMMARY:VfB | قيام الجمباز
DESCRIPTION:الفريق النهائي \n 
URL:https://jagstheim.de/event/vfb-%d9%82%d9%8a%d8%a7%d9%85-%d8%a7%d9%84%d8%ac%d9%85%d8%a8%d8%a7%d8%b2/?lang=ar
LOCATION:كارلسبيرغال\, شارع بويرلباخر 16\, كريلسهايم\, 74564\, Deutschland
CATEGORIES:رياضات,منظمة
ATTACH;FMTTYPE=image/jpeg:https://jagstheim.de/wp-content/uploads/2023/07/rings-4876839-scaled.jpg
END:VEVENT
BEGIN:VEVENT
DTSTART;TZID=Europe/Helsinki:20230906T193000
DTEND;TZID=Europe/Helsinki:20230906T203000
DTSTAMP:20260424T124735
CREATED:20230706T081728Z
LAST-MODIFIED:20230706T081728Z
UID:10000258-1694028600-1694032200@jagstheim.de
SUMMARY:VfB | أيكيدو
DESCRIPTION:بداية التدريب \n 
URL:https://jagstheim.de/event/vfb-%d8%a3%d9%8a%d9%83%d9%8a%d8%af%d9%88-3/?lang=ar
LOCATION:Jagstauenhalle\, جاغستهايمر Hauptstrasse 157\, كريلسهايم\, بادن فورتمبيرغ\, 74564\, Deutschland
CATEGORIES:رياضات,منظمة
ATTACH;FMTTYPE=image/jpeg:https://jagstheim.de/wp-content/uploads/2023/07/aikido-362959_640.jpg
END:VEVENT
BEGIN:VEVENT
DTSTART;TZID=Europe/Helsinki:20230723T110000
DTEND;TZID=Europe/Helsinki:20230723T120000
DTSTAMP:20260424T124735
CREATED:20230706T063058Z
LAST-MODIFIED:20230706T063058Z
UID:10000228-1690110000-1690113600@jagstheim.de
SUMMARY:VfB | أيكيدو
DESCRIPTION:إزالة حصيرة \n 
URL:https://jagstheim.de/event/vfb-%d8%a3%d9%8a%d9%83%d9%8a%d8%af%d9%88-2/?lang=ar
LOCATION:Jagstauenhalle\, جاغستهايمر Hauptstrasse 157\, كريلسهايم\, بادن فورتمبيرغ\, 74564\, Deutschland
CATEGORIES:رياضات
ATTACH;FMTTYPE=image/jpeg:https://jagstheim.de/wp-content/uploads/2023/07/yoga-940359_640.jpg
END:VEVENT
BEGIN:VEVENT
DTSTART;TZID=Europe/Helsinki:20230723T093000
DTEND;TZID=Europe/Helsinki:20230723T113000
DTSTAMP:20260424T124735
CREATED:20230706T062158Z
LAST-MODIFIED:20230706T062158Z
UID:10000221-1690104600-1690111800@jagstheim.de
SUMMARY:VfB | أيكيدو
DESCRIPTION:تنظيف حصيرة \n 
URL:https://jagstheim.de/event/vfb-%d8%a3%d9%8a%d9%83%d9%8a%d8%af%d9%88/?lang=ar
LOCATION:Jagstauenhalle\, جاغستهايمر Hauptstrasse 157\, كريلسهايم\, بادن فورتمبيرغ\, 74564\, Deutschland
CATEGORIES:رياضات
ATTACH;FMTTYPE=image/jpeg:https://jagstheim.de/wp-content/uploads/2023/07/cleaning-3977589_640.jpg
END:VEVENT
BEGIN:VEVENT
DTSTART;TZID=Europe/Helsinki:20230715T190000
DTEND;TZID=Europe/Helsinki:20230715T190000
DTSTAMP:20260424T124735
CREATED:20230714T060010Z
LAST-MODIFIED:20230714T060010Z
UID:10000760-1689447600-1689447600@jagstheim.de
SUMMARY:نهاية الأسبوع الرياضية | نهائيات
DESCRIPTION: 
URL:https://jagstheim.de/event/%d9%86%d9%87%d8%a7%d9%8a%d8%a9-%d8%a7%d9%84%d8%a3%d8%b3%d8%a8%d9%88%d8%b9-%d8%a7%d9%84%d8%b1%d9%8a%d8%a7%d8%b6%d9%8a%d8%a9-%d9%86%d9%87%d8%a7%d8%a6%d9%8a%d8%a7%d8%aa/?lang=ar
LOCATION:الملاعب الرياضية\, Aubergstrasse 72\, كريلسهايم\, بادن فورتمبيرغ\, 74564\, Deutschland
CATEGORIES:المهرجانات,رياضات,منظمة
END:VEVENT
BEGIN:VEVENT
DTSTART;TZID=Europe/Helsinki:20230715T150000
DTEND;TZID=Europe/Helsinki:20230715T190000
DTSTAMP:20260424T124735
CREATED:20230714T055900Z
LAST-MODIFIED:20230714T055900Z
UID:10000749-1689433200-1689447600@jagstheim.de
SUMMARY:نهاية الأسبوع الرياضية | كأس القرية
DESCRIPTION: 
URL:https://jagstheim.de/event/%d9%86%d9%87%d8%a7%d9%8a%d8%a9-%d8%a7%d9%84%d8%a3%d8%b3%d8%a8%d9%88%d8%b9-%d8%a7%d9%84%d8%b1%d9%8a%d8%a7%d8%b6%d9%8a%d8%a9-%d9%83%d8%a3%d8%b3-%d8%a7%d9%84%d9%82%d8%b1%d9%8a%d8%a9/?lang=ar
LOCATION:الملاعب الرياضية\, Aubergstrasse 72\, كريلسهايم\, بادن فورتمبيرغ\, 74564\, Deutschland
CATEGORIES:المهرجانات,رياضات,منظمة
END:VEVENT
BEGIN:VEVENT
DTSTART;TZID=Europe/Helsinki:20230715T103000
DTEND;TZID=Europe/Helsinki:20230715T150000
DTSTAMP:20260424T124735
CREATED:20230714T055443Z
LAST-MODIFIED:20230714T055443Z
UID:10000738-1689417000-1689433200@jagstheim.de
SUMMARY:نهاية الأسبوع الرياضية | بطولة الشباب
DESCRIPTION: 
URL:https://jagstheim.de/event/%d9%86%d9%87%d8%a7%d9%8a%d8%a9-%d8%a7%d9%84%d8%a3%d8%b3%d8%a8%d9%88%d8%b9-%d8%a7%d9%84%d8%b1%d9%8a%d8%a7%d8%b6%d9%8a%d8%a9-%d8%a8%d8%b7%d9%88%d9%84%d8%a9-%d8%a7%d9%84%d8%b4%d8%a8%d8%a7%d8%a8/?lang=ar
LOCATION:الملاعب الرياضية\, Aubergstrasse 72\, كريلسهايم\, بادن فورتمبيرغ\, 74564\, Deutschland
CATEGORIES:رياضات,منظمة
END:VEVENT
BEGIN:VEVENT
DTSTART;TZID=Europe/Helsinki:20230714T180000
DTEND;TZID=Europe/Helsinki:20230714T220000
DTSTAMP:20260424T124735
CREATED:20230714T055058Z
LAST-MODIFIED:20230714T055624Z
UID:10000727-1689357600-1689372000@jagstheim.de
SUMMARY:عطلة نهاية الاسبوع الرياضية | كأس الجزاء
DESCRIPTION:كأس الجزاء وكأس القرية مع الضيافة \n 
URL:https://jagstheim.de/event/%d8%b9%d8%b7%d9%84%d8%a9-%d9%86%d9%87%d8%a7%d9%8a%d8%a9-%d8%a7%d9%84%d8%a3%d8%b3%d8%a8%d9%88%d8%b9-%d8%a7%d9%84%d8%b1%d9%8a%d8%a7%d8%b6%d9%8a%d8%a9/?lang=ar
LOCATION:الملاعب الرياضية\, Aubergstrasse 72\, كريلسهايم\, بادن فورتمبيرغ\, 74564\, Deutschland
CATEGORIES:رياضات,منظمة
ATTACH;FMTTYPE=image/jpeg:https://jagstheim.de/wp-content/uploads/2023/07/iStock-1167399616_640.jpg
END:VEVENT
END:VCALENDAR