BEGIN:VCALENDAR
VERSION:2.0
PRODID:-//Jagstheim - ECPv6.15.20//NONSGML v1.0//EN
CALSCALE:GREGORIAN
METHOD:PUBLISH
X-WR-CALNAME:Jagstheim
X-ORIGINAL-URL:https://jagstheim.de/?lang=ar
X-WR-CALDESC:Events for Jagstheim
REFRESH-INTERVAL;VALUE=DURATION:PT1H
X-Robots-Tag:noindex
X-PUBLISHED-TTL:PT1H
BEGIN:VTIMEZONE
TZID:Europe/Helsinki
BEGIN:DAYLIGHT
TZOFFSETFROM:+0200
TZOFFSETTO:+0300
TZNAME:EEST
DTSTART:20220327T010000
END:DAYLIGHT
BEGIN:STANDARD
TZOFFSETFROM:+0300
TZOFFSETTO:+0200
TZNAME:EET
DTSTART:20221030T010000
END:STANDARD
BEGIN:DAYLIGHT
TZOFFSETFROM:+0200
TZOFFSETTO:+0300
TZNAME:EEST
DTSTART:20230326T010000
END:DAYLIGHT
BEGIN:STANDARD
TZOFFSETFROM:+0300
TZOFFSETTO:+0200
TZNAME:EET
DTSTART:20231029T010000
END:STANDARD
BEGIN:DAYLIGHT
TZOFFSETFROM:+0200
TZOFFSETTO:+0300
TZNAME:EEST
DTSTART:20240331T010000
END:DAYLIGHT
BEGIN:STANDARD
TZOFFSETFROM:+0300
TZOFFSETTO:+0200
TZNAME:EET
DTSTART:20241027T010000
END:STANDARD
END:VTIMEZONE
BEGIN:VEVENT
DTSTART;TZID=Europe/Helsinki:20231111T180000
DTEND;TZID=Europe/Helsinki:20231111T190000
DTSTAMP:20260419T215217
CREATED:20230706T103959Z
LAST-MODIFIED:20230706T103959Z
UID:10000308-1699725600-1699729200@jagstheim.de
SUMMARY:موكب القديس مارتن
DESCRIPTION:نظمتها رياض الأطفال و Jagstheimer Handwerker und Dienstleister eV \n 
URL:https://jagstheim.de/event/%d9%85%d9%88%d9%83%d8%a8-%d8%a7%d9%84%d9%82%d8%af%d9%8a%d8%b3-%d9%85%d8%a7%d8%b1%d8%aa%d9%86/?lang=ar
LOCATION:ربما كنيسة القديس نيكولاس\, Stauseestrasse 3\, كريلسهايم\, بادن فورتمبيرغ\, 74564\, Deutschland
CATEGORIES:أشعث,إنجيلية,روضة أطفال,زاهى الألوان,عمل,كنيسة
ATTACH;FMTTYPE=image/jpeg:https://jagstheim.de/wp-content/uploads/2023/07/lantern-hike-3829133_640.jpg
END:VEVENT
BEGIN:VEVENT
DTSTART;TZID=Europe/Helsinki:20231111T173000
DTEND;TZID=Europe/Helsinki:20231111T180000
DTSTAMP:20260419T215217
CREATED:20230706T103651Z
LAST-MODIFIED:20230706T103651Z
UID:10000303-1699723800-1699725600@jagstheim.de
SUMMARY:ربما الرعية
DESCRIPTION:Martinsandacht \n 
URL:https://jagstheim.de/event/%d8%b1%d8%a8%d9%85%d8%a7-%d8%a7%d9%84%d8%b1%d8%b9%d9%8a%d8%a9-5/?lang=ar
LOCATION:ربما كنيسة القديس نيكولاس\, Stauseestrasse 3\, كريلسهايم\, بادن فورتمبيرغ\, 74564\, Deutschland
CATEGORIES:إنجيلية,كنيسة
ATTACH;FMTTYPE=image/jpeg:https://jagstheim.de/wp-content/uploads/2023/07/cruz-2536209_640.jpg
END:VEVENT
BEGIN:VEVENT
DTSTART;TZID=Europe/Helsinki:20231108T140000
DTEND;TZID=Europe/Helsinki:20231108T153000
DTSTAMP:20260419T215217
CREATED:20230706T103352Z
LAST-MODIFIED:20230706T103352Z
UID:10000298-1699452000-1699457400@jagstheim.de
SUMMARY:كاثوليكي أبرشية
DESCRIPTION:نادي كبار السن \n 
URL:https://jagstheim.de/event/%d9%83%d8%a7%d8%ab%d9%88%d9%84%d9%8a%d9%83%d9%8a-%d8%a3%d8%a8%d8%b1%d8%b4%d9%8a%d8%a9-3/?lang=ar
LOCATION:كاثوليكي قاعة الرعية\, Eichwaldstrasse 16\, كريلسهايم\, بادن فورتمبيرغ\, 74564\, Deutschland
CATEGORIES:كاثوليكي,كنيسة
ATTACH;FMTTYPE=image/jpeg:https://jagstheim.de/wp-content/uploads/2023/07/sports-2863541_640.jpg
END:VEVENT
BEGIN:VEVENT
DTSTART;TZID=Europe/Helsinki:20231010T143000
DTEND;TZID=Europe/Helsinki:20231010T160000
DTSTAMP:20260419T215217
CREATED:20230706T092926Z
LAST-MODIFIED:20230706T092926Z
UID:10000278-1696948200-1696953600@jagstheim.de
SUMMARY:ربما الرعية
DESCRIPTION:بعد ظهر اليوم \n 
URL:https://jagstheim.de/event/%d8%b1%d8%a8%d9%85%d8%a7-%d8%a7%d9%84%d8%b1%d8%b9%d9%8a%d8%a9-4/?lang=ar
LOCATION:ربما قاعة المجتمع\, Stauseestrasse 5\, كريلسهايم\, 74564
CATEGORIES:إنجيلية,كنيسة
ATTACH;FMTTYPE=image/jpeg:https://jagstheim.de/wp-content/uploads/2023/07/coffee-shop-3699340-scaled.jpg
END:VEVENT
BEGIN:VEVENT
DTSTART;TZID=Europe/Helsinki:20231004T140000
DTEND;TZID=Europe/Helsinki:20231004T153000
DTSTAMP:20260419T215217
CREATED:20230706T091428Z
LAST-MODIFIED:20230706T091428Z
UID:10000273-1696428000-1696433400@jagstheim.de
SUMMARY:كاثوليكي أبرشية
DESCRIPTION:نادي كبار السن \n 
URL:https://jagstheim.de/event/%d9%83%d8%a7%d8%ab%d9%88%d9%84%d9%8a%d9%83%d9%8a-%d8%a3%d8%a8%d8%b1%d8%b4%d9%8a%d8%a9-2/?lang=ar
LOCATION:كاثوليكي قاعة الرعية\, Eichwaldstrasse 16\, كريلسهايم\, بادن فورتمبيرغ\, 74564\, Deutschland
CATEGORIES:كاثوليكي,كنيسة
ATTACH;FMTTYPE=image/jpeg:https://jagstheim.de/wp-content/uploads/2023/07/cruz-2536209_640.jpg
END:VEVENT
BEGIN:VEVENT
DTSTART;TZID=Europe/Helsinki:20231001T100000
DTEND;TZID=Europe/Helsinki:20231001T113000
DTSTAMP:20260419T215217
CREATED:20230706T084239Z
LAST-MODIFIED:20230706T084239Z
UID:10000268-1696154400-1696159800@jagstheim.de
SUMMARY:ربما الرعية
DESCRIPTION:عيد الشكر \n 
URL:https://jagstheim.de/event/%d8%b1%d8%a8%d9%85%d8%a7-%d8%a7%d9%84%d8%b1%d8%b9%d9%8a%d8%a9-3/?lang=ar
LOCATION:ربما كنيسة القديس نيكولاس\, Stauseestrasse 3\, كريلسهايم\, بادن فورتمبيرغ\, 74564\, Deutschland
CATEGORIES:كنيسة
ATTACH;FMTTYPE=image/jpeg:https://jagstheim.de/wp-content/uploads/2023/07/cornucopia-1789664_640.jpg
END:VEVENT
BEGIN:VEVENT
DTSTART;TZID=Europe/Helsinki:20230906T140000
DTEND;TZID=Europe/Helsinki:20230906T153000
DTSTAMP:20260419T215217
CREATED:20230706T081127Z
LAST-MODIFIED:20230706T081127Z
UID:10000256-1694008800-1694014200@jagstheim.de
SUMMARY:كاثوليكي أبرشية
DESCRIPTION:نادي كبار السن \n 
URL:https://jagstheim.de/event/%d9%83%d8%a7%d8%ab%d9%88%d9%84%d9%8a%d9%83%d9%8a-%d8%a3%d8%a8%d8%b1%d8%b4%d9%8a%d8%a9/?lang=ar
LOCATION:كاثوليكي قاعة الرعية\, Eichwaldstrasse 16\, كريلسهايم\, بادن فورتمبيرغ\, 74564\, Deutschland
CATEGORIES:كنيسة
ATTACH;FMTTYPE=image/jpeg:https://jagstheim.de/wp-content/uploads/2023/07/cruz-2536209_640.jpg
END:VEVENT
BEGIN:VEVENT
DTSTART;TZID=Europe/Helsinki:20230827T103000
DTEND;TZID=Europe/Helsinki:20230827T113000
DTSTAMP:20260419T215217
CREATED:20230706T080852Z
LAST-MODIFIED:20230706T080852Z
UID:10000248-1693132200-1693135800@jagstheim.de
SUMMARY:ربما الرعية
DESCRIPTION:خدمة الكنيسة \n 
URL:https://jagstheim.de/event/%d8%b1%d8%a8%d9%85%d8%a7-%d8%a7%d9%84%d8%b1%d8%b9%d9%8a%d8%a9-2/?lang=ar
LOCATION:محطة الاطفاء\, فرقة الإطفاء ونادي LF / LK بالمنزل\, كريلسهايم\, بادن فورتمبيرغ\, 74564\, Deutschland
CATEGORIES:كنيسة
ATTACH;FMTTYPE=image/jpeg:https://jagstheim.de/wp-content/uploads/2023/07/bible-5255924_640.jpg
END:VEVENT
BEGIN:VEVENT
DTSTART;TZID=Europe/Helsinki:20230725T200000
DTEND;TZID=Europe/Helsinki:20230725T213000
DTSTAMP:20260419T215217
CREATED:20230706T063826Z
LAST-MODIFIED:20250205T062431Z
UID:10000236-1690315200-1690320600@jagstheim.de
SUMMARY:ربما الرعية
DESCRIPTION:عطلة البرد \n 
URL:https://jagstheim.de/event/%d8%b1%d8%a8%d9%85%d8%a7-%d8%a7%d9%84%d8%b1%d8%b9%d9%8a%d8%a9/?lang=ar
LOCATION:ربما كنيسة القديس نيكولاس\, Stauseestrasse 3\, كريلسهايم\, بادن فورتمبيرغ\, 74564\, Deutschland
CATEGORIES:كنيسة
ATTACH;FMTTYPE=image/jpeg:https://jagstheim.de/wp-content/uploads/2023/07/cruz-2536209_640.jpg
END:VEVENT
END:VCALENDAR