BEGIN:VCALENDAR
VERSION:2.0
PRODID:-//Jagstheim - ECPv6.15.20//NONSGML v1.0//EN
CALSCALE:GREGORIAN
METHOD:PUBLISH
X-WR-CALNAME:Jagstheim
X-ORIGINAL-URL:https://jagstheim.de/?lang=uk
X-WR-CALDESC:Події за Jagstheim
REFRESH-INTERVAL;VALUE=DURATION:PT1H
X-Robots-Tag:noindex
X-PUBLISHED-TTL:PT1H
BEGIN:VTIMEZONE
TZID:Europe/Helsinki
BEGIN:DAYLIGHT
TZOFFSETFROM:+0200
TZOFFSETTO:+0300
TZNAME:EEST
DTSTART:20220327T010000
END:DAYLIGHT
BEGIN:STANDARD
TZOFFSETFROM:+0300
TZOFFSETTO:+0200
TZNAME:EET
DTSTART:20221030T010000
END:STANDARD
BEGIN:DAYLIGHT
TZOFFSETFROM:+0200
TZOFFSETTO:+0300
TZNAME:EEST
DTSTART:20230326T010000
END:DAYLIGHT
BEGIN:STANDARD
TZOFFSETFROM:+0300
TZOFFSETTO:+0200
TZNAME:EET
DTSTART:20231029T010000
END:STANDARD
BEGIN:DAYLIGHT
TZOFFSETFROM:+0200
TZOFFSETTO:+0300
TZNAME:EEST
DTSTART:20240331T010000
END:DAYLIGHT
BEGIN:STANDARD
TZOFFSETFROM:+0300
TZOFFSETTO:+0200
TZNAME:EET
DTSTART:20241027T010000
END:STANDARD
BEGIN:DAYLIGHT
TZOFFSETFROM:+0200
TZOFFSETTO:+0300
TZNAME:EEST
DTSTART:20250330T010000
END:DAYLIGHT
BEGIN:STANDARD
TZOFFSETFROM:+0300
TZOFFSETTO:+0200
TZNAME:EET
DTSTART:20251026T010000
END:STANDARD
BEGIN:DAYLIGHT
TZOFFSETFROM:+0200
TZOFFSETTO:+0300
TZNAME:EEST
DTSTART:20260329T010000
END:DAYLIGHT
BEGIN:STANDARD
TZOFFSETFROM:+0300
TZOFFSETTO:+0200
TZNAME:EET
DTSTART:20261025T010000
END:STANDARD
END:VTIMEZONE
BEGIN:VEVENT
DTSTART;VALUE=DATE:20250302
DTEND;VALUE=DATE:20250303
DTSTAMP:20260420T155521
CREATED:20250102T094910Z
LAST-MODIFIED:20250102T094910Z
UID:10007455-1740873600-1740959999@jagstheim.de
SUMMARY:Дитячий карнавал
DESCRIPTION: 
URL:https://jagstheim.de/event/%d0%b4%d0%b8%d1%82%d1%8f%d1%87%d0%b8%d0%b9-%d0%ba%d0%b0%d1%80%d0%bd%d0%b0%d0%b2%d0%b0%d0%bb-2/?lang=uk
LOCATION:Ягстауенхалле\, Головна вулиця Ягстгаймера 157\, Крайльсхайм\, Баден-Вюртемберг\, 74564\, Deutschland
CATEGORIES:Асоціація,Спорт
ATTACH;FMTTYPE=image/jpeg:https://jagstheim.de/wp-content/uploads/2025/01/wig_640.jpg
END:VEVENT
BEGIN:VEVENT
DTSTART;VALUE=DATE:20240712
DTEND;VALUE=DATE:20240715
DTSTAMP:20260420T155521
CREATED:20240107T114628Z
LAST-MODIFIED:20240107T114628Z
UID:10004773-1720742400-1721001599@jagstheim.de
SUMMARY:Кубок села з футболу
DESCRIPTION: 
URL:https://jagstheim.de/event/%d0%ba%d1%83%d0%b1%d0%be%d0%ba-%d1%81%d0%b5%d0%bb%d0%b0-%d0%b7-%d1%84%d1%83%d1%82%d0%b1%d0%be%d0%bb%d1%83/?lang=uk
LOCATION:Спортивний майданчик\, Aubergstraße 72\, Крайльсхайм\, Баден-Вюртемберг\, 74564\, Deutschland
CATEGORIES:Асоціація,Виправлено,Спорт
END:VEVENT
BEGIN:VEVENT
DTSTART;VALUE=DATE:20240406
DTEND;VALUE=DATE:20240407
DTSTAMP:20260420T155521
CREATED:20240107T110909Z
LAST-MODIFIED:20240107T110909Z
UID:10004509-1712361600-1712447999@jagstheim.de
SUMMARY:День змагань з настільного тенісу
DESCRIPTION: 
URL:https://jagstheim.de/event/%d0%b4%d0%b5%d0%bd%d1%8c-%d0%b7%d0%bc%d0%b0%d0%b3%d0%b0%d0%bd%d1%8c-%d0%b7-%d0%bd%d0%b0%d1%81%d1%82%d1%96%d0%bb%d1%8c%d0%bd%d0%be%d0%b3%d0%be-%d1%82%d0%b5%d0%bd%d1%96%d1%81%d1%83-6/?lang=uk
LOCATION:Ягстауенхалле\, Головна вулиця Ягстгаймера 157\, Крайльсхайм\, Баден-Вюртемберг\, 74564\, Deutschland
CATEGORIES:Асоціація,Спорт
END:VEVENT
BEGIN:VEVENT
DTSTART;VALUE=DATE:20240323
DTEND;VALUE=DATE:20240325
DTSTAMP:20260420T155521
CREATED:20240107T110142Z
LAST-MODIFIED:20240107T110142Z
UID:10004454-1711152000-1711324799@jagstheim.de
SUMMARY:Молодіжний турнір VfB з футболу
DESCRIPTION: 
URL:https://jagstheim.de/event/%d0%bc%d0%be%d0%bb%d0%be%d0%b4%d1%96%d0%b6%d0%bd%d0%b8%d0%b9-%d1%82%d1%83%d1%80%d0%bd%d1%96%d1%80-vfb-%d0%b7-%d1%84%d1%83%d1%82%d0%b1%d0%be%d0%bb%d1%83/?lang=uk
LOCATION:Великий спортивний зал\, In der Kistenwiesen 7\, Крайльсхайм\, Баден-Вюртемберг\, 74564\, Deutschland
CATEGORIES:Асоціація,Спорт
END:VEVENT
BEGIN:VEVENT
DTSTART;VALUE=DATE:20240316
DTEND;VALUE=DATE:20240317
DTSTAMP:20260420T155521
CREATED:20240107T105823Z
LAST-MODIFIED:20240107T105931Z
UID:10004432-1710547200-1710633599@jagstheim.de
SUMMARY:Організатор командних змагань у приміщенні Crailsheim
DESCRIPTION:VfB Jagstheim \n 
URL:https://jagstheim.de/event/%d0%be%d1%80%d0%b3%d0%b0%d0%bd%d1%96%d0%b7%d0%b0%d1%82%d0%be%d1%80-%d0%ba%d0%be%d0%bc%d0%b0%d0%bd%d0%b4%d0%bd%d0%b8%d1%85-%d0%b7%d0%bc%d0%b0%d0%b3%d0%b0%d0%bd%d1%8c-%d1%83-%d0%bf%d1%80%d0%b8%d0%bc/?lang=uk
LOCATION:Ягстауенхалле\, Головна вулиця Ягстгаймера 157\, Крайльсхайм\, Баден-Вюртемберг\, 74564\, Deutschland
CATEGORIES:Асоціація,Спорт
END:VEVENT
BEGIN:VEVENT
DTSTART;VALUE=DATE:20240309
DTEND;VALUE=DATE:20240310
DTSTAMP:20260420T155521
CREATED:20240107T105417Z
LAST-MODIFIED:20250205T062442Z
UID:10004395-1709942400-1710028799@jagstheim.de
SUMMARY:День змагань з настільного тенісу
DESCRIPTION: 
URL:https://jagstheim.de/event/%d0%b4%d0%b5%d0%bd%d1%8c-%d0%b7%d0%bc%d0%b0%d0%b3%d0%b0%d0%bd%d1%8c-%d0%b7-%d0%bd%d0%b0%d1%81%d1%82%d1%96%d0%bb%d1%8c%d0%bd%d0%be%d0%b3%d0%be-%d1%82%d0%b5%d0%bd%d1%96%d1%81%d1%83-5/?lang=uk
LOCATION:Баден-Вюртемберг
CATEGORIES:Асоціація,Спорт
END:VEVENT
BEGIN:VEVENT
DTSTART;VALUE=DATE:20240224
DTEND;VALUE=DATE:20240225
DTSTAMP:20260420T155521
CREATED:20240107T102535Z
LAST-MODIFIED:20240107T102535Z
UID:10004330-1708732800-1708819199@jagstheim.de
SUMMARY:День змагань з настільного тенісу
DESCRIPTION: 
URL:https://jagstheim.de/event/%d0%b4%d0%b5%d0%bd%d1%8c-%d0%b7%d0%bc%d0%b0%d0%b3%d0%b0%d0%bd%d1%8c-%d0%b7-%d0%bd%d0%b0%d1%81%d1%82%d1%96%d0%bb%d1%8c%d0%bd%d0%be%d0%b3%d0%be-%d1%82%d0%b5%d0%bd%d1%96%d1%81%d1%83-4/?lang=uk
LOCATION:Ягстауенхалле\, Головна вулиця Ягстгаймера 157\, Крайльсхайм\, Баден-Вюртемберг\, 74564\, Deutschland
CATEGORIES:Асоціація,Спорт
ATTACH;FMTTYPE=image/jpeg:https://jagstheim.de/wp-content/uploads/2024/01/table-tennis_640.jpg
END:VEVENT
BEGIN:VEVENT
DTSTART;VALUE=DATE:20240203
DTEND;VALUE=DATE:20240204
DTSTAMP:20260420T155521
CREATED:20240107T100404Z
LAST-MODIFIED:20240107T100404Z
UID:10004256-1706918400-1707004799@jagstheim.de
SUMMARY:День змагань з настільного тенісу
DESCRIPTION: 
URL:https://jagstheim.de/event/%d0%b4%d0%b5%d0%bd%d1%8c-%d0%b7%d0%bc%d0%b0%d0%b3%d0%b0%d0%bd%d1%8c-%d0%b7-%d0%bd%d0%b0%d1%81%d1%82%d1%96%d0%bb%d1%8c%d0%bd%d0%be%d0%b3%d0%be-%d1%82%d0%b5%d0%bd%d1%96%d1%81%d1%83-3/?lang=uk
LOCATION:Ягстауенхалле\, Головна вулиця Ягстгаймера 157\, Крайльсхайм\, Баден-Вюртемберг\, 74564\, Deutschland
CATEGORIES:Асоціація,Спорт
ATTACH;FMTTYPE=image/jpeg:https://jagstheim.de/wp-content/uploads/2024/01/table-tennis_640.jpg
END:VEVENT
BEGIN:VEVENT
DTSTART;VALUE=DATE:20240127
DTEND;VALUE=DATE:20240128
DTSTAMP:20260420T155521
CREATED:20240107T095434Z
LAST-MODIFIED:20240107T095434Z
UID:10004223-1706313600-1706399999@jagstheim.de
SUMMARY:День змагань з настільного тенісу
DESCRIPTION: 
URL:https://jagstheim.de/event/%d0%b4%d0%b5%d0%bd%d1%8c-%d0%b7%d0%bc%d0%b0%d0%b3%d0%b0%d0%bd%d1%8c-%d0%b7-%d0%bd%d0%b0%d1%81%d1%82%d1%96%d0%bb%d1%8c%d0%bd%d0%be%d0%b3%d0%be-%d1%82%d0%b5%d0%bd%d1%96%d1%81%d1%83-2/?lang=uk
LOCATION:Ягстауенхалле\, Головна вулиця Ягстгаймера 157\, Крайльсхайм\, Баден-Вюртемберг\, 74564\, Deutschland
CATEGORIES:Асоціація,Спорт
ATTACH;FMTTYPE=image/jpeg:https://jagstheim.de/wp-content/uploads/2024/01/table-tennis_640.jpg
END:VEVENT
BEGIN:VEVENT
DTSTART;TZID=Europe/Helsinki:20240107T000000
DTEND;TZID=Europe/Helsinki:20240107T000000
DTSTAMP:20260420T155521
CREATED:20240107T094313Z
LAST-MODIFIED:20240107T094313Z
UID:10004201-1704585600-1704585600@jagstheim.de
SUMMARY:День змагань з настільного тенісу
DESCRIPTION: 
URL:https://jagstheim.de/event/%d0%b4%d0%b5%d0%bd%d1%8c-%d0%b7%d0%bc%d0%b0%d0%b3%d0%b0%d0%bd%d1%8c-%d0%b7-%d0%bd%d0%b0%d1%81%d1%82%d1%96%d0%bb%d1%8c%d0%bd%d0%be%d0%b3%d0%be-%d1%82%d0%b5%d0%bd%d1%96%d1%81%d1%83/?lang=uk
LOCATION:Ягстауенхалле\, Головна вулиця Ягстгаймера 157\, Крайльсхайм\, Баден-Вюртемберг\, 74564\, Deutschland
CATEGORIES:Асоціація,Спорт
ATTACH;FMTTYPE=image/jpeg:https://jagstheim.de/wp-content/uploads/2024/01/table-tennis_640.jpg
END:VEVENT
BEGIN:VEVENT
DTSTART;TZID=Europe/Helsinki:20231118T074500
DTEND;TZID=Europe/Helsinki:20231118T153000
DTSTAMP:20260420T155521
CREATED:20231010T112004Z
LAST-MODIFIED:20231010T112004Z
UID:10003673-1700293500-1700321400@jagstheim.de
SUMMARY:Молодіжна екскурсія 18 листопада 2023 року
DESCRIPTION:Молодь VfB Jagstheim 1946 e.V. організовує одноденну поїздку до батутного парку Airtime в Нюрнберзі 18 листопада 2023 року.\nВзяти участь можуть усі діти та молодь віком від 6 років.\nМи зустрінемося в день заходу о 7.45 ранку на автобусній зупинці Ortsmitte Jagstheim. Виїзд автобусом о 8.00 ранку. Поверніться на автобусну зупинку в центрі Ягстхайму приблизно о 15.30. \nВартість – 30 євро з учасника (не члени клубу – 35 євро)\, включаючи проїзд\, вступний внесок\, піцу на обід та шкарпетки для стрибків\, і сплачується в день заходу. \nВласники StwCard отримують знижку 10%. У такому випадку\, будь ласка\, зверніть увагу на номер картки в розділі нижче.\nВам також знадобиться перекусити в дорозі\, трохи кишенькових грошей і достатня кількість напоїв (без скляних пляшок\, будь ласка). \nДля самих стрибків бажано вдягати спортивний одяг. \nБудь ласка\, зареєструйтеся до 4 листопада 2023 року. \nОскільки кількість місць в автобусі обмежена\, у разі перевищення максимальної кількості учасників\, при отриманні квитанції про реєстрацію приймається рішення про розподіл місць (учасники перед не учасниками). \n 
URL:https://jagstheim.de/event/%d0%bc%d0%be%d0%bb%d0%be%d0%b4%d1%96%d0%b6%d0%bd%d0%b0-%d0%b5%d0%ba%d1%81%d0%ba%d1%83%d1%80%d1%81%d1%96%d1%8f-18-%d0%bb%d0%b8%d1%81%d1%82%d0%be%d0%bf%d0%b0%d0%b4%d0%b0-2023-%d1%80%d0%be%d0%ba%d1%83/?lang=uk
LOCATION:Баден-Вюртемберг
CATEGORIES:Асоціація,Спорт
ATTACH;FMTTYPE=image/png:https://jagstheim.de/wp-content/uploads/2023/10/vfb_header_2.png
END:VEVENT
BEGIN:VEVENT
DTSTART;VALUE=DATE:20230923
DTEND;VALUE=DATE:20230924
DTSTAMP:20260420T155521
CREATED:20230706T083856Z
LAST-MODIFIED:20230706T083856Z
UID:10000688-1695427200-1695513599@jagstheim.de
SUMMARY:VfB | Гімнастика
DESCRIPTION:Команда Гауфіналу \n 
URL:https://jagstheim.de/event/vfb-%d0%b3%d1%96%d0%bc%d0%bd%d0%b0%d1%81%d1%82%d0%b8%d0%ba%d0%b0/?lang=uk
LOCATION:Зал “Карлсберг\, Вулиця Бойєрлахер\, 16\, Крайльсхайм\, 74564\, Deutschland
CATEGORIES:Асоціація,Спорт
ATTACH;FMTTYPE=image/jpeg:https://jagstheim.de/wp-content/uploads/2023/07/rings-4876839-scaled.jpg
END:VEVENT
BEGIN:VEVENT
DTSTART;TZID=Europe/Helsinki:20230906T193000
DTEND;TZID=Europe/Helsinki:20230906T203000
DTSTAMP:20260420T155521
CREATED:20230706T081728Z
LAST-MODIFIED:20230706T081728Z
UID:10000716-1694028600-1694032200@jagstheim.de
SUMMARY:VfB | Айкідо
DESCRIPTION:Початок навчання \n 
URL:https://jagstheim.de/event/vfb-%d0%b0%d0%b9%d0%ba%d1%96%d0%b4%d0%be-3/?lang=uk
LOCATION:Ягстауенхалле\, Головна вулиця Ягстгаймера 157\, Крайльсхайм\, Баден-Вюртемберг\, 74564\, Deutschland
CATEGORIES:Асоціація,Спорт
ATTACH;FMTTYPE=image/jpeg:https://jagstheim.de/wp-content/uploads/2023/07/aikido-362959_640.jpg
END:VEVENT
BEGIN:VEVENT
DTSTART;TZID=Europe/Helsinki:20230723T110000
DTEND;TZID=Europe/Helsinki:20230723T120000
DTSTAMP:20260420T155521
CREATED:20230706T063058Z
LAST-MODIFIED:20230706T063058Z
UID:10000694-1690110000-1690113600@jagstheim.de
SUMMARY:VfB | Айкідо
DESCRIPTION:Демонтаж килимка \n 
URL:https://jagstheim.de/event/vfb-%d0%b0%d0%b9%d0%ba%d1%96%d0%b4%d0%be-2/?lang=uk
LOCATION:Ягстауенхалле\, Головна вулиця Ягстгаймера 157\, Крайльсхайм\, Баден-Вюртемберг\, 74564\, Deutschland
CATEGORIES:Спорт
ATTACH;FMTTYPE=image/jpeg:https://jagstheim.de/wp-content/uploads/2023/07/yoga-940359_640.jpg
END:VEVENT
BEGIN:VEVENT
DTSTART;TZID=Europe/Helsinki:20230723T093000
DTEND;TZID=Europe/Helsinki:20230723T113000
DTSTAMP:20260420T155521
CREATED:20230706T062158Z
LAST-MODIFIED:20230706T062158Z
UID:10000655-1690104600-1690111800@jagstheim.de
SUMMARY:VfB | Айкідо
DESCRIPTION:Чистка килимка \n 
URL:https://jagstheim.de/event/vfb-%d0%b0%d0%b9%d0%ba%d1%96%d0%b4%d0%be/?lang=uk
LOCATION:Ягстауенхалле\, Головна вулиця Ягстгаймера 157\, Крайльсхайм\, Баден-Вюртемберг\, 74564\, Deutschland
CATEGORIES:Спорт
ATTACH;FMTTYPE=image/jpeg:https://jagstheim.de/wp-content/uploads/2023/07/cleaning-3977589_640.jpg
END:VEVENT
BEGIN:VEVENT
DTSTART;TZID=Europe/Helsinki:20230715T190000
DTEND;TZID=Europe/Helsinki:20230715T190000
DTSTAMP:20260420T155521
CREATED:20230714T060010Z
LAST-MODIFIED:20230714T060010Z
UID:10000769-1689447600-1689447600@jagstheim.de
SUMMARY:Спортивний вікенд | Фінали
DESCRIPTION: 
URL:https://jagstheim.de/event/%d1%81%d0%bf%d0%be%d1%80%d1%82%d0%b8%d0%b2%d0%bd%d0%b8%d0%b9-%d0%b2%d1%96%d0%ba%d0%b5%d0%bd%d0%b4-%d1%84%d1%96%d0%bd%d0%b0%d0%bb%d0%b8/?lang=uk
LOCATION:Спортивний майданчик\, Aubergstraße 72\, Крайльсхайм\, Баден-Вюртемберг\, 74564\, Deutschland
CATEGORIES:Асоціація,Виправлено,Спорт
END:VEVENT
BEGIN:VEVENT
DTSTART;TZID=Europe/Helsinki:20230715T150000
DTEND;TZID=Europe/Helsinki:20230715T190000
DTSTAMP:20260420T155521
CREATED:20230714T055900Z
LAST-MODIFIED:20230714T055900Z
UID:10000758-1689433200-1689447600@jagstheim.de
SUMMARY:Спортивний вікенд | Кубок села
DESCRIPTION: 
URL:https://jagstheim.de/event/%d1%81%d0%bf%d0%be%d1%80%d1%82%d0%b8%d0%b2%d0%bd%d0%b8%d0%b9-%d0%b2%d1%96%d0%ba%d0%b5%d0%bd%d0%b4-%d0%ba%d1%83%d0%b1%d0%be%d0%ba-%d1%81%d0%b5%d0%bb%d0%b0/?lang=uk
LOCATION:Спортивний майданчик\, Aubergstraße 72\, Крайльсхайм\, Баден-Вюртемберг\, 74564\, Deutschland
CATEGORIES:Асоціація,Виправлено,Спорт
END:VEVENT
BEGIN:VEVENT
DTSTART;TZID=Europe/Helsinki:20230715T103000
DTEND;TZID=Europe/Helsinki:20230715T150000
DTSTAMP:20260420T155521
CREATED:20230714T055443Z
LAST-MODIFIED:20230714T055443Z
UID:10000746-1689417000-1689433200@jagstheim.de
SUMMARY:Спортивний вікенд | Молодіжний турнір
DESCRIPTION: 
URL:https://jagstheim.de/event/%d1%81%d0%bf%d0%be%d1%80%d1%82%d0%b8%d0%b2%d0%bd%d0%b8%d0%b9-%d0%b2%d1%96%d0%ba%d0%b5%d0%bd%d0%b4-%d0%bc%d0%be%d0%bb%d0%be%d0%b4%d1%96%d0%b6%d0%bd%d0%b8%d0%b9-%d1%82%d1%83%d1%80%d0%bd%d1%96%d1%80/?lang=uk
LOCATION:Спортивний майданчик\, Aubergstraße 72\, Крайльсхайм\, Баден-Вюртемберг\, 74564\, Deutschland
CATEGORIES:Асоціація,Спорт
END:VEVENT
BEGIN:VEVENT
DTSTART;TZID=Europe/Helsinki:20230714T180000
DTEND;TZID=Europe/Helsinki:20230714T220000
DTSTAMP:20260420T155521
CREATED:20230714T055058Z
LAST-MODIFIED:20230714T055633Z
UID:10000736-1689357600-1689372000@jagstheim.de
SUMMARY:Спортивний вікенд | Кубок пенальті
DESCRIPTION:Кубок пенальті та Кубок села з гостинністю \n 
URL:https://jagstheim.de/event/%d1%81%d0%bf%d0%be%d1%80%d1%82%d0%b8%d0%b2%d0%bd%d0%b8%d0%b9-%d0%b2%d1%96%d0%ba%d0%b5%d0%bd%d0%b4/?lang=uk
LOCATION:Спортивний майданчик\, Aubergstraße 72\, Крайльсхайм\, Баден-Вюртемберг\, 74564\, Deutschland
CATEGORIES:Асоціація,Спорт
ATTACH;FMTTYPE=image/jpeg:https://jagstheim.de/wp-content/uploads/2023/07/iStock-1167399616_640.jpg
END:VEVENT
END:VCALENDAR