BEGIN:VCALENDAR
VERSION:2.0
PRODID:-//Jagstheim - ECPv6.15.20//NONSGML v1.0//EN
CALSCALE:GREGORIAN
METHOD:PUBLISH
X-WR-CALNAME:Jagstheim
X-ORIGINAL-URL:https://jagstheim.de/?lang=ar
X-WR-CALDESC:Events for Jagstheim
REFRESH-INTERVAL;VALUE=DURATION:PT1H
X-Robots-Tag:noindex
X-PUBLISHED-TTL:PT1H
BEGIN:VTIMEZONE
TZID:Europe/Helsinki
BEGIN:DAYLIGHT
TZOFFSETFROM:+0200
TZOFFSETTO:+0300
TZNAME:EEST
DTSTART:20220327T010000
END:DAYLIGHT
BEGIN:STANDARD
TZOFFSETFROM:+0300
TZOFFSETTO:+0200
TZNAME:EET
DTSTART:20221030T010000
END:STANDARD
BEGIN:DAYLIGHT
TZOFFSETFROM:+0200
TZOFFSETTO:+0300
TZNAME:EEST
DTSTART:20230326T010000
END:DAYLIGHT
BEGIN:STANDARD
TZOFFSETFROM:+0300
TZOFFSETTO:+0200
TZNAME:EET
DTSTART:20231029T010000
END:STANDARD
BEGIN:DAYLIGHT
TZOFFSETFROM:+0200
TZOFFSETTO:+0300
TZNAME:EEST
DTSTART:20240331T010000
END:DAYLIGHT
BEGIN:STANDARD
TZOFFSETFROM:+0300
TZOFFSETTO:+0200
TZNAME:EET
DTSTART:20241027T010000
END:STANDARD
BEGIN:DAYLIGHT
TZOFFSETFROM:+0200
TZOFFSETTO:+0300
TZNAME:EEST
DTSTART:20250330T010000
END:DAYLIGHT
BEGIN:STANDARD
TZOFFSETFROM:+0300
TZOFFSETTO:+0200
TZNAME:EET
DTSTART:20251026T010000
END:STANDARD
END:VTIMEZONE
BEGIN:VEVENT
DTSTART;TZID=Europe/Helsinki:20231122T181500
DTEND;TZID=Europe/Helsinki:20231122T193000
DTSTAMP:20260419T192932
CREATED:20230825T194007Z
LAST-MODIFIED:20230825T194204Z
UID:10001071-1700676900-1700681400@jagstheim.de
SUMMARY:KICK 4 Fit هو برنامج لياقة بدنية
DESCRIPTION:KICK 4 Fit هو برنامج للياقة البدنية مع عناصر ديناميكية من فنون الدفاع عن النفس التايكوندو.\nغير عنيف تماما ، نقوم بتدريب سرعتنا وتحملنا وقوتنا وتنسيقنا مع الصغار والكبار.\nنحن نحسن استجابتنا وأدائنا ونحفز الجهاز العصبي والعضلات والأوتار والمفاصل بطريقة ديناميكية للغاية.\nبعد العطلة الصيفية ، حان الوقت للمضي قدما – الطريقة المثالية للبدء!\nانضم إلينا! من 13 سبتمبر 2023 ، 6.15 مساء – 7.30 مساء\nمدرب:\nباسكال ميلي ، 5 دان TKD وإيزابيل شيفر ، 3 دان TKD\nبدء:\nالأربعاء 13 سبتمبر 2023 ، 6.15 – 7.30 مساء\nانقضاء:\nدورة الجري المستمر ، الدخول ممكن في أي وقت\nدورة:\n8.00 يورو لكل دورة تدريبية + عضوية Landfrauen Jagstheim\nمكان:\nJagstauenhalle \, Jagstheimer Hauptstraße 157 \, 74564 كرايلسهايم\nجلب:\nملابس رياضية مريحة ، مشروب\nالتسجيل الملزم:\nمع كاثرين لينز (0176.426 01912) \n 
URL:https://jagstheim.de/event/kick-4-fit-%d9%87%d9%88-%d8%a8%d8%b1%d9%86%d8%a7%d9%85%d8%ac-%d9%84%d9%8a%d8%a7%d9%82%d8%a9-%d8%a8%d8%af%d9%86%d9%8a%d8%a9/2023-11-22/?lang=ar
LOCATION:Jagstauenhalle\, جاغستهايمر Hauptstrasse 157\, كريلسهايم\, بادن فورتمبيرغ\, 74564\, Deutschland
CATEGORIES:المرأة الريفية,رياضي,منظمة
END:VEVENT
BEGIN:VEVENT
DTSTART;VALUE=DATE:20231124
DTEND;VALUE=DATE:20231125
DTSTAMP:20260419T192933
CREATED:20230526T080957Z
LAST-MODIFIED:20230711T141841Z
UID:10000107-1700784000-1700870399@jagstheim.de
SUMMARY:كيس أصفر وصندوق ورقي
DESCRIPTION:كرايلسهايم – منطقة 4 \nمقاطعة شفيبيش هول | تقويم النفايات | (lrasha.de) \n 
URL:https://jagstheim.de/event/%d9%83%d9%8a%d8%b3-%d8%a3%d8%b5%d9%81%d8%b1-%d9%88%d8%b5%d9%86%d8%af%d9%88%d9%82-%d9%88%d8%b1%d9%82%d9%8a-5-2/?lang=ar
CATEGORIES:التخلص من القمامة
ATTACH;FMTTYPE=image/webp:https://jagstheim.de/wp-content/uploads/2023/07/GelbPapier.webp
END:VEVENT
BEGIN:VEVENT
DTSTART;TZID=Europe/Helsinki:20231126T100000
DTEND;TZID=Europe/Helsinki:20231126T113000
DTSTAMP:20260419T192933
CREATED:20230706T104716Z
LAST-MODIFIED:20230706T104716Z
UID:10000318-1700992800-1700998200@jagstheim.de
SUMMARY:ربما الرعية
DESCRIPTION:إحياء ذكرى الفقيد \n 
URL:https://jagstheim.de/event/%d8%b1%d8%a8%d9%85%d8%a7-%d8%a7%d9%84%d8%b1%d8%b9%d9%8a%d8%a9-7/?lang=ar
LOCATION:ربما كنيسة القديس نيكولاس\, Stauseestrasse 3\, كريلسهايم\, بادن فورتمبيرغ\, 74564\, Deutschland
CATEGORIES:إنجيلية,كنيسة
ATTACH;FMTTYPE=image/jpeg:https://jagstheim.de/wp-content/uploads/2023/07/graveyard-7543514_640.jpg
END:VEVENT
BEGIN:VEVENT
DTSTART;VALUE=DATE:20231128
DTEND;VALUE=DATE:20231129
DTSTAMP:20260419T192933
CREATED:20230526T080958Z
LAST-MODIFIED:20230711T143704Z
UID:10000114-1701129600-1701215999@jagstheim.de
SUMMARY:النفايات العضوية والنفايات المتبقية
DESCRIPTION:كرايلسهايم – منطقة 4 \nمقاطعة شفيبيش هول | تقويم النفايات | (lrasha.de) \n 
URL:https://jagstheim.de/event/%d8%a7%d9%84%d9%86%d9%81%d8%a7%d9%8a%d8%a7%d8%aa-%d8%a7%d9%84%d8%b9%d8%b6%d9%88%d9%8a%d8%a9-%d9%88%d8%a7%d9%84%d9%86%d9%81%d8%a7%d9%8a%d8%a7%d8%aa-%d8%a7%d9%84%d9%85%d8%aa%d8%a8%d9%82%d9%8a%d8%a9-9-2/?lang=ar
CATEGORIES:التخلص من القمامة
ATTACH;FMTTYPE=image/webp:https://jagstheim.de/wp-content/uploads/2023/07/BioRest.webp
END:VEVENT
BEGIN:VEVENT
DTSTART;TZID=Europe/Helsinki:20231129T181500
DTEND;TZID=Europe/Helsinki:20231129T193000
DTSTAMP:20260419T192933
CREATED:20230825T194007Z
LAST-MODIFIED:20230825T194204Z
UID:10001072-1701281700-1701286200@jagstheim.de
SUMMARY:KICK 4 Fit هو برنامج لياقة بدنية
DESCRIPTION:KICK 4 Fit هو برنامج للياقة البدنية مع عناصر ديناميكية من فنون الدفاع عن النفس التايكوندو.\nغير عنيف تماما ، نقوم بتدريب سرعتنا وتحملنا وقوتنا وتنسيقنا مع الصغار والكبار.\nنحن نحسن استجابتنا وأدائنا ونحفز الجهاز العصبي والعضلات والأوتار والمفاصل بطريقة ديناميكية للغاية.\nبعد العطلة الصيفية ، حان الوقت للمضي قدما – الطريقة المثالية للبدء!\nانضم إلينا! من 13 سبتمبر 2023 ، 6.15 مساء – 7.30 مساء\nمدرب:\nباسكال ميلي ، 5 دان TKD وإيزابيل شيفر ، 3 دان TKD\nبدء:\nالأربعاء 13 سبتمبر 2023 ، 6.15 – 7.30 مساء\nانقضاء:\nدورة الجري المستمر ، الدخول ممكن في أي وقت\nدورة:\n8.00 يورو لكل دورة تدريبية + عضوية Landfrauen Jagstheim\nمكان:\nJagstauenhalle \, Jagstheimer Hauptstraße 157 \, 74564 كرايلسهايم\nجلب:\nملابس رياضية مريحة ، مشروب\nالتسجيل الملزم:\nمع كاثرين لينز (0176.426 01912) \n 
URL:https://jagstheim.de/event/kick-4-fit-%d9%87%d9%88-%d8%a8%d8%b1%d9%86%d8%a7%d9%85%d8%ac-%d9%84%d9%8a%d8%a7%d9%82%d8%a9-%d8%a8%d8%af%d9%86%d9%8a%d8%a9/2023-11-29/?lang=ar
LOCATION:Jagstauenhalle\, جاغستهايمر Hauptstrasse 157\, كريلسهايم\, بادن فورتمبيرغ\, 74564\, Deutschland
CATEGORIES:المرأة الريفية,رياضي,منظمة
END:VEVENT
BEGIN:VEVENT
DTSTART;TZID=Europe/Helsinki:20231206T140000
DTEND;TZID=Europe/Helsinki:20231206T153000
DTSTAMP:20260419T192933
CREATED:20230706T110641Z
LAST-MODIFIED:20230706T110641Z
UID:10000323-1701871200-1701876600@jagstheim.de
SUMMARY:كاثوليكي أبرشية
DESCRIPTION:نادي كبار السن \n 
URL:https://jagstheim.de/event/%d9%83%d8%a7%d8%ab%d9%88%d9%84%d9%8a%d9%83%d9%8a-%d8%a3%d8%a8%d8%b1%d8%b4%d9%8a%d8%a9-4/?lang=ar
LOCATION:كاثوليكي قاعة الرعية\, Eichwaldstrasse 16\, كريلسهايم\, بادن فورتمبيرغ\, 74564\, Deutschland
CATEGORIES:كاثوليكي,كنيسة
ATTACH;FMTTYPE=image/jpeg:https://jagstheim.de/wp-content/uploads/2023/07/sports-2863541_640.jpg
END:VEVENT
BEGIN:VEVENT
DTSTART;TZID=Europe/Helsinki:20231206T181500
DTEND;TZID=Europe/Helsinki:20231206T193000
DTSTAMP:20260419T192933
CREATED:20230825T194007Z
LAST-MODIFIED:20230825T194204Z
UID:10001073-1701886500-1701891000@jagstheim.de
SUMMARY:KICK 4 Fit هو برنامج لياقة بدنية
DESCRIPTION:KICK 4 Fit هو برنامج للياقة البدنية مع عناصر ديناميكية من فنون الدفاع عن النفس التايكوندو.\nغير عنيف تماما ، نقوم بتدريب سرعتنا وتحملنا وقوتنا وتنسيقنا مع الصغار والكبار.\nنحن نحسن استجابتنا وأدائنا ونحفز الجهاز العصبي والعضلات والأوتار والمفاصل بطريقة ديناميكية للغاية.\nبعد العطلة الصيفية ، حان الوقت للمضي قدما – الطريقة المثالية للبدء!\nانضم إلينا! من 13 سبتمبر 2023 ، 6.15 مساء – 7.30 مساء\nمدرب:\nباسكال ميلي ، 5 دان TKD وإيزابيل شيفر ، 3 دان TKD\nبدء:\nالأربعاء 13 سبتمبر 2023 ، 6.15 – 7.30 مساء\nانقضاء:\nدورة الجري المستمر ، الدخول ممكن في أي وقت\nدورة:\n8.00 يورو لكل دورة تدريبية + عضوية Landfrauen Jagstheim\nمكان:\nJagstauenhalle \, Jagstheimer Hauptstraße 157 \, 74564 كرايلسهايم\nجلب:\nملابس رياضية مريحة ، مشروب\nالتسجيل الملزم:\nمع كاثرين لينز (0176.426 01912) \n 
URL:https://jagstheim.de/event/kick-4-fit-%d9%87%d9%88-%d8%a8%d8%b1%d9%86%d8%a7%d9%85%d8%ac-%d9%84%d9%8a%d8%a7%d9%82%d8%a9-%d8%a8%d8%af%d9%86%d9%8a%d8%a9/2023-12-06/?lang=ar
LOCATION:Jagstauenhalle\, جاغستهايمر Hauptstrasse 157\, كريلسهايم\, بادن فورتمبيرغ\, 74564\, Deutschland
CATEGORIES:المرأة الريفية,رياضي,منظمة
END:VEVENT
BEGIN:VEVENT
DTSTART;TZID=Europe/Helsinki:20231209T170000
DTEND;TZID=Europe/Helsinki:20231209T220000
DTSTAMP:20260419T192933
CREATED:20230706T111658Z
LAST-MODIFIED:20231128T111125Z
UID:10000328-1702141200-1702159200@jagstheim.de
SUMMARY:مجتمع القرية
DESCRIPTION: 
URL:https://jagstheim.de/event/%d9%85%d8%ac%d8%aa%d9%85%d8%b9-%d8%a7%d9%84%d9%82%d8%b1%d9%8a%d8%a9/?lang=ar
LOCATION:ربما كنيسة القديس نيكولاس\, Stauseestrasse 3\, كريلسهايم\, بادن فورتمبيرغ\, 74564\, Deutschland
CATEGORIES:المهرجانات,سوق
ATTACH;FMTTYPE=image/jpeg:https://jagstheim.de/wp-content/uploads/2023/07/lights-4705882_640.jpg
END:VEVENT
BEGIN:VEVENT
DTSTART;TZID=Europe/Helsinki:20231210T100000
DTEND;TZID=Europe/Helsinki:20231210T113000
DTSTAMP:20260419T192933
CREATED:20230706T112036Z
LAST-MODIFIED:20230706T112036Z
UID:10000333-1702202400-1702207800@jagstheim.de
SUMMARY:ربما الرعية
DESCRIPTION:العبادة المسكونية \n 
URL:https://jagstheim.de/event/%d8%b1%d8%a8%d9%85%d8%a7-%d8%a7%d9%84%d8%b1%d8%b9%d9%8a%d8%a9-8/?lang=ar
LOCATION:ربما كنيسة القديس نيكولاس\, Stauseestrasse 3\, كريلسهايم\, بادن فورتمبيرغ\, 74564\, Deutschland
CATEGORIES:إنجيلية,كنيسة
ATTACH;FMTTYPE=image/jpeg:https://jagstheim.de/wp-content/uploads/2023/07/supper-2610875_640.jpg
END:VEVENT
BEGIN:VEVENT
DTSTART;TZID=Europe/Helsinki:20231210T100000
DTEND;TZID=Europe/Helsinki:20231210T170000
DTSTAMP:20260419T192933
CREATED:20230706T112655Z
LAST-MODIFIED:20231128T111527Z
UID:10000338-1702202400-1702227600@jagstheim.de
SUMMARY:مجتمع القرية
DESCRIPTION: 
URL:https://jagstheim.de/event/%d9%85%d8%ac%d8%aa%d9%85%d8%b9-%d8%a7%d9%84%d9%82%d8%b1%d9%8a%d8%a9-2/?lang=ar
LOCATION:ربما كنيسة القديس نيكولاس\, Stauseestrasse 3\, كريلسهايم\, بادن فورتمبيرغ\, 74564\, Deutschland
CATEGORIES:المهرجانات,سوق
ATTACH;FMTTYPE=image/jpeg:https://jagstheim.de/wp-content/uploads/2023/07/christmas-market-550323_640.jpg
END:VEVENT
BEGIN:VEVENT
DTSTART;TZID=Europe/Helsinki:20231210T160000
DTEND;TZID=Europe/Helsinki:20231210T170000
DTSTAMP:20260419T192933
CREATED:20230706T113320Z
LAST-MODIFIED:20230706T113320Z
UID:10000343-1702224000-1702227600@jagstheim.de
SUMMARY:اكليلا من الأغاني
DESCRIPTION:حفلة موسيقية \n 
URL:https://jagstheim.de/event/%d8%a7%d9%83%d9%84%d9%8a%d9%84%d8%a7-%d9%85%d9%86-%d8%a7%d9%84%d8%a3%d8%ba%d8%a7%d9%86%d9%8a/?lang=ar
LOCATION:ربما كنيسة القديس نيكولاس\, Stauseestrasse 3\, كريلسهايم\, بادن فورتمبيرغ\, 74564\, Deutschland
CATEGORIES:إنجيلية,اكليلا من الأغاني,كنيسة
ATTACH;FMTTYPE=image/jpeg:https://jagstheim.de/wp-content/uploads/2023/07/bear-1084043_640.jpg
END:VEVENT
BEGIN:VEVENT
DTSTART;VALUE=DATE:20231212
DTEND;VALUE=DATE:20231213
DTSTAMP:20260419T192933
CREATED:20230526T080958Z
LAST-MODIFIED:20230711T143637Z
UID:10000130-1702339200-1702425599@jagstheim.de
SUMMARY:النفايات العضوية والنفايات المتبقية
DESCRIPTION:كرايلسهايم – منطقة 4 \nمقاطعة شفيبيش هول | تقويم النفايات | (lrasha.de) \n 
URL:https://jagstheim.de/event/%d8%a7%d9%84%d9%86%d9%81%d8%a7%d9%8a%d8%a7%d8%aa-%d8%a7%d9%84%d8%b9%d8%b6%d9%88%d9%8a%d8%a9-%d9%88%d8%a7%d9%84%d9%86%d9%81%d8%a7%d9%8a%d8%a7%d8%aa-%d8%a7%d9%84%d9%85%d8%aa%d8%a8%d9%82%d9%8a%d8%a9-8-2/?lang=ar
CATEGORIES:التخلص من القمامة
ATTACH;FMTTYPE=image/webp:https://jagstheim.de/wp-content/uploads/2023/07/BioRest.webp
END:VEVENT
BEGIN:VEVENT
DTSTART;TZID=Europe/Helsinki:20231212T143000
DTEND;TZID=Europe/Helsinki:20231212T160000
DTSTAMP:20260419T192933
CREATED:20230706T113759Z
LAST-MODIFIED:20230706T113759Z
UID:10000348-1702391400-1702396800@jagstheim.de
SUMMARY:ربما الرعية
DESCRIPTION:حفلة عيد الميلاد \n 
URL:https://jagstheim.de/event/%d8%b1%d8%a8%d9%85%d8%a7-%d8%a7%d9%84%d8%b1%d8%b9%d9%8a%d8%a9-9/?lang=ar
LOCATION:ربما قاعة المجتمع\, Stauseestrasse 5\, كريلسهايم\, 74564
CATEGORIES:إنجيلية,كنيسة
ATTACH;FMTTYPE=image/jpeg:https://jagstheim.de/wp-content/uploads/2023/07/christmas-4724856_640.jpg
END:VEVENT
BEGIN:VEVENT
DTSTART;TZID=Europe/Helsinki:20231213T181500
DTEND;TZID=Europe/Helsinki:20231213T193000
DTSTAMP:20260419T192933
CREATED:20230825T194007Z
LAST-MODIFIED:20230825T194204Z
UID:10001074-1702491300-1702495800@jagstheim.de
SUMMARY:KICK 4 Fit هو برنامج لياقة بدنية
DESCRIPTION:KICK 4 Fit هو برنامج للياقة البدنية مع عناصر ديناميكية من فنون الدفاع عن النفس التايكوندو.\nغير عنيف تماما ، نقوم بتدريب سرعتنا وتحملنا وقوتنا وتنسيقنا مع الصغار والكبار.\nنحن نحسن استجابتنا وأدائنا ونحفز الجهاز العصبي والعضلات والأوتار والمفاصل بطريقة ديناميكية للغاية.\nبعد العطلة الصيفية ، حان الوقت للمضي قدما – الطريقة المثالية للبدء!\nانضم إلينا! من 13 سبتمبر 2023 ، 6.15 مساء – 7.30 مساء\nمدرب:\nباسكال ميلي ، 5 دان TKD وإيزابيل شيفر ، 3 دان TKD\nبدء:\nالأربعاء 13 سبتمبر 2023 ، 6.15 – 7.30 مساء\nانقضاء:\nدورة الجري المستمر ، الدخول ممكن في أي وقت\nدورة:\n8.00 يورو لكل دورة تدريبية + عضوية Landfrauen Jagstheim\nمكان:\nJagstauenhalle \, Jagstheimer Hauptstraße 157 \, 74564 كرايلسهايم\nجلب:\nملابس رياضية مريحة ، مشروب\nالتسجيل الملزم:\nمع كاثرين لينز (0176.426 01912) \n 
URL:https://jagstheim.de/event/kick-4-fit-%d9%87%d9%88-%d8%a8%d8%b1%d9%86%d8%a7%d9%85%d8%ac-%d9%84%d9%8a%d8%a7%d9%82%d8%a9-%d8%a8%d8%af%d9%86%d9%8a%d8%a9/2023-12-13/?lang=ar
LOCATION:Jagstauenhalle\, جاغستهايمر Hauptstrasse 157\, كريلسهايم\, بادن فورتمبيرغ\, 74564\, Deutschland
CATEGORIES:المرأة الريفية,رياضي,منظمة
END:VEVENT
BEGIN:VEVENT
DTSTART;TZID=Europe/Helsinki:20231220T181500
DTEND;TZID=Europe/Helsinki:20231220T193000
DTSTAMP:20260419T192933
CREATED:20230825T194007Z
LAST-MODIFIED:20230825T194204Z
UID:10001075-1703096100-1703100600@jagstheim.de
SUMMARY:KICK 4 Fit هو برنامج لياقة بدنية
DESCRIPTION:KICK 4 Fit هو برنامج للياقة البدنية مع عناصر ديناميكية من فنون الدفاع عن النفس التايكوندو.\nغير عنيف تماما ، نقوم بتدريب سرعتنا وتحملنا وقوتنا وتنسيقنا مع الصغار والكبار.\nنحن نحسن استجابتنا وأدائنا ونحفز الجهاز العصبي والعضلات والأوتار والمفاصل بطريقة ديناميكية للغاية.\nبعد العطلة الصيفية ، حان الوقت للمضي قدما – الطريقة المثالية للبدء!\nانضم إلينا! من 13 سبتمبر 2023 ، 6.15 مساء – 7.30 مساء\nمدرب:\nباسكال ميلي ، 5 دان TKD وإيزابيل شيفر ، 3 دان TKD\nبدء:\nالأربعاء 13 سبتمبر 2023 ، 6.15 – 7.30 مساء\nانقضاء:\nدورة الجري المستمر ، الدخول ممكن في أي وقت\nدورة:\n8.00 يورو لكل دورة تدريبية + عضوية Landfrauen Jagstheim\nمكان:\nJagstauenhalle \, Jagstheimer Hauptstraße 157 \, 74564 كرايلسهايم\nجلب:\nملابس رياضية مريحة ، مشروب\nالتسجيل الملزم:\nمع كاثرين لينز (0176.426 01912) \n 
URL:https://jagstheim.de/event/kick-4-fit-%d9%87%d9%88-%d8%a8%d8%b1%d9%86%d8%a7%d9%85%d8%ac-%d9%84%d9%8a%d8%a7%d9%82%d8%a9-%d8%a8%d8%af%d9%86%d9%8a%d8%a9/2023-12-20/?lang=ar
LOCATION:Jagstauenhalle\, جاغستهايمر Hauptstrasse 157\, كريلسهايم\, بادن فورتمبيرغ\, 74564\, Deutschland
CATEGORIES:المرأة الريفية,رياضي,منظمة
END:VEVENT
BEGIN:VEVENT
DTSTART;VALUE=DATE:20231222
DTEND;VALUE=DATE:20231223
DTSTAMP:20260419T192933
CREATED:20230526T081659Z
LAST-MODIFIED:20230710T125751Z
UID:10000136-1703203200-1703289599@jagstheim.de
SUMMARY:كيس أصفر وصندوق ورقي
DESCRIPTION:كرايلسهايم – منطقة 4 \nمقاطعة شفيبيش هول | تقويم النفايات | (lrasha.de) \n 
URL:https://jagstheim.de/event/%d9%83%d9%8a%d8%b3-%d8%a3%d8%b5%d9%81%d8%b1-%d9%88%d8%b5%d9%86%d8%af%d9%88%d9%82-%d9%88%d8%b1%d9%82%d9%8a-7/?lang=ar
CATEGORIES:التخلص من القمامة
ATTACH;FMTTYPE=image/webp:https://jagstheim.de/wp-content/uploads/2023/07/GelbPapier.webp
END:VEVENT
BEGIN:VEVENT
DTSTART;TZID=Europe/Helsinki:20231224T160000
DTEND;TZID=Europe/Helsinki:20231224T170000
DTSTAMP:20260419T192933
CREATED:20230706T114528Z
LAST-MODIFIED:20230706T114528Z
UID:10000353-1703433600-1703437200@jagstheim.de
SUMMARY:ربما الرعية
DESCRIPTION:عبادة الأسرة \n 
URL:https://jagstheim.de/event/%d8%b1%d8%a8%d9%85%d8%a7-%d8%a7%d9%84%d8%b1%d8%b9%d9%8a%d8%a9-10/?lang=ar
LOCATION:ربما كنيسة القديس نيكولاس\, Stauseestrasse 3\, كريلسهايم\, بادن فورتمبيرغ\, 74564\, Deutschland
CATEGORIES:إنجيلية,كنيسة
ATTACH;FMTTYPE=image/jpeg:https://jagstheim.de/wp-content/uploads/2023/07/church-669556_640.jpg
END:VEVENT
BEGIN:VEVENT
DTSTART;TZID=Europe/Helsinki:20231224T190000
DTEND;TZID=Europe/Helsinki:20231224T200000
DTSTAMP:20260419T192933
CREATED:20230706T114735Z
LAST-MODIFIED:20230706T114735Z
UID:10000358-1703444400-1703448000@jagstheim.de
SUMMARY:ربما الرعية
DESCRIPTION:عبادة الأسرة \n 
URL:https://jagstheim.de/event/%d8%b1%d8%a8%d9%85%d8%a7-%d8%a7%d9%84%d8%b1%d8%b9%d9%8a%d8%a9-11/?lang=ar
LOCATION:ربما كنيسة القديس نيكولاس\, Stauseestrasse 3\, كريلسهايم\, بادن فورتمبيرغ\, 74564\, Deutschland
CATEGORIES:إنجيلية,كنيسة
ATTACH;FMTTYPE=image/jpeg:https://jagstheim.de/wp-content/uploads/2023/07/bible-5255924_640.jpg
END:VEVENT
BEGIN:VEVENT
DTSTART;TZID=Europe/Helsinki:20231225T100000
DTEND;TZID=Europe/Helsinki:20231225T113000
DTSTAMP:20260419T192933
CREATED:20230706T114919Z
LAST-MODIFIED:20230706T114919Z
UID:10000363-1703498400-1703503800@jagstheim.de
SUMMARY:ربما الرعية
DESCRIPTION:خدمة عيد الميلاد \n 
URL:https://jagstheim.de/event/%d8%b1%d8%a8%d9%85%d8%a7-%d8%a7%d9%84%d8%b1%d8%b9%d9%8a%d8%a9-12/?lang=ar
LOCATION:ربما كنيسة القديس نيكولاس\, Stauseestrasse 3\, كريلسهايم\, بادن فورتمبيرغ\, 74564\, Deutschland
CATEGORIES:إنجيلية,كنيسة
ATTACH;FMTTYPE=image/jpeg:https://jagstheim.de/wp-content/uploads/2023/07/christmas-1740325_640.jpg
END:VEVENT
BEGIN:VEVENT
DTSTART;TZID=Europe/Helsinki:20231227T181500
DTEND;TZID=Europe/Helsinki:20231227T193000
DTSTAMP:20260419T192933
CREATED:20230825T194007Z
LAST-MODIFIED:20230825T194204Z
UID:10001076-1703700900-1703705400@jagstheim.de
SUMMARY:KICK 4 Fit هو برنامج لياقة بدنية
DESCRIPTION:KICK 4 Fit هو برنامج للياقة البدنية مع عناصر ديناميكية من فنون الدفاع عن النفس التايكوندو.\nغير عنيف تماما ، نقوم بتدريب سرعتنا وتحملنا وقوتنا وتنسيقنا مع الصغار والكبار.\nنحن نحسن استجابتنا وأدائنا ونحفز الجهاز العصبي والعضلات والأوتار والمفاصل بطريقة ديناميكية للغاية.\nبعد العطلة الصيفية ، حان الوقت للمضي قدما – الطريقة المثالية للبدء!\nانضم إلينا! من 13 سبتمبر 2023 ، 6.15 مساء – 7.30 مساء\nمدرب:\nباسكال ميلي ، 5 دان TKD وإيزابيل شيفر ، 3 دان TKD\nبدء:\nالأربعاء 13 سبتمبر 2023 ، 6.15 – 7.30 مساء\nانقضاء:\nدورة الجري المستمر ، الدخول ممكن في أي وقت\nدورة:\n8.00 يورو لكل دورة تدريبية + عضوية Landfrauen Jagstheim\nمكان:\nJagstauenhalle \, Jagstheimer Hauptstraße 157 \, 74564 كرايلسهايم\nجلب:\nملابس رياضية مريحة ، مشروب\nالتسجيل الملزم:\nمع كاثرين لينز (0176.426 01912) \n 
URL:https://jagstheim.de/event/kick-4-fit-%d9%87%d9%88-%d8%a8%d8%b1%d9%86%d8%a7%d9%85%d8%ac-%d9%84%d9%8a%d8%a7%d9%82%d8%a9-%d8%a8%d8%af%d9%86%d9%8a%d8%a9/2023-12-27/?lang=ar
LOCATION:Jagstauenhalle\, جاغستهايمر Hauptstrasse 157\, كريلسهايم\, بادن فورتمبيرغ\, 74564\, Deutschland
CATEGORIES:المرأة الريفية,رياضي,منظمة
END:VEVENT
BEGIN:VEVENT
DTSTART;VALUE=DATE:20231228
DTEND;VALUE=DATE:20231229
DTSTAMP:20260419T192933
CREATED:20230526T081700Z
LAST-MODIFIED:20230711T143615Z
UID:10000140-1703721600-1703807999@jagstheim.de
SUMMARY:النفايات العضوية والنفايات المتبقية
DESCRIPTION:كرايلسهايم – منطقة 4 \nمقاطعة شفيبيش هول | تقويم النفايات | (lrasha.de) \n 
URL:https://jagstheim.de/event/%d8%a7%d9%84%d9%86%d9%81%d8%a7%d9%8a%d8%a7%d8%aa-%d8%a7%d9%84%d8%b9%d8%b6%d9%88%d9%8a%d8%a9-%d9%88%d8%a7%d9%84%d9%86%d9%81%d8%a7%d9%8a%d8%a7%d8%aa-%d8%a7%d9%84%d9%85%d8%aa%d8%a8%d9%82%d9%8a%d8%a9-12/?lang=ar
CATEGORIES:التخلص من القمامة
ATTACH;FMTTYPE=image/webp:https://jagstheim.de/wp-content/uploads/2023/07/BioRest.webp
END:VEVENT
BEGIN:VEVENT
DTSTART;TZID=Europe/Helsinki:20231231T170000
DTEND;TZID=Europe/Helsinki:20231231T183000
DTSTAMP:20260419T192933
CREATED:20230706T115125Z
LAST-MODIFIED:20230706T115125Z
UID:10000368-1704042000-1704047400@jagstheim.de
SUMMARY:ربما الرعية
DESCRIPTION:خدمة رأس السنة الجديدة \n 
URL:https://jagstheim.de/event/%d8%b1%d8%a8%d9%85%d8%a7-%d8%a7%d9%84%d8%b1%d8%b9%d9%8a%d8%a9-13/?lang=ar
LOCATION:ربما كنيسة القديس نيكولاس\, Stauseestrasse 3\, كريلسهايم\, بادن فورتمبيرغ\, 74564\, Deutschland
CATEGORIES:إنجيلية,كنيسة
ATTACH;FMTTYPE=image/jpeg:https://jagstheim.de/wp-content/uploads/2023/07/lucky-pig-3898098_640.jpg
END:VEVENT
BEGIN:VEVENT
DTSTART;TZID=Europe/Helsinki:20240103T181500
DTEND;TZID=Europe/Helsinki:20240103T193000
DTSTAMP:20260419T192933
CREATED:20230825T194007Z
LAST-MODIFIED:20230825T194204Z
UID:10001077-1704305700-1704310200@jagstheim.de
SUMMARY:KICK 4 Fit هو برنامج لياقة بدنية
DESCRIPTION:KICK 4 Fit هو برنامج للياقة البدنية مع عناصر ديناميكية من فنون الدفاع عن النفس التايكوندو.\nغير عنيف تماما ، نقوم بتدريب سرعتنا وتحملنا وقوتنا وتنسيقنا مع الصغار والكبار.\nنحن نحسن استجابتنا وأدائنا ونحفز الجهاز العصبي والعضلات والأوتار والمفاصل بطريقة ديناميكية للغاية.\nبعد العطلة الصيفية ، حان الوقت للمضي قدما – الطريقة المثالية للبدء!\nانضم إلينا! من 13 سبتمبر 2023 ، 6.15 مساء – 7.30 مساء\nمدرب:\nباسكال ميلي ، 5 دان TKD وإيزابيل شيفر ، 3 دان TKD\nبدء:\nالأربعاء 13 سبتمبر 2023 ، 6.15 – 7.30 مساء\nانقضاء:\nدورة الجري المستمر ، الدخول ممكن في أي وقت\nدورة:\n8.00 يورو لكل دورة تدريبية + عضوية Landfrauen Jagstheim\nمكان:\nJagstauenhalle \, Jagstheimer Hauptstraße 157 \, 74564 كرايلسهايم\nجلب:\nملابس رياضية مريحة ، مشروب\nالتسجيل الملزم:\nمع كاثرين لينز (0176.426 01912) \n 
URL:https://jagstheim.de/event/kick-4-fit-%d9%87%d9%88-%d8%a8%d8%b1%d9%86%d8%a7%d9%85%d8%ac-%d9%84%d9%8a%d8%a7%d9%82%d8%a9-%d8%a8%d8%af%d9%86%d9%8a%d8%a9/2024-01-03/?lang=ar
LOCATION:Jagstauenhalle\, جاغستهايمر Hauptstrasse 157\, كريلسهايم\, بادن فورتمبيرغ\, 74564\, Deutschland
CATEGORIES:المرأة الريفية,رياضي,منظمة
END:VEVENT
BEGIN:VEVENT
DTSTART;TZID=Europe/Helsinki:20240105T190000
DTEND;TZID=Europe/Helsinki:20240105T210000
DTSTAMP:20260419T192933
CREATED:20231210T182141Z
LAST-MODIFIED:20231210T182141Z
UID:10004115-1704481200-1704488400@jagstheim.de
SUMMARY:استقبال العام الجديد
DESCRIPTION: 
URL:https://jagstheim.de/event/%d8%a7%d8%b3%d8%aa%d9%82%d8%a8%d8%a7%d9%84-%d8%a7%d9%84%d8%b9%d8%a7%d9%85-%d8%a7%d9%84%d8%ac%d8%af%d9%8a%d8%af/?lang=ar
LOCATION:Jagstauenhalle\, جاغستهايمر Hauptstrasse 157\, كريلسهايم\, بادن فورتمبيرغ\, 74564\, Deutschland
CATEGORIES:مجلس محلي
ATTACH;FMTTYPE=image/jpeg:https://jagstheim.de/wp-content/uploads/2023/12/sylvester-3038086_640.jpg
END:VEVENT
BEGIN:VEVENT
DTSTART;TZID=Europe/Helsinki:20240107T000000
DTEND;TZID=Europe/Helsinki:20240107T000000
DTSTAMP:20260419T192933
CREATED:20240107T094313Z
LAST-MODIFIED:20240107T094313Z
UID:10004192-1704585600-1704585600@jagstheim.de
SUMMARY:يوم مباراة تنس الطاولة
DESCRIPTION: 
URL:https://jagstheim.de/event/%d9%8a%d9%88%d9%85-%d9%85%d8%a8%d8%a7%d8%b1%d8%a7%d8%a9-%d8%aa%d9%86%d8%b3-%d8%a7%d9%84%d8%b7%d8%a7%d9%88%d9%84%d8%a9/?lang=ar
LOCATION:Jagstauenhalle\, جاغستهايمر Hauptstrasse 157\, كريلسهايم\, بادن فورتمبيرغ\, 74564\, Deutschland
CATEGORIES:رياضات,منظمة
ATTACH;FMTTYPE=image/jpeg:https://jagstheim.de/wp-content/uploads/2024/01/table-tennis_640.jpg
END:VEVENT
BEGIN:VEVENT
DTSTART;VALUE=DATE:20240109
DTEND;VALUE=DATE:20240110
DTSTAMP:20260419T192933
CREATED:20231210T173700Z
LAST-MODIFIED:20250102T065654Z
UID:10003711-1704758400-1704844799@jagstheim.de
SUMMARY:النفايات العضوية والنفايات المتبقية
DESCRIPTION:كرايلسهايم – المنطقة 4تواريخالتجميع: منطقة شفيبيش هول \n  \n 
URL:https://jagstheim.de/event/%d8%a7%d9%84%d9%86%d9%81%d8%a7%d9%8a%d8%a7%d8%aa-%d8%a7%d9%84%d8%b9%d8%b6%d9%88%d9%8a%d8%a9-%d9%88%d8%a7%d9%84%d9%86%d9%81%d8%a7%d9%8a%d8%a7%d8%aa-%d8%a7%d9%84%d9%85%d8%aa%d8%a8%d9%82%d9%8a%d8%a9-13/2024-01-09/?lang=ar
CATEGORIES:التخلص من القمامة
ATTACH;FMTTYPE=image/webp:https://jagstheim.de/wp-content/uploads/2023/07/BioRest.webp
END:VEVENT
BEGIN:VEVENT
DTSTART;TZID=Europe/Helsinki:20240109T143000
DTEND;TZID=Europe/Helsinki:20240109T163000
DTSTAMP:20260419T192933
CREATED:20240107T085950Z
LAST-MODIFIED:20240107T085950Z
UID:10004127-1704810600-1704817800@jagstheim.de
SUMMARY:بعد ظهر اليوم
DESCRIPTION: 
URL:https://jagstheim.de/event/%d8%a8%d8%b9%d8%af-%d8%b8%d9%87%d8%b1-%d8%a7%d9%84%d9%8a%d9%88%d9%85/?lang=ar
LOCATION:ربما قاعة المجتمع\, Stauseestrasse 5\, كريلسهايم\, 74564
CATEGORIES:إنجيلية,كنيسة
ATTACH;FMTTYPE=image/jpeg:https://jagstheim.de/wp-content/uploads/2023/07/coffee-shop-3699340-scaled.jpg
END:VEVENT
BEGIN:VEVENT
DTSTART;TZID=Europe/Helsinki:20240110T140000
DTEND;TZID=Europe/Helsinki:20240110T160000
DTSTAMP:20260419T192933
CREATED:20240107T090140Z
LAST-MODIFIED:20240107T090257Z
UID:10004137-1704895200-1704902400@jagstheim.de
SUMMARY:نادي كبار السن
DESCRIPTION:رعية بطرس وبولس جاغستهايم الكاثوليكية، مركز المجتمع الكاثوليكي، 2 ظهرًا – 4 مساءً \n 
URL:https://jagstheim.de/event/%d9%86%d8%a7%d8%af%d9%8a-%d9%83%d8%a8%d8%a7%d8%b1-%d8%a7%d9%84%d8%b3%d9%86/?lang=ar
LOCATION:كاثوليكي قاعة الرعية\, Eichwaldstrasse 16\, كريلسهايم\, بادن فورتمبيرغ\, 74564\, Deutschland
CATEGORIES:كاثوليكي,كنيسة
ATTACH;FMTTYPE=image/jpeg:https://jagstheim.de/wp-content/uploads/2023/07/sports-2863541_640.jpg
END:VEVENT
BEGIN:VEVENT
DTSTART;TZID=Europe/Helsinki:20240110T181500
DTEND;TZID=Europe/Helsinki:20240110T193000
DTSTAMP:20260419T192933
CREATED:20230825T194007Z
LAST-MODIFIED:20230825T194204Z
UID:10001078-1704910500-1704915000@jagstheim.de
SUMMARY:KICK 4 Fit هو برنامج لياقة بدنية
DESCRIPTION:KICK 4 Fit هو برنامج للياقة البدنية مع عناصر ديناميكية من فنون الدفاع عن النفس التايكوندو.\nغير عنيف تماما ، نقوم بتدريب سرعتنا وتحملنا وقوتنا وتنسيقنا مع الصغار والكبار.\nنحن نحسن استجابتنا وأدائنا ونحفز الجهاز العصبي والعضلات والأوتار والمفاصل بطريقة ديناميكية للغاية.\nبعد العطلة الصيفية ، حان الوقت للمضي قدما – الطريقة المثالية للبدء!\nانضم إلينا! من 13 سبتمبر 2023 ، 6.15 مساء – 7.30 مساء\nمدرب:\nباسكال ميلي ، 5 دان TKD وإيزابيل شيفر ، 3 دان TKD\nبدء:\nالأربعاء 13 سبتمبر 2023 ، 6.15 – 7.30 مساء\nانقضاء:\nدورة الجري المستمر ، الدخول ممكن في أي وقت\nدورة:\n8.00 يورو لكل دورة تدريبية + عضوية Landfrauen Jagstheim\nمكان:\nJagstauenhalle \, Jagstheimer Hauptstraße 157 \, 74564 كرايلسهايم\nجلب:\nملابس رياضية مريحة ، مشروب\nالتسجيل الملزم:\nمع كاثرين لينز (0176.426 01912) \n 
URL:https://jagstheim.de/event/kick-4-fit-%d9%87%d9%88-%d8%a8%d8%b1%d9%86%d8%a7%d9%85%d8%ac-%d9%84%d9%8a%d8%a7%d9%82%d8%a9-%d8%a8%d8%af%d9%86%d9%8a%d8%a9/2024-01-10/?lang=ar
LOCATION:Jagstauenhalle\, جاغستهايمر Hauptstrasse 157\, كريلسهايم\, بادن فورتمبيرغ\, 74564\, Deutschland
CATEGORIES:المرأة الريفية,رياضي,منظمة
END:VEVENT
BEGIN:VEVENT
DTSTART;VALUE=DATE:20240113
DTEND;VALUE=DATE:20240114
DTSTAMP:20260419T192933
CREATED:20240107T090447Z
LAST-MODIFIED:20240107T090447Z
UID:10004148-1705104000-1705190399@jagstheim.de
SUMMARY:منطقة النساء Crailsheim JAH
DESCRIPTION: 
URL:https://jagstheim.de/event/%d9%85%d9%86%d8%b7%d9%82%d8%a9-%d8%a7%d9%84%d9%86%d8%b3%d8%a7%d8%a1-crailsheim-jah/?lang=ar
CATEGORIES:المرأة الريفية,منظمة
END:VEVENT
END:VCALENDAR