BEGIN:VCALENDAR
VERSION:2.0
PRODID:-//Jagstheim - ECPv6.15.20//NONSGML v1.0//EN
CALSCALE:GREGORIAN
METHOD:PUBLISH
X-WR-CALNAME:Jagstheim
X-ORIGINAL-URL:https://jagstheim.de/?lang=ar
X-WR-CALDESC:Events for Jagstheim
REFRESH-INTERVAL;VALUE=DURATION:PT1H
X-Robots-Tag:noindex
X-PUBLISHED-TTL:PT1H
BEGIN:VTIMEZONE
TZID:Europe/Helsinki
BEGIN:DAYLIGHT
TZOFFSETFROM:+0200
TZOFFSETTO:+0300
TZNAME:EEST
DTSTART:20230326T010000
END:DAYLIGHT
BEGIN:STANDARD
TZOFFSETFROM:+0300
TZOFFSETTO:+0200
TZNAME:EET
DTSTART:20231029T010000
END:STANDARD
BEGIN:DAYLIGHT
TZOFFSETFROM:+0200
TZOFFSETTO:+0300
TZNAME:EEST
DTSTART:20240331T010000
END:DAYLIGHT
BEGIN:STANDARD
TZOFFSETFROM:+0300
TZOFFSETTO:+0200
TZNAME:EET
DTSTART:20241027T010000
END:STANDARD
BEGIN:DAYLIGHT
TZOFFSETFROM:+0200
TZOFFSETTO:+0300
TZNAME:EEST
DTSTART:20250330T010000
END:DAYLIGHT
BEGIN:STANDARD
TZOFFSETFROM:+0300
TZOFFSETTO:+0200
TZNAME:EET
DTSTART:20251026T010000
END:STANDARD
END:VTIMEZONE
BEGIN:VEVENT
DTSTART;VALUE=DATE:20240211
DTEND;VALUE=DATE:20240212
DTSTAMP:20260426T015652
CREATED:20240107T101433Z
LAST-MODIFIED:20240107T101433Z
UID:10004272-1707609600-1707695999@jagstheim.de
SUMMARY:كرنفال الأطفال
DESCRIPTION:VfB \n 
URL:https://jagstheim.de/event/%d9%83%d8%b1%d9%86%d9%81%d8%a7%d9%84-%d8%a7%d9%84%d8%a3%d8%b7%d9%81%d8%a7%d9%84/?lang=ar
LOCATION:Jagstauenhalle\, جاغستهايمر Hauptstrasse 157\, كريلسهايم\, بادن فورتمبيرغ\, 74564\, Deutschland
CATEGORIES:المهرجانات,منظمة
END:VEVENT
BEGIN:VEVENT
DTSTART;TZID=Europe/Helsinki:20240213T143000
DTEND;TZID=Europe/Helsinki:20240213T163000
DTSTAMP:20260426T015652
CREATED:20240107T101713Z
LAST-MODIFIED:20240107T101713Z
UID:10004282-1707834600-1707841800@jagstheim.de
SUMMARY:بعد ظهر اليوم
DESCRIPTION: 
URL:https://jagstheim.de/event/%d8%a8%d8%b9%d8%af-%d8%b8%d9%87%d8%b1-%d8%a7%d9%84%d9%8a%d9%88%d9%85-2/?lang=ar
LOCATION:ربما قاعة المجتمع\, Stauseestrasse 5\, كريلسهايم\, 74564
CATEGORIES:كاثوليكي,كنيسة
ATTACH;FMTTYPE=image/jpeg:https://jagstheim.de/wp-content/uploads/2023/07/coffee-shop-3699340-scaled.jpg
END:VEVENT
BEGIN:VEVENT
DTSTART;TZID=Europe/Helsinki:20240214T181500
DTEND;TZID=Europe/Helsinki:20240214T193000
DTSTAMP:20260426T015652
CREATED:20230825T194007Z
LAST-MODIFIED:20230825T194204Z
UID:10001083-1707934500-1707939000@jagstheim.de
SUMMARY:KICK 4 Fit هو برنامج لياقة بدنية
DESCRIPTION:KICK 4 Fit هو برنامج للياقة البدنية مع عناصر ديناميكية من فنون الدفاع عن النفس التايكوندو.\nغير عنيف تماما ، نقوم بتدريب سرعتنا وتحملنا وقوتنا وتنسيقنا مع الصغار والكبار.\nنحن نحسن استجابتنا وأدائنا ونحفز الجهاز العصبي والعضلات والأوتار والمفاصل بطريقة ديناميكية للغاية.\nبعد العطلة الصيفية ، حان الوقت للمضي قدما – الطريقة المثالية للبدء!\nانضم إلينا! من 13 سبتمبر 2023 ، 6.15 مساء – 7.30 مساء\nمدرب:\nباسكال ميلي ، 5 دان TKD وإيزابيل شيفر ، 3 دان TKD\nبدء:\nالأربعاء 13 سبتمبر 2023 ، 6.15 – 7.30 مساء\nانقضاء:\nدورة الجري المستمر ، الدخول ممكن في أي وقت\nدورة:\n8.00 يورو لكل دورة تدريبية + عضوية Landfrauen Jagstheim\nمكان:\nJagstauenhalle \, Jagstheimer Hauptstraße 157 \, 74564 كرايلسهايم\nجلب:\nملابس رياضية مريحة ، مشروب\nالتسجيل الملزم:\nمع كاثرين لينز (0176.426 01912) \n 
URL:https://jagstheim.de/event/kick-4-fit-%d9%87%d9%88-%d8%a8%d8%b1%d9%86%d8%a7%d9%85%d8%ac-%d9%84%d9%8a%d8%a7%d9%82%d8%a9-%d8%a8%d8%af%d9%86%d9%8a%d8%a9/2024-02-14/?lang=ar
LOCATION:Jagstauenhalle\, جاغستهايمر Hauptstrasse 157\, كريلسهايم\, بادن فورتمبيرغ\, 74564\, Deutschland
CATEGORIES:المرأة الريفية,رياضي,منظمة
END:VEVENT
BEGIN:VEVENT
DTSTART;TZID=Europe/Helsinki:20240214T190000
DTEND;TZID=Europe/Helsinki:20240214T220000
DTSTAMP:20260426T015653
CREATED:20240107T101858Z
LAST-MODIFIED:20240107T101858Z
UID:10004293-1707937200-1707948000@jagstheim.de
SUMMARY:ورشة الطبخ مع جيردا لوبر
DESCRIPTION: 
URL:https://jagstheim.de/event/%d9%88%d8%b1%d8%b4%d8%a9-%d8%a7%d9%84%d8%b7%d8%a8%d8%ae-%d9%85%d8%b9-%d8%ac%d9%8a%d8%b1%d8%af%d8%a7-%d9%84%d9%88%d8%a8%d8%b1/?lang=ar
CATEGORIES:المرأة الريفية,منظمة
END:VEVENT
BEGIN:VEVENT
DTSTART;VALUE=DATE:20240216
DTEND;VALUE=DATE:20240217
DTSTAMP:20260426T015653
CREATED:20231210T174342Z
LAST-MODIFIED:20250205T062541Z
UID:10003985-1708041600-1708127999@jagstheim.de
SUMMARY:كيس أصفر وصندوق ورقي
DESCRIPTION:كرايلسهايم – المنطقة 4لاندكريايس شفابيش هول | أبفالكالندر | (lrasha.de) \n 
URL:https://jagstheim.de/event/%d9%83%d9%8a%d8%b3-%d8%a3%d8%b5%d9%81%d8%b1-%d9%88%d8%b5%d9%86%d8%af%d9%88%d9%82-%d9%88%d8%b1%d9%82%d9%8a-8/2024-02-16/?lang=ar
CATEGORIES:التخلص من القمامة
ATTACH;FMTTYPE=image/webp:https://jagstheim.de/wp-content/uploads/2023/07/GelbPapier.webp
END:VEVENT
BEGIN:VEVENT
DTSTART;TZID=Europe/Helsinki:20240217T200000
DTEND;TZID=Europe/Helsinki:20240217T220000
DTSTAMP:20260426T015653
CREATED:20240107T102158Z
LAST-MODIFIED:20240107T102158Z
UID:10004305-1708200000-1708207200@jagstheim.de
SUMMARY:جمعية الصيد
DESCRIPTION:جلست عند الساعة الواحدة والنصف ظهرا \nيبدأ الساعة 8 مساءً \n 
URL:https://jagstheim.de/event/%d8%ac%d9%85%d8%b9%d9%8a%d8%a9-%d8%a7%d9%84%d8%b5%d9%8a%d8%af/?lang=ar
LOCATION:Jagstauenhalle\, جاغستهايمر Hauptstrasse 157\, كريلسهايم\, بادن فورتمبيرغ\, 74564\, Deutschland
CATEGORIES:منظمة
END:VEVENT
BEGIN:VEVENT
DTSTART;VALUE=DATE:20240220
DTEND;VALUE=DATE:20240221
DTSTAMP:20260426T015653
CREATED:20231210T173700Z
LAST-MODIFIED:20250102T065654Z
UID:10003714-1708387200-1708473599@jagstheim.de
SUMMARY:النفايات العضوية والنفايات المتبقية
DESCRIPTION:كرايلسهايم – المنطقة 4تواريخالتجميع: منطقة شفيبيش هول \n  \n 
URL:https://jagstheim.de/event/%d8%a7%d9%84%d9%86%d9%81%d8%a7%d9%8a%d8%a7%d8%aa-%d8%a7%d9%84%d8%b9%d8%b6%d9%88%d9%8a%d8%a9-%d9%88%d8%a7%d9%84%d9%86%d9%81%d8%a7%d9%8a%d8%a7%d8%aa-%d8%a7%d9%84%d9%85%d8%aa%d8%a8%d9%82%d9%8a%d8%a9-13/2024-02-20/?lang=ar
CATEGORIES:التخلص من القمامة
ATTACH;FMTTYPE=image/webp:https://jagstheim.de/wp-content/uploads/2023/07/BioRest.webp
END:VEVENT
BEGIN:VEVENT
DTSTART;TZID=Europe/Helsinki:20240221T140000
DTEND;TZID=Europe/Helsinki:20240221T160000
DTSTAMP:20260426T015653
CREATED:20240107T102343Z
LAST-MODIFIED:20240107T102343Z
UID:10004313-1708524000-1708531200@jagstheim.de
SUMMARY:جولة مصورة في أميرلاند
DESCRIPTION:نلتقي في فترة ما بعد الظهر \n 
URL:https://jagstheim.de/event/%d8%ac%d9%88%d9%84%d8%a9-%d9%85%d8%b5%d9%88%d8%b1%d8%a9-%d9%81%d9%8a-%d8%a3%d9%85%d9%8a%d8%b1%d9%84%d8%a7%d9%86%d8%af/?lang=ar
CATEGORIES:المرأة الريفية,منظمة
END:VEVENT
BEGIN:VEVENT
DTSTART;TZID=Europe/Helsinki:20240221T181500
DTEND;TZID=Europe/Helsinki:20240221T193000
DTSTAMP:20260426T015653
CREATED:20230825T194007Z
LAST-MODIFIED:20230825T194204Z
UID:10001084-1708539300-1708543800@jagstheim.de
SUMMARY:KICK 4 Fit هو برنامج لياقة بدنية
DESCRIPTION:KICK 4 Fit هو برنامج للياقة البدنية مع عناصر ديناميكية من فنون الدفاع عن النفس التايكوندو.\nغير عنيف تماما ، نقوم بتدريب سرعتنا وتحملنا وقوتنا وتنسيقنا مع الصغار والكبار.\nنحن نحسن استجابتنا وأدائنا ونحفز الجهاز العصبي والعضلات والأوتار والمفاصل بطريقة ديناميكية للغاية.\nبعد العطلة الصيفية ، حان الوقت للمضي قدما – الطريقة المثالية للبدء!\nانضم إلينا! من 13 سبتمبر 2023 ، 6.15 مساء – 7.30 مساء\nمدرب:\nباسكال ميلي ، 5 دان TKD وإيزابيل شيفر ، 3 دان TKD\nبدء:\nالأربعاء 13 سبتمبر 2023 ، 6.15 – 7.30 مساء\nانقضاء:\nدورة الجري المستمر ، الدخول ممكن في أي وقت\nدورة:\n8.00 يورو لكل دورة تدريبية + عضوية Landfrauen Jagstheim\nمكان:\nJagstauenhalle \, Jagstheimer Hauptstraße 157 \, 74564 كرايلسهايم\nجلب:\nملابس رياضية مريحة ، مشروب\nالتسجيل الملزم:\nمع كاثرين لينز (0176.426 01912) \n 
URL:https://jagstheim.de/event/kick-4-fit-%d9%87%d9%88-%d8%a8%d8%b1%d9%86%d8%a7%d9%85%d8%ac-%d9%84%d9%8a%d8%a7%d9%82%d8%a9-%d8%a8%d8%af%d9%86%d9%8a%d8%a9/2024-02-21/?lang=ar
LOCATION:Jagstauenhalle\, جاغستهايمر Hauptstrasse 157\, كريلسهايم\, بادن فورتمبيرغ\, 74564\, Deutschland
CATEGORIES:المرأة الريفية,رياضي,منظمة
END:VEVENT
BEGIN:VEVENT
DTSTART;VALUE=DATE:20240224
DTEND;VALUE=DATE:20240225
DTSTAMP:20260426T015653
CREATED:20240107T102535Z
LAST-MODIFIED:20240107T102535Z
UID:10004327-1708732800-1708819199@jagstheim.de
SUMMARY:يوم مباراة تنس الطاولة
DESCRIPTION: 
URL:https://jagstheim.de/event/%d9%8a%d9%88%d9%85-%d9%85%d8%a8%d8%a7%d8%b1%d8%a7%d8%a9-%d8%aa%d9%86%d8%b3-%d8%a7%d9%84%d8%b7%d8%a7%d9%88%d9%84%d8%a9-4/?lang=ar
LOCATION:Jagstauenhalle\, جاغستهايمر Hauptstrasse 157\, كريلسهايم\, بادن فورتمبيرغ\, 74564\, Deutschland
CATEGORIES:رياضات,منظمة
ATTACH;FMTTYPE=image/jpeg:https://jagstheim.de/wp-content/uploads/2024/01/table-tennis_640.jpg
END:VEVENT
BEGIN:VEVENT
DTSTART;TZID=Europe/Helsinki:20240228T181500
DTEND;TZID=Europe/Helsinki:20240228T193000
DTSTAMP:20260426T015653
CREATED:20230825T194007Z
LAST-MODIFIED:20230825T194204Z
UID:10001085-1709144100-1709148600@jagstheim.de
SUMMARY:KICK 4 Fit هو برنامج لياقة بدنية
DESCRIPTION:KICK 4 Fit هو برنامج للياقة البدنية مع عناصر ديناميكية من فنون الدفاع عن النفس التايكوندو.\nغير عنيف تماما ، نقوم بتدريب سرعتنا وتحملنا وقوتنا وتنسيقنا مع الصغار والكبار.\nنحن نحسن استجابتنا وأدائنا ونحفز الجهاز العصبي والعضلات والأوتار والمفاصل بطريقة ديناميكية للغاية.\nبعد العطلة الصيفية ، حان الوقت للمضي قدما – الطريقة المثالية للبدء!\nانضم إلينا! من 13 سبتمبر 2023 ، 6.15 مساء – 7.30 مساء\nمدرب:\nباسكال ميلي ، 5 دان TKD وإيزابيل شيفر ، 3 دان TKD\nبدء:\nالأربعاء 13 سبتمبر 2023 ، 6.15 – 7.30 مساء\nانقضاء:\nدورة الجري المستمر ، الدخول ممكن في أي وقت\nدورة:\n8.00 يورو لكل دورة تدريبية + عضوية Landfrauen Jagstheim\nمكان:\nJagstauenhalle \, Jagstheimer Hauptstraße 157 \, 74564 كرايلسهايم\nجلب:\nملابس رياضية مريحة ، مشروب\nالتسجيل الملزم:\nمع كاثرين لينز (0176.426 01912) \n 
URL:https://jagstheim.de/event/kick-4-fit-%d9%87%d9%88-%d8%a8%d8%b1%d9%86%d8%a7%d9%85%d8%ac-%d9%84%d9%8a%d8%a7%d9%82%d8%a9-%d8%a8%d8%af%d9%86%d9%8a%d8%a9/2024-02-28/?lang=ar
LOCATION:Jagstauenhalle\, جاغستهايمر Hauptstrasse 157\, كريلسهايم\, بادن فورتمبيرغ\, 74564\, Deutschland
CATEGORIES:المرأة الريفية,رياضي,منظمة
END:VEVENT
BEGIN:VEVENT
DTSTART;TZID=Europe/Helsinki:20240228T200000
DTEND;TZID=Europe/Helsinki:20240228T220000
DTSTAMP:20260426T015653
CREATED:20240107T102710Z
LAST-MODIFIED:20240107T102710Z
UID:10004339-1709150400-1709157600@jagstheim.de
SUMMARY:الترقيع الإبداعي الجزء 2
DESCRIPTION: 
URL:https://jagstheim.de/event/%d8%a7%d9%84%d8%aa%d8%b1%d9%82%d9%8a%d8%b9-%d8%a7%d9%84%d8%a5%d8%a8%d8%af%d8%a7%d8%b9%d9%8a-%d8%a7%d9%84%d8%ac%d8%b2%d8%a1-2/?lang=ar
CATEGORIES:المرأة الريفية,منظمة
ATTACH;FMTTYPE=image/jpeg:https://jagstheim.de/wp-content/uploads/2024/01/quilt_640.jpg
END:VEVENT
BEGIN:VEVENT
DTSTART;VALUE=DATE:20240229
DTEND;VALUE=DATE:20240301
DTSTAMP:20260426T015653
CREATED:20240107T102834Z
LAST-MODIFIED:20240107T102834Z
UID:10004348-1709164800-1709251199@jagstheim.de
SUMMARY:الاجتماع العام لبنك VR
DESCRIPTION: 
URL:https://jagstheim.de/event/%d8%a7%d9%84%d8%a7%d8%ac%d8%aa%d9%85%d8%a7%d8%b9-%d8%a7%d9%84%d8%b9%d8%a7%d9%85-%d9%84%d8%a8%d9%86%d9%83-vr/?lang=ar
LOCATION:Jagstauenhalle\, جاغستهايمر Hauptstrasse 157\, كريلسهايم\, بادن فورتمبيرغ\, 74564\, Deutschland
CATEGORIES:منظمة
END:VEVENT
BEGIN:VEVENT
DTSTART;TZID=Europe/Helsinki:20240301T190000
DTEND;TZID=Europe/Helsinki:20240301T200000
DTSTAMP:20260426T015653
CREATED:20240107T103315Z
LAST-MODIFIED:20240107T103315Z
UID:10004357-1709319600-1709323200@jagstheim.de
SUMMARY:نائب الرئيس. اليوم العالمي للصلاة
DESCRIPTION: 
URL:https://jagstheim.de/event/%d9%86%d8%a7%d8%a6%d8%a8-%d8%a7%d9%84%d8%b1%d8%a6%d9%8a%d8%b3-%d8%a7%d9%84%d9%8a%d9%88%d9%85-%d8%a7%d9%84%d8%b9%d8%a7%d9%84%d9%85%d9%8a-%d9%84%d9%84%d8%b5%d9%84%d8%a7%d8%a9/?lang=ar
LOCATION:ربما قاعة المجتمع\, Stauseestrasse 5\, كريلسهايم\, 74564
CATEGORIES:كاثوليكي,كنيسة
ATTACH;FMTTYPE=image/jpeg:https://jagstheim.de/wp-content/uploads/2023/07/cruz-2536209_640.jpg
END:VEVENT
BEGIN:VEVENT
DTSTART;VALUE=DATE:20240305
DTEND;VALUE=DATE:20240306
DTSTAMP:20260426T015653
CREATED:20231210T173700Z
LAST-MODIFIED:20250102T065654Z
UID:10003715-1709596800-1709683199@jagstheim.de
SUMMARY:النفايات العضوية والنفايات المتبقية
DESCRIPTION:كرايلسهايم – المنطقة 4تواريخالتجميع: منطقة شفيبيش هول \n  \n 
URL:https://jagstheim.de/event/%d8%a7%d9%84%d9%86%d9%81%d8%a7%d9%8a%d8%a7%d8%aa-%d8%a7%d9%84%d8%b9%d8%b6%d9%88%d9%8a%d8%a9-%d9%88%d8%a7%d9%84%d9%86%d9%81%d8%a7%d9%8a%d8%a7%d8%aa-%d8%a7%d9%84%d9%85%d8%aa%d8%a8%d9%82%d9%8a%d8%a9-13/2024-03-05/?lang=ar
CATEGORIES:التخلص من القمامة
ATTACH;FMTTYPE=image/webp:https://jagstheim.de/wp-content/uploads/2023/07/BioRest.webp
END:VEVENT
BEGIN:VEVENT
DTSTART;TZID=Europe/Helsinki:20240306T140000
DTEND;TZID=Europe/Helsinki:20240306T160000
DTSTAMP:20260426T015653
CREATED:20240107T103524Z
LAST-MODIFIED:20240107T103524Z
UID:10004369-1709733600-1709740800@jagstheim.de
SUMMARY:نادي كبار السن
DESCRIPTION: 
URL:https://jagstheim.de/event/%d9%86%d8%a7%d8%af%d9%8a-%d9%83%d8%a8%d8%a7%d8%b1-%d8%a7%d9%84%d8%b3%d9%86-3/?lang=ar
LOCATION:كاثوليكي قاعة الرعية\, Eichwaldstrasse 16\, كريلسهايم\, بادن فورتمبيرغ\, 74564\, Deutschland
CATEGORIES:كاثوليكي,كنيسة
END:VEVENT
BEGIN:VEVENT
DTSTART;TZID=Europe/Helsinki:20240306T181500
DTEND;TZID=Europe/Helsinki:20240306T193000
DTSTAMP:20260426T015653
CREATED:20230825T194007Z
LAST-MODIFIED:20230825T194204Z
UID:10001086-1709748900-1709753400@jagstheim.de
SUMMARY:KICK 4 Fit هو برنامج لياقة بدنية
DESCRIPTION:KICK 4 Fit هو برنامج للياقة البدنية مع عناصر ديناميكية من فنون الدفاع عن النفس التايكوندو.\nغير عنيف تماما ، نقوم بتدريب سرعتنا وتحملنا وقوتنا وتنسيقنا مع الصغار والكبار.\nنحن نحسن استجابتنا وأدائنا ونحفز الجهاز العصبي والعضلات والأوتار والمفاصل بطريقة ديناميكية للغاية.\nبعد العطلة الصيفية ، حان الوقت للمضي قدما – الطريقة المثالية للبدء!\nانضم إلينا! من 13 سبتمبر 2023 ، 6.15 مساء – 7.30 مساء\nمدرب:\nباسكال ميلي ، 5 دان TKD وإيزابيل شيفر ، 3 دان TKD\nبدء:\nالأربعاء 13 سبتمبر 2023 ، 6.15 – 7.30 مساء\nانقضاء:\nدورة الجري المستمر ، الدخول ممكن في أي وقت\nدورة:\n8.00 يورو لكل دورة تدريبية + عضوية Landfrauen Jagstheim\nمكان:\nJagstauenhalle \, Jagstheimer Hauptstraße 157 \, 74564 كرايلسهايم\nجلب:\nملابس رياضية مريحة ، مشروب\nالتسجيل الملزم:\nمع كاثرين لينز (0176.426 01912) \n 
URL:https://jagstheim.de/event/kick-4-fit-%d9%87%d9%88-%d8%a8%d8%b1%d9%86%d8%a7%d9%85%d8%ac-%d9%84%d9%8a%d8%a7%d9%82%d8%a9-%d8%a8%d8%af%d9%86%d9%8a%d8%a9/2024-03-06/?lang=ar
LOCATION:Jagstauenhalle\, جاغستهايمر Hauptstrasse 157\, كريلسهايم\, بادن فورتمبيرغ\, 74564\, Deutschland
CATEGORIES:المرأة الريفية,رياضي,منظمة
END:VEVENT
BEGIN:VEVENT
DTSTART;TZID=Europe/Helsinki:20240306T193000
DTEND;TZID=Europe/Helsinki:20240306T210000
DTSTAMP:20260426T015653
CREATED:20240107T103636Z
LAST-MODIFIED:20240107T103636Z
UID:10004379-1709753400-1709758800@jagstheim.de
SUMMARY:السكتة الدماغية محاضرة صحية
DESCRIPTION: 
URL:https://jagstheim.de/event/%d8%a7%d9%84%d8%b3%d9%83%d8%aa%d8%a9-%d8%a7%d9%84%d8%af%d9%85%d8%a7%d8%ba%d9%8a%d8%a9-%d9%85%d8%ad%d8%a7%d8%b6%d8%b1%d8%a9-%d8%b5%d8%ad%d9%8a%d8%a9/?lang=ar
CATEGORIES:المرأة الريفية,منظمة
END:VEVENT
BEGIN:VEVENT
DTSTART;VALUE=DATE:20240309
DTEND;VALUE=DATE:20240310
DTSTAMP:20260426T015653
CREATED:20240107T105417Z
LAST-MODIFIED:20250205T062445Z
UID:10004394-1709942400-1710028799@jagstheim.de
SUMMARY:يوم مباراة تنس الطاولة
DESCRIPTION: 
URL:https://jagstheim.de/event/%d9%8a%d9%88%d9%85-%d9%85%d8%a8%d8%a7%d8%b1%d8%a7%d8%a9-%d8%aa%d9%86%d8%b3-%d8%a7%d9%84%d8%b7%d8%a7%d9%88%d9%84%d8%a9-5/?lang=ar
CATEGORIES:رياضات,منظمة
END:VEVENT
BEGIN:VEVENT
DTSTART;TZID=Europe/Helsinki:20240312T143000
DTEND;TZID=Europe/Helsinki:20240312T163000
DTSTAMP:20260426T015653
CREATED:20240107T105537Z
LAST-MODIFIED:20240107T105537Z
UID:10004401-1710253800-1710261000@jagstheim.de
SUMMARY:بعد ظهر اليوم
DESCRIPTION: 
URL:https://jagstheim.de/event/%d8%a8%d8%b9%d8%af-%d8%b8%d9%87%d8%b1-%d8%a7%d9%84%d9%8a%d9%88%d9%85-3/?lang=ar
LOCATION:ربما قاعة المجتمع\, Stauseestrasse 5\, كريلسهايم\, 74564
CATEGORIES:إنجيلية,كنيسة
END:VEVENT
BEGIN:VEVENT
DTSTART;VALUE=DATE:20240313
DTEND;VALUE=DATE:20240314
DTSTAMP:20260426T015653
CREATED:20240107T105649Z
LAST-MODIFIED:20240107T105649Z
UID:10004412-1710288000-1710374399@jagstheim.de
SUMMARY:حلقة الآلة
DESCRIPTION: 
URL:https://jagstheim.de/event/%d8%ad%d9%84%d9%82%d8%a9-%d8%a7%d9%84%d8%a2%d9%84%d8%a9/?lang=ar
LOCATION:Jagstauenhalle\, جاغستهايمر Hauptstrasse 157\, كريلسهايم\, بادن فورتمبيرغ\, 74564\, Deutschland
CATEGORIES:منظمة
END:VEVENT
BEGIN:VEVENT
DTSTART;TZID=Europe/Helsinki:20240313T181500
DTEND;TZID=Europe/Helsinki:20240313T193000
DTSTAMP:20260426T015653
CREATED:20230825T194007Z
LAST-MODIFIED:20230825T194204Z
UID:10001087-1710353700-1710358200@jagstheim.de
SUMMARY:KICK 4 Fit هو برنامج لياقة بدنية
DESCRIPTION:KICK 4 Fit هو برنامج للياقة البدنية مع عناصر ديناميكية من فنون الدفاع عن النفس التايكوندو.\nغير عنيف تماما ، نقوم بتدريب سرعتنا وتحملنا وقوتنا وتنسيقنا مع الصغار والكبار.\nنحن نحسن استجابتنا وأدائنا ونحفز الجهاز العصبي والعضلات والأوتار والمفاصل بطريقة ديناميكية للغاية.\nبعد العطلة الصيفية ، حان الوقت للمضي قدما – الطريقة المثالية للبدء!\nانضم إلينا! من 13 سبتمبر 2023 ، 6.15 مساء – 7.30 مساء\nمدرب:\nباسكال ميلي ، 5 دان TKD وإيزابيل شيفر ، 3 دان TKD\nبدء:\nالأربعاء 13 سبتمبر 2023 ، 6.15 – 7.30 مساء\nانقضاء:\nدورة الجري المستمر ، الدخول ممكن في أي وقت\nدورة:\n8.00 يورو لكل دورة تدريبية + عضوية Landfrauen Jagstheim\nمكان:\nJagstauenhalle \, Jagstheimer Hauptstraße 157 \, 74564 كرايلسهايم\nجلب:\nملابس رياضية مريحة ، مشروب\nالتسجيل الملزم:\nمع كاثرين لينز (0176.426 01912) \n 
URL:https://jagstheim.de/event/kick-4-fit-%d9%87%d9%88-%d8%a8%d8%b1%d9%86%d8%a7%d9%85%d8%ac-%d9%84%d9%8a%d8%a7%d9%82%d8%a9-%d8%a8%d8%af%d9%86%d9%8a%d8%a9/2024-03-13/?lang=ar
LOCATION:Jagstauenhalle\, جاغستهايمر Hauptstrasse 157\, كريلسهايم\, بادن فورتمبيرغ\, 74564\, Deutschland
CATEGORIES:المرأة الريفية,رياضي,منظمة
END:VEVENT
BEGIN:VEVENT
DTSTART;VALUE=DATE:20240315
DTEND;VALUE=DATE:20240316
DTSTAMP:20260426T015653
CREATED:20231210T174342Z
LAST-MODIFIED:20250205T062541Z
UID:10003986-1710460800-1710547199@jagstheim.de
SUMMARY:كيس أصفر وصندوق ورقي
DESCRIPTION:كرايلسهايم – المنطقة 4لاندكريايس شفابيش هول | أبفالكالندر | (lrasha.de) \n 
URL:https://jagstheim.de/event/%d9%83%d9%8a%d8%b3-%d8%a3%d8%b5%d9%81%d8%b1-%d9%88%d8%b5%d9%86%d8%af%d9%88%d9%82-%d9%88%d8%b1%d9%82%d9%8a-8/2024-03-15/?lang=ar
CATEGORIES:التخلص من القمامة
ATTACH;FMTTYPE=image/webp:https://jagstheim.de/wp-content/uploads/2023/07/GelbPapier.webp
END:VEVENT
BEGIN:VEVENT
DTSTART;VALUE=DATE:20240316
DTEND;VALUE=DATE:20240317
DTSTAMP:20260426T015653
CREATED:20240107T105823Z
LAST-MODIFIED:20240107T105927Z
UID:10004423-1710547200-1710633599@jagstheim.de
SUMMARY:منظم مسابقة الفريق الداخلي في منطقة الجمباز كرايلسهايم
DESCRIPTION:في إف بي ياغستهايم \n 
URL:https://jagstheim.de/event/%d9%85%d9%86%d8%b8%d9%85-%d9%85%d8%b3%d8%a7%d8%a8%d9%82%d8%a9-%d8%a7%d9%84%d9%81%d8%b1%d9%8a%d9%82-%d8%a7%d9%84%d8%af%d8%a7%d8%ae%d9%84%d9%8a-%d9%81%d9%8a-%d9%85%d9%86%d8%b7%d9%82%d8%a9-%d8%a7%d9%84/?lang=ar
LOCATION:Jagstauenhalle\, جاغستهايمر Hauptstrasse 157\, كريلسهايم\, بادن فورتمبيرغ\, 74564\, Deutschland
CATEGORIES:رياضات,منظمة
END:VEVENT
BEGIN:VEVENT
DTSTART;VALUE=DATE:20240317
DTEND;VALUE=DATE:20240318
DTSTAMP:20260426T015653
CREATED:20240125T063318Z
LAST-MODIFIED:20240125T063318Z
UID:10005090-1710633600-1710719999@jagstheim.de
SUMMARY:خدمة دياكونيا مع جوقة الترومبون
DESCRIPTION: 
URL:https://jagstheim.de/event/%d8%ae%d8%af%d9%85%d8%a9-%d8%af%d9%8a%d8%a7%d9%83%d9%88%d9%86%d9%8a%d8%a7-%d9%85%d8%b9-%d8%ac%d9%88%d9%82%d8%a9-%d8%a7%d9%84%d8%aa%d8%b1%d9%88%d9%85%d8%a8%d9%88%d9%86/?lang=ar
LOCATION:Jagstauenhalle\, جاغستهايمر Hauptstrasse 157\, كريلسهايم\, بادن فورتمبيرغ\, 74564\, Deutschland
CATEGORIES:إنجيلية,كنيسة
END:VEVENT
BEGIN:VEVENT
DTSTART;VALUE=DATE:20240317
DTEND;VALUE=DATE:20240318
DTSTAMP:20260426T015653
CREATED:20240125T063510Z
LAST-MODIFIED:20240125T063510Z
UID:10005101-1710633600-1710719999@jagstheim.de
SUMMARY:عشاء النادي Liederkranz Jagstheim
DESCRIPTION: 
URL:https://jagstheim.de/event/%d8%b9%d8%b4%d8%a7%d8%a1-%d8%a7%d9%84%d9%86%d8%a7%d8%af%d9%8a-liederkranz-jagstheim/?lang=ar
CATEGORIES:اكليلا من الأغاني,منظمة
END:VEVENT
BEGIN:VEVENT
DTSTART;VALUE=DATE:20240319
DTEND;VALUE=DATE:20240320
DTSTAMP:20260426T015653
CREATED:20231210T173700Z
LAST-MODIFIED:20250102T065654Z
UID:10003716-1710806400-1710892799@jagstheim.de
SUMMARY:النفايات العضوية والنفايات المتبقية
DESCRIPTION:كرايلسهايم – المنطقة 4تواريخالتجميع: منطقة شفيبيش هول \n  \n 
URL:https://jagstheim.de/event/%d8%a7%d9%84%d9%86%d9%81%d8%a7%d9%8a%d8%a7%d8%aa-%d8%a7%d9%84%d8%b9%d8%b6%d9%88%d9%8a%d8%a9-%d9%88%d8%a7%d9%84%d9%86%d9%81%d8%a7%d9%8a%d8%a7%d8%aa-%d8%a7%d9%84%d9%85%d8%aa%d8%a8%d9%82%d9%8a%d8%a9-13/2024-03-19/?lang=ar
CATEGORIES:التخلص من القمامة
ATTACH;FMTTYPE=image/webp:https://jagstheim.de/wp-content/uploads/2023/07/BioRest.webp
END:VEVENT
BEGIN:VEVENT
DTSTART;TZID=Europe/Helsinki:20240320T130000
DTEND;TZID=Europe/Helsinki:20240320T170000
DTSTAMP:20260426T015653
CREATED:20240107T110023Z
LAST-MODIFIED:20240107T110023Z
UID:10004437-1710939600-1710954000@jagstheim.de
SUMMARY:رحلة لنصف يوم إلى Dinkelsbühl مع جولة في المدينة
DESCRIPTION:المغادرة الساعة 1:00 ظهراً \n 
URL:https://jagstheim.de/event/%d8%b1%d8%ad%d9%84%d8%a9-%d9%84%d9%86%d8%b5%d9%81-%d9%8a%d9%88%d9%85-%d8%a5%d9%84%d9%89-dinkelsbuehl-%d9%85%d8%b9-%d8%ac%d9%88%d9%84%d8%a9-%d9%81%d9%8a-%d8%a7%d9%84%d9%85%d8%af%d9%8a%d9%86%d8%a9/?lang=ar
CATEGORIES:المرأة الريفية,منظمة
END:VEVENT
BEGIN:VEVENT
DTSTART;TZID=Europe/Helsinki:20240320T181500
DTEND;TZID=Europe/Helsinki:20240320T193000
DTSTAMP:20260426T015653
CREATED:20230825T194007Z
LAST-MODIFIED:20230825T194204Z
UID:10001088-1710958500-1710963000@jagstheim.de
SUMMARY:KICK 4 Fit هو برنامج لياقة بدنية
DESCRIPTION:KICK 4 Fit هو برنامج للياقة البدنية مع عناصر ديناميكية من فنون الدفاع عن النفس التايكوندو.\nغير عنيف تماما ، نقوم بتدريب سرعتنا وتحملنا وقوتنا وتنسيقنا مع الصغار والكبار.\nنحن نحسن استجابتنا وأدائنا ونحفز الجهاز العصبي والعضلات والأوتار والمفاصل بطريقة ديناميكية للغاية.\nبعد العطلة الصيفية ، حان الوقت للمضي قدما – الطريقة المثالية للبدء!\nانضم إلينا! من 13 سبتمبر 2023 ، 6.15 مساء – 7.30 مساء\nمدرب:\nباسكال ميلي ، 5 دان TKD وإيزابيل شيفر ، 3 دان TKD\nبدء:\nالأربعاء 13 سبتمبر 2023 ، 6.15 – 7.30 مساء\nانقضاء:\nدورة الجري المستمر ، الدخول ممكن في أي وقت\nدورة:\n8.00 يورو لكل دورة تدريبية + عضوية Landfrauen Jagstheim\nمكان:\nJagstauenhalle \, Jagstheimer Hauptstraße 157 \, 74564 كرايلسهايم\nجلب:\nملابس رياضية مريحة ، مشروب\nالتسجيل الملزم:\nمع كاثرين لينز (0176.426 01912) \n 
URL:https://jagstheim.de/event/kick-4-fit-%d9%87%d9%88-%d8%a8%d8%b1%d9%86%d8%a7%d9%85%d8%ac-%d9%84%d9%8a%d8%a7%d9%82%d8%a9-%d8%a8%d8%af%d9%86%d9%8a%d8%a9/2024-03-20/?lang=ar
LOCATION:Jagstauenhalle\, جاغستهايمر Hauptstrasse 157\, كريلسهايم\, بادن فورتمبيرغ\, 74564\, Deutschland
CATEGORIES:المرأة الريفية,رياضي,منظمة
END:VEVENT
BEGIN:VEVENT
DTSTART;VALUE=DATE:20240323
DTEND;VALUE=DATE:20240325
DTSTAMP:20260426T015653
CREATED:20240107T110142Z
LAST-MODIFIED:20240107T110142Z
UID:10004445-1711152000-1711324799@jagstheim.de
SUMMARY:بطولة VfB لكرة القدم للشباب
DESCRIPTION: 
URL:https://jagstheim.de/event/%d8%a8%d8%b7%d9%88%d9%84%d8%a9-vfb-%d9%84%d9%83%d8%b1%d8%a9-%d8%a7%d9%84%d9%82%d8%af%d9%85-%d9%84%d9%84%d8%b4%d8%a8%d8%a7%d8%a8/?lang=ar
LOCATION:صالة رياضية كبيرة\, في كيستينفايسن 7\, كريلسهايم\, بادن فورتمبيرغ\, 74564\, Deutschland
CATEGORIES:رياضات,منظمة
END:VEVENT
END:VCALENDAR