BEGIN:VCALENDAR
VERSION:2.0
PRODID:-//Jagstheim - ECPv6.15.20//NONSGML v1.0//EN
CALSCALE:GREGORIAN
METHOD:PUBLISH
X-WR-CALNAME:Jagstheim
X-ORIGINAL-URL:https://jagstheim.de/?lang=ar
X-WR-CALDESC:Events for Jagstheim
REFRESH-INTERVAL;VALUE=DURATION:PT1H
X-Robots-Tag:noindex
X-PUBLISHED-TTL:PT1H
BEGIN:VTIMEZONE
TZID:Europe/Helsinki
BEGIN:DAYLIGHT
TZOFFSETFROM:+0200
TZOFFSETTO:+0300
TZNAME:EEST
DTSTART:20280326T010000
END:DAYLIGHT
BEGIN:STANDARD
TZOFFSETFROM:+0300
TZOFFSETTO:+0200
TZNAME:EET
DTSTART:20281029T010000
END:STANDARD
BEGIN:DAYLIGHT
TZOFFSETFROM:+0200
TZOFFSETTO:+0300
TZNAME:EEST
DTSTART:20290325T010000
END:DAYLIGHT
BEGIN:STANDARD
TZOFFSETFROM:+0300
TZOFFSETTO:+0200
TZNAME:EET
DTSTART:20291028T010000
END:STANDARD
BEGIN:DAYLIGHT
TZOFFSETFROM:+0200
TZOFFSETTO:+0300
TZNAME:EEST
DTSTART:20300331T010000
END:DAYLIGHT
BEGIN:STANDARD
TZOFFSETFROM:+0300
TZOFFSETTO:+0200
TZNAME:EET
DTSTART:20301027T010000
END:STANDARD
END:VTIMEZONE
BEGIN:VEVENT
DTSTART;VALUE=DATE:20291009
DTEND;VALUE=DATE:20291010
DTSTAMP:20260424T011035
CREATED:20250102T070320Z
LAST-MODIFIED:20250102T070320Z
UID:10005388-1886198400-1886284799@jagstheim.de
SUMMARY:النفايات العضوية والنفايات المتبقية
DESCRIPTION:كرايلسهايم – المنطقة 4تواريخالتجميع: منطقة شفيبيش هول \n  \n 
URL:https://jagstheim.de/event/%d8%a7%d9%84%d9%86%d9%81%d8%a7%d9%8a%d8%a7%d8%aa-%d8%a7%d9%84%d8%b9%d8%b6%d9%88%d9%8a%d8%a9-%d9%88%d8%a7%d9%84%d9%86%d9%81%d8%a7%d9%8a%d8%a7%d8%aa-%d8%a7%d9%84%d9%85%d8%aa%d8%a8%d9%82%d9%8a%d8%a9-14/2029-10-09/?lang=ar
LOCATION:Baden-Württemberg
CATEGORIES:التخلص من القمامة
ATTACH;FMTTYPE=image/webp:https://jagstheim.de/wp-content/uploads/2023/07/BioRest.webp
END:VEVENT
BEGIN:VEVENT
DTSTART;VALUE=DATE:20291019
DTEND;VALUE=DATE:20291020
DTSTAMP:20260424T011035
CREATED:20250102T070715Z
LAST-MODIFIED:20250102T070715Z
UID:10007221-1887062400-1887148799@jagstheim.de
SUMMARY:كيس أصفر وصندوق ورقي
DESCRIPTION:كرايلسهايم – المنطقة 4تواريخالتجميع: منطقة شفيبيش هول \n  \n 
URL:https://jagstheim.de/event/%d9%83%d9%8a%d8%b3-%d8%a3%d8%b5%d9%81%d8%b1-%d9%88%d8%b5%d9%86%d8%af%d9%88%d9%82-%d9%88%d8%b1%d9%82%d9%8a-9/2029-10-19/?lang=ar
LOCATION:Baden-Württemberg
CATEGORIES:التخلص من القمامة
ATTACH;FMTTYPE=image/webp:https://jagstheim.de/wp-content/uploads/2023/07/GelbPapier.webp
END:VEVENT
BEGIN:VEVENT
DTSTART;VALUE=DATE:20291023
DTEND;VALUE=DATE:20291024
DTSTAMP:20260424T011035
CREATED:20250102T070320Z
LAST-MODIFIED:20250102T070320Z
UID:10005389-1887408000-1887494399@jagstheim.de
SUMMARY:النفايات العضوية والنفايات المتبقية
DESCRIPTION:كرايلسهايم – المنطقة 4تواريخالتجميع: منطقة شفيبيش هول \n  \n 
URL:https://jagstheim.de/event/%d8%a7%d9%84%d9%86%d9%81%d8%a7%d9%8a%d8%a7%d8%aa-%d8%a7%d9%84%d8%b9%d8%b6%d9%88%d9%8a%d8%a9-%d9%88%d8%a7%d9%84%d9%86%d9%81%d8%a7%d9%8a%d8%a7%d8%aa-%d8%a7%d9%84%d9%85%d8%aa%d8%a8%d9%82%d9%8a%d8%a9-14/2029-10-23/?lang=ar
LOCATION:Baden-Württemberg
CATEGORIES:التخلص من القمامة
ATTACH;FMTTYPE=image/webp:https://jagstheim.de/wp-content/uploads/2023/07/BioRest.webp
END:VEVENT
END:VCALENDAR