BEGIN:VCALENDAR
VERSION:2.0
PRODID:-//Jagstheim - ECPv6.15.20//NONSGML v1.0//EN
CALSCALE:GREGORIAN
METHOD:PUBLISH
X-ORIGINAL-URL:https://jagstheim.de/?lang=ar
X-WR-CALDESC:Events for Jagstheim
REFRESH-INTERVAL;VALUE=DURATION:PT1H
X-Robots-Tag:noindex
X-PUBLISHED-TTL:PT1H
BEGIN:VTIMEZONE
TZID:Europe/Helsinki
BEGIN:DAYLIGHT
TZOFFSETFROM:+0200
TZOFFSETTO:+0300
TZNAME:EEST
DTSTART:20280326T010000
END:DAYLIGHT
BEGIN:STANDARD
TZOFFSETFROM:+0300
TZOFFSETTO:+0200
TZNAME:EET
DTSTART:20281029T010000
END:STANDARD
BEGIN:DAYLIGHT
TZOFFSETFROM:+0200
TZOFFSETTO:+0300
TZNAME:EEST
DTSTART:20290325T010000
END:DAYLIGHT
BEGIN:STANDARD
TZOFFSETFROM:+0300
TZOFFSETTO:+0200
TZNAME:EET
DTSTART:20291028T010000
END:STANDARD
BEGIN:DAYLIGHT
TZOFFSETFROM:+0200
TZOFFSETTO:+0300
TZNAME:EEST
DTSTART:20300331T010000
END:DAYLIGHT
BEGIN:STANDARD
TZOFFSETFROM:+0300
TZOFFSETTO:+0200
TZNAME:EET
DTSTART:20301027T010000
END:STANDARD
END:VTIMEZONE
BEGIN:VEVENT
DTSTART;VALUE=DATE:20290309
DTEND;VALUE=DATE:20290310
DTSTAMP:20260422T201634
CREATED:20250102T070715Z
LAST-MODIFIED:20250102T070715Z
UID:10007213-1867708800-1867795199@jagstheim.de
SUMMARY:كيس أصفر وصندوق ورقي
DESCRIPTION:كرايلسهايم – المنطقة 4تواريخالتجميع: منطقة شفيبيش هول \n  \n 
URL:https://jagstheim.de/event/%d9%83%d9%8a%d8%b3-%d8%a3%d8%b5%d9%81%d8%b1-%d9%88%d8%b5%d9%86%d8%af%d9%88%d9%82-%d9%88%d8%b1%d9%82%d9%8a-9/2029-03-09/?lang=ar
LOCATION:Baden-Württemberg
CATEGORIES:التخلص من القمامة
ATTACH;FMTTYPE=image/webp:https://jagstheim.de/wp-content/uploads/2023/07/GelbPapier.webp
END:VEVENT
BEGIN:VEVENT
DTSTART;VALUE=DATE:20290313
DTEND;VALUE=DATE:20290314
DTSTAMP:20260422T201634
CREATED:20250102T070320Z
LAST-MODIFIED:20250102T070320Z
UID:10005373-1868054400-1868140799@jagstheim.de
SUMMARY:النفايات العضوية والنفايات المتبقية
DESCRIPTION:كرايلسهايم – المنطقة 4تواريخالتجميع: منطقة شفيبيش هول \n  \n 
URL:https://jagstheim.de/event/%d8%a7%d9%84%d9%86%d9%81%d8%a7%d9%8a%d8%a7%d8%aa-%d8%a7%d9%84%d8%b9%d8%b6%d9%88%d9%8a%d8%a9-%d9%88%d8%a7%d9%84%d9%86%d9%81%d8%a7%d9%8a%d8%a7%d8%aa-%d8%a7%d9%84%d9%85%d8%aa%d8%a8%d9%82%d9%8a%d8%a9-14/2029-03-13/?lang=ar
LOCATION:Baden-Württemberg
CATEGORIES:التخلص من القمامة
ATTACH;FMTTYPE=image/webp:https://jagstheim.de/wp-content/uploads/2023/07/BioRest.webp
END:VEVENT
BEGIN:VEVENT
DTSTART;VALUE=DATE:20290327
DTEND;VALUE=DATE:20290328
DTSTAMP:20260422T201634
CREATED:20250102T070320Z
LAST-MODIFIED:20250102T070320Z
UID:10005374-1869264000-1869350399@jagstheim.de
SUMMARY:النفايات العضوية والنفايات المتبقية
DESCRIPTION:كرايلسهايم – المنطقة 4تواريخالتجميع: منطقة شفيبيش هول \n  \n 
URL:https://jagstheim.de/event/%d8%a7%d9%84%d9%86%d9%81%d8%a7%d9%8a%d8%a7%d8%aa-%d8%a7%d9%84%d8%b9%d8%b6%d9%88%d9%8a%d8%a9-%d9%88%d8%a7%d9%84%d9%86%d9%81%d8%a7%d9%8a%d8%a7%d8%aa-%d8%a7%d9%84%d9%85%d8%aa%d8%a8%d9%82%d9%8a%d8%a9-14/2029-03-27/?lang=ar
LOCATION:Baden-Württemberg
CATEGORIES:التخلص من القمامة
ATTACH;FMTTYPE=image/webp:https://jagstheim.de/wp-content/uploads/2023/07/BioRest.webp
END:VEVENT
END:VCALENDAR