BEGIN:VCALENDAR
VERSION:2.0
PRODID:-//Jagstheim - ECPv6.15.20//NONSGML v1.0//EN
CALSCALE:GREGORIAN
METHOD:PUBLISH
X-WR-CALNAME:Jagstheim
X-ORIGINAL-URL:https://jagstheim.de/?lang=ar
X-WR-CALDESC:Events for Jagstheim
REFRESH-INTERVAL;VALUE=DURATION:PT1H
X-Robots-Tag:noindex
X-PUBLISHED-TTL:PT1H
BEGIN:VTIMEZONE
TZID:Europe/Helsinki
BEGIN:DAYLIGHT
TZOFFSETFROM:+0200
TZOFFSETTO:+0300
TZNAME:EEST
DTSTART:20230326T010000
END:DAYLIGHT
BEGIN:STANDARD
TZOFFSETFROM:+0300
TZOFFSETTO:+0200
TZNAME:EET
DTSTART:20231029T010000
END:STANDARD
BEGIN:DAYLIGHT
TZOFFSETFROM:+0200
TZOFFSETTO:+0300
TZNAME:EEST
DTSTART:20240331T010000
END:DAYLIGHT
BEGIN:STANDARD
TZOFFSETFROM:+0300
TZOFFSETTO:+0200
TZNAME:EET
DTSTART:20241027T010000
END:STANDARD
BEGIN:DAYLIGHT
TZOFFSETFROM:+0200
TZOFFSETTO:+0300
TZNAME:EEST
DTSTART:20250330T010000
END:DAYLIGHT
BEGIN:STANDARD
TZOFFSETFROM:+0300
TZOFFSETTO:+0200
TZNAME:EET
DTSTART:20251026T010000
END:STANDARD
END:VTIMEZONE
BEGIN:VEVENT
DTSTART;TZID=Europe/Helsinki:20240107T000000
DTEND;TZID=Europe/Helsinki:20240107T000000
DTSTAMP:20260421T112435
CREATED:20240107T094313Z
LAST-MODIFIED:20240107T094313Z
UID:10004192-1704585600-1704585600@jagstheim.de
SUMMARY:يوم مباراة تنس الطاولة
DESCRIPTION: 
URL:https://jagstheim.de/event/%d9%8a%d9%88%d9%85-%d9%85%d8%a8%d8%a7%d8%b1%d8%a7%d8%a9-%d8%aa%d9%86%d8%b3-%d8%a7%d9%84%d8%b7%d8%a7%d9%88%d9%84%d8%a9/?lang=ar
LOCATION:Jagstauenhalle\, جاغستهايمر Hauptstrasse 157\, كريلسهايم\, بادن فورتمبيرغ\, 74564\, Deutschland
CATEGORIES:رياضات,منظمة
ATTACH;FMTTYPE=image/jpeg:https://jagstheim.de/wp-content/uploads/2024/01/table-tennis_640.jpg
END:VEVENT
BEGIN:VEVENT
DTSTART;VALUE=DATE:20240109
DTEND;VALUE=DATE:20240110
DTSTAMP:20260421T112435
CREATED:20231210T173700Z
LAST-MODIFIED:20250102T065654Z
UID:10003711-1704758400-1704844799@jagstheim.de
SUMMARY:النفايات العضوية والنفايات المتبقية
DESCRIPTION:كرايلسهايم – المنطقة 4تواريخالتجميع: منطقة شفيبيش هول \n  \n 
URL:https://jagstheim.de/event/%d8%a7%d9%84%d9%86%d9%81%d8%a7%d9%8a%d8%a7%d8%aa-%d8%a7%d9%84%d8%b9%d8%b6%d9%88%d9%8a%d8%a9-%d9%88%d8%a7%d9%84%d9%86%d9%81%d8%a7%d9%8a%d8%a7%d8%aa-%d8%a7%d9%84%d9%85%d8%aa%d8%a8%d9%82%d9%8a%d8%a9-13/2024-01-09/?lang=ar
CATEGORIES:التخلص من القمامة
ATTACH;FMTTYPE=image/webp:https://jagstheim.de/wp-content/uploads/2023/07/BioRest.webp
END:VEVENT
BEGIN:VEVENT
DTSTART;TZID=Europe/Helsinki:20240109T143000
DTEND;TZID=Europe/Helsinki:20240109T163000
DTSTAMP:20260421T112435
CREATED:20240107T085950Z
LAST-MODIFIED:20240107T085950Z
UID:10004127-1704810600-1704817800@jagstheim.de
SUMMARY:بعد ظهر اليوم
DESCRIPTION: 
URL:https://jagstheim.de/event/%d8%a8%d8%b9%d8%af-%d8%b8%d9%87%d8%b1-%d8%a7%d9%84%d9%8a%d9%88%d9%85/?lang=ar
LOCATION:ربما قاعة المجتمع\, Stauseestrasse 5\, كريلسهايم\, 74564
CATEGORIES:إنجيلية,كنيسة
ATTACH;FMTTYPE=image/jpeg:https://jagstheim.de/wp-content/uploads/2023/07/coffee-shop-3699340-scaled.jpg
END:VEVENT
BEGIN:VEVENT
DTSTART;TZID=Europe/Helsinki:20240110T140000
DTEND;TZID=Europe/Helsinki:20240110T160000
DTSTAMP:20260421T112435
CREATED:20240107T090140Z
LAST-MODIFIED:20240107T090257Z
UID:10004137-1704895200-1704902400@jagstheim.de
SUMMARY:نادي كبار السن
DESCRIPTION:رعية بطرس وبولس جاغستهايم الكاثوليكية، مركز المجتمع الكاثوليكي، 2 ظهرًا – 4 مساءً \n 
URL:https://jagstheim.de/event/%d9%86%d8%a7%d8%af%d9%8a-%d9%83%d8%a8%d8%a7%d8%b1-%d8%a7%d9%84%d8%b3%d9%86/?lang=ar
LOCATION:كاثوليكي قاعة الرعية\, Eichwaldstrasse 16\, كريلسهايم\, بادن فورتمبيرغ\, 74564\, Deutschland
CATEGORIES:كاثوليكي,كنيسة
ATTACH;FMTTYPE=image/jpeg:https://jagstheim.de/wp-content/uploads/2023/07/sports-2863541_640.jpg
END:VEVENT
BEGIN:VEVENT
DTSTART;TZID=Europe/Helsinki:20240110T181500
DTEND;TZID=Europe/Helsinki:20240110T193000
DTSTAMP:20260421T112435
CREATED:20230825T194007Z
LAST-MODIFIED:20230825T194204Z
UID:10001078-1704910500-1704915000@jagstheim.de
SUMMARY:KICK 4 Fit هو برنامج لياقة بدنية
DESCRIPTION:KICK 4 Fit هو برنامج للياقة البدنية مع عناصر ديناميكية من فنون الدفاع عن النفس التايكوندو.\nغير عنيف تماما ، نقوم بتدريب سرعتنا وتحملنا وقوتنا وتنسيقنا مع الصغار والكبار.\nنحن نحسن استجابتنا وأدائنا ونحفز الجهاز العصبي والعضلات والأوتار والمفاصل بطريقة ديناميكية للغاية.\nبعد العطلة الصيفية ، حان الوقت للمضي قدما – الطريقة المثالية للبدء!\nانضم إلينا! من 13 سبتمبر 2023 ، 6.15 مساء – 7.30 مساء\nمدرب:\nباسكال ميلي ، 5 دان TKD وإيزابيل شيفر ، 3 دان TKD\nبدء:\nالأربعاء 13 سبتمبر 2023 ، 6.15 – 7.30 مساء\nانقضاء:\nدورة الجري المستمر ، الدخول ممكن في أي وقت\nدورة:\n8.00 يورو لكل دورة تدريبية + عضوية Landfrauen Jagstheim\nمكان:\nJagstauenhalle \, Jagstheimer Hauptstraße 157 \, 74564 كرايلسهايم\nجلب:\nملابس رياضية مريحة ، مشروب\nالتسجيل الملزم:\nمع كاثرين لينز (0176.426 01912) \n 
URL:https://jagstheim.de/event/kick-4-fit-%d9%87%d9%88-%d8%a8%d8%b1%d9%86%d8%a7%d9%85%d8%ac-%d9%84%d9%8a%d8%a7%d9%82%d8%a9-%d8%a8%d8%af%d9%86%d9%8a%d8%a9/2024-01-10/?lang=ar
LOCATION:Jagstauenhalle\, جاغستهايمر Hauptstrasse 157\, كريلسهايم\, بادن فورتمبيرغ\, 74564\, Deutschland
CATEGORIES:المرأة الريفية,رياضي,منظمة
END:VEVENT
BEGIN:VEVENT
DTSTART;VALUE=DATE:20240113
DTEND;VALUE=DATE:20240114
DTSTAMP:20260421T112435
CREATED:20240107T090447Z
LAST-MODIFIED:20240107T090447Z
UID:10004148-1705104000-1705190399@jagstheim.de
SUMMARY:منطقة النساء Crailsheim JAH
DESCRIPTION: 
URL:https://jagstheim.de/event/%d9%85%d9%86%d8%b7%d9%82%d8%a9-%d8%a7%d9%84%d9%86%d8%b3%d8%a7%d8%a1-crailsheim-jah/?lang=ar
CATEGORIES:المرأة الريفية,منظمة
END:VEVENT
BEGIN:VEVENT
DTSTART;TZID=Europe/Helsinki:20240113T193000
DTEND;TZID=Europe/Helsinki:20240113T220000
DTSTAMP:20260421T112435
CREATED:20231210T154026Z
LAST-MODIFIED:20250205T062537Z
UID:10003675-1705174200-1705183200@jagstheim.de
SUMMARY:حفلة القاعة XXL
DESCRIPTION:الديك روتش \n 
URL:https://jagstheim.de/event/%d8%ad%d9%81%d9%84%d8%a9-%d8%a7%d9%84%d9%82%d8%a7%d8%b9%d8%a9-xxl/?lang=ar
LOCATION:جروتويج 30\, جروتويج 30\, كريلسهايم\, 74564\, Deutschland
CATEGORIES:المهرجانات
ATTACH;FMTTYPE=image/jpeg:https://jagstheim.de/wp-content/uploads/2023/12/20240113_Hallenparty.jpeg
END:VEVENT
BEGIN:VEVENT
DTSTART;TZID=Europe/Helsinki:20240114T103000
DTEND;TZID=Europe/Helsinki:20240114T113000
DTSTAMP:20260421T112435
CREATED:20240107T090758Z
LAST-MODIFIED:20240107T090758Z
UID:10004160-1705228200-1705231800@jagstheim.de
SUMMARY:خدمة الانصهار، Johanneskirche
DESCRIPTION:خدمة دمج العمادات البروتستانتية في كرايلسهايم وبلوفيلدين، الساعة 10:30 صباحًا \n 
URL:https://jagstheim.de/event/%d8%ae%d8%af%d9%85%d8%a9-%d8%a7%d9%84%d8%a7%d9%86%d8%b5%d9%87%d8%a7%d8%b1%d8%8c-johanneskirche/?lang=ar
CATEGORIES:إنجيلية,كنيسة
ATTACH;FMTTYPE=image/jpeg:https://jagstheim.de/wp-content/uploads/2023/07/cruz-2536209_640.jpg
END:VEVENT
BEGIN:VEVENT
DTSTART;TZID=Europe/Helsinki:20240117T181500
DTEND;TZID=Europe/Helsinki:20240117T193000
DTSTAMP:20260421T112435
CREATED:20230825T194007Z
LAST-MODIFIED:20230825T194204Z
UID:10001079-1705515300-1705519800@jagstheim.de
SUMMARY:KICK 4 Fit هو برنامج لياقة بدنية
DESCRIPTION:KICK 4 Fit هو برنامج للياقة البدنية مع عناصر ديناميكية من فنون الدفاع عن النفس التايكوندو.\nغير عنيف تماما ، نقوم بتدريب سرعتنا وتحملنا وقوتنا وتنسيقنا مع الصغار والكبار.\nنحن نحسن استجابتنا وأدائنا ونحفز الجهاز العصبي والعضلات والأوتار والمفاصل بطريقة ديناميكية للغاية.\nبعد العطلة الصيفية ، حان الوقت للمضي قدما – الطريقة المثالية للبدء!\nانضم إلينا! من 13 سبتمبر 2023 ، 6.15 مساء – 7.30 مساء\nمدرب:\nباسكال ميلي ، 5 دان TKD وإيزابيل شيفر ، 3 دان TKD\nبدء:\nالأربعاء 13 سبتمبر 2023 ، 6.15 – 7.30 مساء\nانقضاء:\nدورة الجري المستمر ، الدخول ممكن في أي وقت\nدورة:\n8.00 يورو لكل دورة تدريبية + عضوية Landfrauen Jagstheim\nمكان:\nJagstauenhalle \, Jagstheimer Hauptstraße 157 \, 74564 كرايلسهايم\nجلب:\nملابس رياضية مريحة ، مشروب\nالتسجيل الملزم:\nمع كاثرين لينز (0176.426 01912) \n 
URL:https://jagstheim.de/event/kick-4-fit-%d9%87%d9%88-%d8%a8%d8%b1%d9%86%d8%a7%d9%85%d8%ac-%d9%84%d9%8a%d8%a7%d9%82%d8%a9-%d8%a8%d8%af%d9%86%d9%8a%d8%a9/2024-01-17/?lang=ar
LOCATION:Jagstauenhalle\, جاغستهايمر Hauptstrasse 157\, كريلسهايم\, بادن فورتمبيرغ\, 74564\, Deutschland
CATEGORIES:المرأة الريفية,رياضي,منظمة
END:VEVENT
BEGIN:VEVENT
DTSTART;TZID=Europe/Helsinki:20240117T200000
DTEND;TZID=Europe/Helsinki:20240117T220000
DTSTAMP:20260421T112435
CREATED:20240107T091814Z
LAST-MODIFIED:20240107T091814Z
UID:10004170-1705521600-1705528800@jagstheim.de
SUMMARY:الترقيع الإبداعي الجزء 1
DESCRIPTION:LandFrauen Kreativ Patchwork Part 1 8 مساءً معلومات. أورسولا شينك \n 
URL:https://jagstheim.de/event/%d8%a7%d9%84%d8%aa%d8%b1%d9%82%d9%8a%d8%b9-%d8%a7%d9%84%d8%a5%d8%a8%d8%af%d8%a7%d8%b9%d9%8a-%d8%a7%d9%84%d8%ac%d8%b2%d8%a1-1/?lang=ar
CATEGORIES:المرأة الريفية,منظمة
ATTACH;FMTTYPE=image/jpeg:https://jagstheim.de/wp-content/uploads/2024/01/quilt_640.jpg
END:VEVENT
BEGIN:VEVENT
DTSTART;VALUE=DATE:20240119
DTEND;VALUE=DATE:20240120
DTSTAMP:20260421T112435
CREATED:20231210T174342Z
LAST-MODIFIED:20250205T062541Z
UID:10003984-1705622400-1705708799@jagstheim.de
SUMMARY:كيس أصفر وصندوق ورقي
DESCRIPTION:كرايلسهايم – المنطقة 4لاندكريايس شفابيش هول | أبفالكالندر | (lrasha.de) \n 
URL:https://jagstheim.de/event/%d9%83%d9%8a%d8%b3-%d8%a3%d8%b5%d9%81%d8%b1-%d9%88%d8%b5%d9%86%d8%af%d9%88%d9%82-%d9%88%d8%b1%d9%82%d9%8a-8/2024-01-19/?lang=ar
CATEGORIES:التخلص من القمامة
ATTACH;FMTTYPE=image/webp:https://jagstheim.de/wp-content/uploads/2023/07/GelbPapier.webp
END:VEVENT
BEGIN:VEVENT
DTSTART;TZID=Europe/Helsinki:20240120T080000
DTEND;TZID=Europe/Helsinki:20240120T163000
DTSTAMP:20260421T112435
CREATED:20240107T092133Z
LAST-MODIFIED:20240107T092133Z
UID:10004183-1705737600-1705768200@jagstheim.de
SUMMARY:الإسعافات الأولية للطفل
DESCRIPTION: 
URL:https://jagstheim.de/event/%d8%a7%d9%84%d8%a5%d8%b3%d8%b9%d8%a7%d9%81%d8%a7%d8%aa-%d8%a7%d9%84%d8%a3%d9%88%d9%84%d9%8a%d8%a9-%d9%84%d9%84%d8%b7%d9%81%d9%84/?lang=ar
LOCATION:Jagstauenhalle\, جاغستهايمر Hauptstrasse 157\, كريلسهايم\, بادن فورتمبيرغ\, 74564\, Deutschland
CATEGORIES:المرأة الريفية,منظمة
ATTACH;FMTTYPE=image/jpeg:https://jagstheim.de/wp-content/uploads/2023/07/first-aid-1732713_640.jpg
END:VEVENT
BEGIN:VEVENT
DTSTART;VALUE=DATE:20240123
DTEND;VALUE=DATE:20240124
DTSTAMP:20260421T112435
CREATED:20231210T173700Z
LAST-MODIFIED:20250102T065654Z
UID:10003712-1705968000-1706054399@jagstheim.de
SUMMARY:النفايات العضوية والنفايات المتبقية
DESCRIPTION:كرايلسهايم – المنطقة 4تواريخالتجميع: منطقة شفيبيش هول \n  \n 
URL:https://jagstheim.de/event/%d8%a7%d9%84%d9%86%d9%81%d8%a7%d9%8a%d8%a7%d8%aa-%d8%a7%d9%84%d8%b9%d8%b6%d9%88%d9%8a%d8%a9-%d9%88%d8%a7%d9%84%d9%86%d9%81%d8%a7%d9%8a%d8%a7%d8%aa-%d8%a7%d9%84%d9%85%d8%aa%d8%a8%d9%82%d9%8a%d8%a9-13/2024-01-23/?lang=ar
CATEGORIES:التخلص من القمامة
ATTACH;FMTTYPE=image/webp:https://jagstheim.de/wp-content/uploads/2023/07/BioRest.webp
END:VEVENT
BEGIN:VEVENT
DTSTART;TZID=Europe/Helsinki:20240124T181500
DTEND;TZID=Europe/Helsinki:20240124T193000
DTSTAMP:20260421T112435
CREATED:20230825T194007Z
LAST-MODIFIED:20230825T194204Z
UID:10001080-1706120100-1706124600@jagstheim.de
SUMMARY:KICK 4 Fit هو برنامج لياقة بدنية
DESCRIPTION:KICK 4 Fit هو برنامج للياقة البدنية مع عناصر ديناميكية من فنون الدفاع عن النفس التايكوندو.\nغير عنيف تماما ، نقوم بتدريب سرعتنا وتحملنا وقوتنا وتنسيقنا مع الصغار والكبار.\nنحن نحسن استجابتنا وأدائنا ونحفز الجهاز العصبي والعضلات والأوتار والمفاصل بطريقة ديناميكية للغاية.\nبعد العطلة الصيفية ، حان الوقت للمضي قدما – الطريقة المثالية للبدء!\nانضم إلينا! من 13 سبتمبر 2023 ، 6.15 مساء – 7.30 مساء\nمدرب:\nباسكال ميلي ، 5 دان TKD وإيزابيل شيفر ، 3 دان TKD\nبدء:\nالأربعاء 13 سبتمبر 2023 ، 6.15 – 7.30 مساء\nانقضاء:\nدورة الجري المستمر ، الدخول ممكن في أي وقت\nدورة:\n8.00 يورو لكل دورة تدريبية + عضوية Landfrauen Jagstheim\nمكان:\nJagstauenhalle \, Jagstheimer Hauptstraße 157 \, 74564 كرايلسهايم\nجلب:\nملابس رياضية مريحة ، مشروب\nالتسجيل الملزم:\nمع كاثرين لينز (0176.426 01912) \n 
URL:https://jagstheim.de/event/kick-4-fit-%d9%87%d9%88-%d8%a8%d8%b1%d9%86%d8%a7%d9%85%d8%ac-%d9%84%d9%8a%d8%a7%d9%82%d8%a9-%d8%a8%d8%af%d9%86%d9%8a%d8%a9/2024-01-24/?lang=ar
LOCATION:Jagstauenhalle\, جاغستهايمر Hauptstrasse 157\, كريلسهايم\, بادن فورتمبيرغ\, 74564\, Deutschland
CATEGORIES:المرأة الريفية,رياضي,منظمة
END:VEVENT
BEGIN:VEVENT
DTSTART;TZID=Europe/Helsinki:20240124T200000
DTEND;TZID=Europe/Helsinki:20240124T220000
DTSTAMP:20260421T112435
CREATED:20240107T095234Z
LAST-MODIFIED:20240107T095234Z
UID:10004208-1706126400-1706133600@jagstheim.de
SUMMARY:سلة كروشيه مبتكرة بقاعدة خشبية
DESCRIPTION:اجتماع LandFrauen بعد الظهر سلة كروشيه إبداعية بأرضية خشبية الساعة 2 ظهرًا \n 
URL:https://jagstheim.de/event/%d8%b3%d9%84%d8%a9-%d9%83%d8%b1%d9%88%d8%b4%d9%8a%d9%87-%d9%85%d8%a8%d8%aa%d9%83%d8%b1%d8%a9-%d8%a8%d9%82%d8%a7%d8%b9%d8%af%d8%a9-%d8%ae%d8%b4%d8%a8%d9%8a%d8%a9/?lang=ar
CATEGORIES:المرأة الريفية,منظمة
END:VEVENT
BEGIN:VEVENT
DTSTART;VALUE=DATE:20240127
DTEND;VALUE=DATE:20240128
DTSTAMP:20260421T112435
CREATED:20240107T095434Z
LAST-MODIFIED:20240107T095434Z
UID:10004214-1706313600-1706399999@jagstheim.de
SUMMARY:يوم مباراة تنس الطاولة
DESCRIPTION: 
URL:https://jagstheim.de/event/%d9%8a%d9%88%d9%85-%d9%85%d8%a8%d8%a7%d8%b1%d8%a7%d8%a9-%d8%aa%d9%86%d8%b3-%d8%a7%d9%84%d8%b7%d8%a7%d9%88%d9%84%d8%a9-2/?lang=ar
LOCATION:Jagstauenhalle\, جاغستهايمر Hauptstrasse 157\, كريلسهايم\, بادن فورتمبيرغ\, 74564\, Deutschland
CATEGORIES:رياضات,منظمة
ATTACH;FMTTYPE=image/jpeg:https://jagstheim.de/wp-content/uploads/2024/01/table-tennis_640.jpg
END:VEVENT
BEGIN:VEVENT
DTSTART;TZID=Europe/Helsinki:20240128T140000
DTEND;TZID=Europe/Helsinki:20240128T170000
DTSTAMP:20260421T112435
CREATED:20240109T161614Z
LAST-MODIFIED:20240109T161614Z
UID:10005079-1706450400-1706461200@jagstheim.de
SUMMARY:إعادة الفتح | العلاج الطبيعي كريستين كونتنر
DESCRIPTION:إعادة الافتتاح: 1 فبراير 2024\nيوم الأحد 28 يناير 2024\nإنني أتطلع إلى اليوم المفتوح\nلإظهار ممارستي بين الساعة 2 ظهرًا و5 مساءً\nوالتعرف عليك شخصيًا أثناء تناول كأس من الشمبانيا والوجبات الخفيفة.\nخدمات: \nالعلاج اليدوي، بوباث، العلاج الطبيعي، علاج قاع الحوض، العلاج الكهربائي، فانجو وأكثر من ذلك بكثير! \nوإنني أتطلع إلى زيارتك.\n079513009399\n0176 57776859\ninfo@physiotherapie-kuntner.de \n 
URL:https://jagstheim.de/event/%d8%a5%d8%b9%d8%a7%d8%af%d8%a9-%d8%a7%d9%84%d9%81%d8%aa%d8%ad-%d8%a7%d9%84%d8%b9%d9%84%d8%a7%d8%ac-%d8%a7%d9%84%d8%b7%d8%a8%d9%8a%d8%b9%d9%8a-%d9%83%d8%b1%d9%8a%d8%b3%d8%aa%d9%8a%d9%86-%d9%83%d9%88/?lang=ar
LOCATION:العلاج الطبيعي CK\, شارع زيجلهوتنشتراسه 5\, كريلسهايم\, 74564\, Deutschland
CATEGORIES:المهرجانات,عمل
END:VEVENT
BEGIN:VEVENT
DTSTART;TZID=Europe/Helsinki:20240131T181500
DTEND;TZID=Europe/Helsinki:20240131T193000
DTSTAMP:20260421T112435
CREATED:20230825T194007Z
LAST-MODIFIED:20230825T194204Z
UID:10001081-1706724900-1706729400@jagstheim.de
SUMMARY:KICK 4 Fit هو برنامج لياقة بدنية
DESCRIPTION:KICK 4 Fit هو برنامج للياقة البدنية مع عناصر ديناميكية من فنون الدفاع عن النفس التايكوندو.\nغير عنيف تماما ، نقوم بتدريب سرعتنا وتحملنا وقوتنا وتنسيقنا مع الصغار والكبار.\nنحن نحسن استجابتنا وأدائنا ونحفز الجهاز العصبي والعضلات والأوتار والمفاصل بطريقة ديناميكية للغاية.\nبعد العطلة الصيفية ، حان الوقت للمضي قدما – الطريقة المثالية للبدء!\nانضم إلينا! من 13 سبتمبر 2023 ، 6.15 مساء – 7.30 مساء\nمدرب:\nباسكال ميلي ، 5 دان TKD وإيزابيل شيفر ، 3 دان TKD\nبدء:\nالأربعاء 13 سبتمبر 2023 ، 6.15 – 7.30 مساء\nانقضاء:\nدورة الجري المستمر ، الدخول ممكن في أي وقت\nدورة:\n8.00 يورو لكل دورة تدريبية + عضوية Landfrauen Jagstheim\nمكان:\nJagstauenhalle \, Jagstheimer Hauptstraße 157 \, 74564 كرايلسهايم\nجلب:\nملابس رياضية مريحة ، مشروب\nالتسجيل الملزم:\nمع كاثرين لينز (0176.426 01912) \n 
URL:https://jagstheim.de/event/kick-4-fit-%d9%87%d9%88-%d8%a8%d8%b1%d9%86%d8%a7%d9%85%d8%ac-%d9%84%d9%8a%d8%a7%d9%82%d8%a9-%d8%a8%d8%af%d9%86%d9%8a%d8%a9/2024-01-31/?lang=ar
LOCATION:Jagstauenhalle\, جاغستهايمر Hauptstrasse 157\, كريلسهايم\, بادن فورتمبيرغ\, 74564\, Deutschland
CATEGORIES:المرأة الريفية,رياضي,منظمة
END:VEVENT
BEGIN:VEVENT
DTSTART;TZID=Europe/Helsinki:20240131T190000
DTEND;TZID=Europe/Helsinki:20240131T230000
DTSTAMP:20260421T112435
CREATED:20240107T095547Z
LAST-MODIFIED:20240107T095547Z
UID:10004225-1706727600-1706742000@jagstheim.de
SUMMARY:بلوتيسين شتاينباخ
DESCRIPTION: 
URL:https://jagstheim.de/event/%d8%a8%d9%84%d9%88%d8%aa%d9%8a%d8%b3%d9%8a%d9%86-%d8%b4%d8%aa%d8%a7%d9%8a%d9%86%d8%a8%d8%a7%d8%ae/?lang=ar
CATEGORIES:المرأة الريفية,منظمة
END:VEVENT
BEGIN:VEVENT
DTSTART;TZID=Europe/Helsinki:20240202T200000
DTEND;TZID=Europe/Helsinki:20240202T220000
DTSTAMP:20260421T112435
CREATED:20240107T095944Z
LAST-MODIFIED:20240107T095944Z
UID:10004236-1706904000-1706911200@jagstheim.de
SUMMARY:الاجتماع العام السنوي في فندق Stoll Inn
DESCRIPTION:Liederkranz Jagstheim، الساعة 8:00 مساءً اجتماع عام في Gasthaus Stoll \n 
URL:https://jagstheim.de/event/%d8%a7%d9%84%d8%a7%d8%ac%d8%aa%d9%85%d8%a7%d8%b9-%d8%a7%d9%84%d8%b9%d8%a7%d9%85-%d8%a7%d9%84%d8%b3%d9%86%d9%88%d9%8a-%d9%81%d9%8a-%d9%81%d9%86%d8%af%d9%82-stoll-inn/?lang=ar
CATEGORIES:اكليلا من الأغاني,منظمة
END:VEVENT
BEGIN:VEVENT
DTSTART;VALUE=DATE:20240203
DTEND;VALUE=DATE:20240204
DTSTAMP:20260421T112435
CREATED:20240107T100404Z
LAST-MODIFIED:20240107T100404Z
UID:10004247-1706918400-1707004799@jagstheim.de
SUMMARY:يوم مباراة تنس الطاولة
DESCRIPTION: 
URL:https://jagstheim.de/event/%d9%8a%d9%88%d9%85-%d9%85%d8%a8%d8%a7%d8%b1%d8%a7%d8%a9-%d8%aa%d9%86%d8%b3-%d8%a7%d9%84%d8%b7%d8%a7%d9%88%d9%84%d8%a9-3/?lang=ar
LOCATION:Jagstauenhalle\, جاغستهايمر Hauptstrasse 157\, كريلسهايم\, بادن فورتمبيرغ\, 74564\, Deutschland
CATEGORIES:رياضات,منظمة
ATTACH;FMTTYPE=image/jpeg:https://jagstheim.de/wp-content/uploads/2024/01/table-tennis_640.jpg
END:VEVENT
BEGIN:VEVENT
DTSTART;VALUE=DATE:20240206
DTEND;VALUE=DATE:20240207
DTSTAMP:20260421T112435
CREATED:20231210T173700Z
LAST-MODIFIED:20250102T065654Z
UID:10003713-1707177600-1707263999@jagstheim.de
SUMMARY:النفايات العضوية والنفايات المتبقية
DESCRIPTION:كرايلسهايم – المنطقة 4تواريخالتجميع: منطقة شفيبيش هول \n  \n 
URL:https://jagstheim.de/event/%d8%a7%d9%84%d9%86%d9%81%d8%a7%d9%8a%d8%a7%d8%aa-%d8%a7%d9%84%d8%b9%d8%b6%d9%88%d9%8a%d8%a9-%d9%88%d8%a7%d9%84%d9%86%d9%81%d8%a7%d9%8a%d8%a7%d8%aa-%d8%a7%d9%84%d9%85%d8%aa%d8%a8%d9%82%d9%8a%d8%a9-13/2024-02-06/?lang=ar
CATEGORIES:التخلص من القمامة
ATTACH;FMTTYPE=image/webp:https://jagstheim.de/wp-content/uploads/2023/07/BioRest.webp
END:VEVENT
BEGIN:VEVENT
DTSTART;TZID=Europe/Helsinki:20240207T140000
DTEND;TZID=Europe/Helsinki:20240207T160000
DTSTAMP:20260421T112435
CREATED:20240107T100625Z
LAST-MODIFIED:20240107T100625Z
UID:10004258-1707314400-1707321600@jagstheim.de
SUMMARY:نادي كبار السن
DESCRIPTION: 
URL:https://jagstheim.de/event/%d9%86%d8%a7%d8%af%d9%8a-%d9%83%d8%a8%d8%a7%d8%b1-%d8%a7%d9%84%d8%b3%d9%86-2/?lang=ar
LOCATION:كاثوليكي قاعة الرعية\, Eichwaldstrasse 16\, كريلسهايم\, بادن فورتمبيرغ\, 74564\, Deutschland
CATEGORIES:كاثوليكي,كنيسة
ATTACH;FMTTYPE=image/jpeg:https://jagstheim.de/wp-content/uploads/2023/07/sports-2863541_640.jpg
END:VEVENT
BEGIN:VEVENT
DTSTART;TZID=Europe/Helsinki:20240207T181500
DTEND;TZID=Europe/Helsinki:20240207T193000
DTSTAMP:20260421T112435
CREATED:20230825T194007Z
LAST-MODIFIED:20230825T194204Z
UID:10001082-1707329700-1707334200@jagstheim.de
SUMMARY:KICK 4 Fit هو برنامج لياقة بدنية
DESCRIPTION:KICK 4 Fit هو برنامج للياقة البدنية مع عناصر ديناميكية من فنون الدفاع عن النفس التايكوندو.\nغير عنيف تماما ، نقوم بتدريب سرعتنا وتحملنا وقوتنا وتنسيقنا مع الصغار والكبار.\nنحن نحسن استجابتنا وأدائنا ونحفز الجهاز العصبي والعضلات والأوتار والمفاصل بطريقة ديناميكية للغاية.\nبعد العطلة الصيفية ، حان الوقت للمضي قدما – الطريقة المثالية للبدء!\nانضم إلينا! من 13 سبتمبر 2023 ، 6.15 مساء – 7.30 مساء\nمدرب:\nباسكال ميلي ، 5 دان TKD وإيزابيل شيفر ، 3 دان TKD\nبدء:\nالأربعاء 13 سبتمبر 2023 ، 6.15 – 7.30 مساء\nانقضاء:\nدورة الجري المستمر ، الدخول ممكن في أي وقت\nدورة:\n8.00 يورو لكل دورة تدريبية + عضوية Landfrauen Jagstheim\nمكان:\nJagstauenhalle \, Jagstheimer Hauptstraße 157 \, 74564 كرايلسهايم\nجلب:\nملابس رياضية مريحة ، مشروب\nالتسجيل الملزم:\nمع كاثرين لينز (0176.426 01912) \n 
URL:https://jagstheim.de/event/kick-4-fit-%d9%87%d9%88-%d8%a8%d8%b1%d9%86%d8%a7%d9%85%d8%ac-%d9%84%d9%8a%d8%a7%d9%82%d8%a9-%d8%a8%d8%af%d9%86%d9%8a%d8%a9/2024-02-07/?lang=ar
LOCATION:Jagstauenhalle\, جاغستهايمر Hauptstrasse 157\, كريلسهايم\, بادن فورتمبيرغ\, 74564\, Deutschland
CATEGORIES:المرأة الريفية,رياضي,منظمة
END:VEVENT
BEGIN:VEVENT
DTSTART;VALUE=DATE:20240211
DTEND;VALUE=DATE:20240212
DTSTAMP:20260421T112435
CREATED:20240107T101433Z
LAST-MODIFIED:20240107T101433Z
UID:10004272-1707609600-1707695999@jagstheim.de
SUMMARY:كرنفال الأطفال
DESCRIPTION:VfB \n 
URL:https://jagstheim.de/event/%d9%83%d8%b1%d9%86%d9%81%d8%a7%d9%84-%d8%a7%d9%84%d8%a3%d8%b7%d9%81%d8%a7%d9%84/?lang=ar
LOCATION:Jagstauenhalle\, جاغستهايمر Hauptstrasse 157\, كريلسهايم\, بادن فورتمبيرغ\, 74564\, Deutschland
CATEGORIES:المهرجانات,منظمة
END:VEVENT
BEGIN:VEVENT
DTSTART;TZID=Europe/Helsinki:20240213T143000
DTEND;TZID=Europe/Helsinki:20240213T163000
DTSTAMP:20260421T112435
CREATED:20240107T101713Z
LAST-MODIFIED:20240107T101713Z
UID:10004282-1707834600-1707841800@jagstheim.de
SUMMARY:بعد ظهر اليوم
DESCRIPTION: 
URL:https://jagstheim.de/event/%d8%a8%d8%b9%d8%af-%d8%b8%d9%87%d8%b1-%d8%a7%d9%84%d9%8a%d9%88%d9%85-2/?lang=ar
LOCATION:ربما قاعة المجتمع\, Stauseestrasse 5\, كريلسهايم\, 74564
CATEGORIES:كاثوليكي,كنيسة
ATTACH;FMTTYPE=image/jpeg:https://jagstheim.de/wp-content/uploads/2023/07/coffee-shop-3699340-scaled.jpg
END:VEVENT
BEGIN:VEVENT
DTSTART;TZID=Europe/Helsinki:20240214T181500
DTEND;TZID=Europe/Helsinki:20240214T193000
DTSTAMP:20260421T112435
CREATED:20230825T194007Z
LAST-MODIFIED:20230825T194204Z
UID:10001083-1707934500-1707939000@jagstheim.de
SUMMARY:KICK 4 Fit هو برنامج لياقة بدنية
DESCRIPTION:KICK 4 Fit هو برنامج للياقة البدنية مع عناصر ديناميكية من فنون الدفاع عن النفس التايكوندو.\nغير عنيف تماما ، نقوم بتدريب سرعتنا وتحملنا وقوتنا وتنسيقنا مع الصغار والكبار.\nنحن نحسن استجابتنا وأدائنا ونحفز الجهاز العصبي والعضلات والأوتار والمفاصل بطريقة ديناميكية للغاية.\nبعد العطلة الصيفية ، حان الوقت للمضي قدما – الطريقة المثالية للبدء!\nانضم إلينا! من 13 سبتمبر 2023 ، 6.15 مساء – 7.30 مساء\nمدرب:\nباسكال ميلي ، 5 دان TKD وإيزابيل شيفر ، 3 دان TKD\nبدء:\nالأربعاء 13 سبتمبر 2023 ، 6.15 – 7.30 مساء\nانقضاء:\nدورة الجري المستمر ، الدخول ممكن في أي وقت\nدورة:\n8.00 يورو لكل دورة تدريبية + عضوية Landfrauen Jagstheim\nمكان:\nJagstauenhalle \, Jagstheimer Hauptstraße 157 \, 74564 كرايلسهايم\nجلب:\nملابس رياضية مريحة ، مشروب\nالتسجيل الملزم:\nمع كاثرين لينز (0176.426 01912) \n 
URL:https://jagstheim.de/event/kick-4-fit-%d9%87%d9%88-%d8%a8%d8%b1%d9%86%d8%a7%d9%85%d8%ac-%d9%84%d9%8a%d8%a7%d9%82%d8%a9-%d8%a8%d8%af%d9%86%d9%8a%d8%a9/2024-02-14/?lang=ar
LOCATION:Jagstauenhalle\, جاغستهايمر Hauptstrasse 157\, كريلسهايم\, بادن فورتمبيرغ\, 74564\, Deutschland
CATEGORIES:المرأة الريفية,رياضي,منظمة
END:VEVENT
BEGIN:VEVENT
DTSTART;TZID=Europe/Helsinki:20240214T190000
DTEND;TZID=Europe/Helsinki:20240214T220000
DTSTAMP:20260421T112435
CREATED:20240107T101858Z
LAST-MODIFIED:20240107T101858Z
UID:10004293-1707937200-1707948000@jagstheim.de
SUMMARY:ورشة الطبخ مع جيردا لوبر
DESCRIPTION: 
URL:https://jagstheim.de/event/%d9%88%d8%b1%d8%b4%d8%a9-%d8%a7%d9%84%d8%b7%d8%a8%d8%ae-%d9%85%d8%b9-%d8%ac%d9%8a%d8%b1%d8%af%d8%a7-%d9%84%d9%88%d8%a8%d8%b1/?lang=ar
CATEGORIES:المرأة الريفية,منظمة
END:VEVENT
BEGIN:VEVENT
DTSTART;VALUE=DATE:20240216
DTEND;VALUE=DATE:20240217
DTSTAMP:20260421T112435
CREATED:20231210T174342Z
LAST-MODIFIED:20250205T062541Z
UID:10003985-1708041600-1708127999@jagstheim.de
SUMMARY:كيس أصفر وصندوق ورقي
DESCRIPTION:كرايلسهايم – المنطقة 4لاندكريايس شفابيش هول | أبفالكالندر | (lrasha.de) \n 
URL:https://jagstheim.de/event/%d9%83%d9%8a%d8%b3-%d8%a3%d8%b5%d9%81%d8%b1-%d9%88%d8%b5%d9%86%d8%af%d9%88%d9%82-%d9%88%d8%b1%d9%82%d9%8a-8/2024-02-16/?lang=ar
CATEGORIES:التخلص من القمامة
ATTACH;FMTTYPE=image/webp:https://jagstheim.de/wp-content/uploads/2023/07/GelbPapier.webp
END:VEVENT
BEGIN:VEVENT
DTSTART;TZID=Europe/Helsinki:20240217T200000
DTEND;TZID=Europe/Helsinki:20240217T220000
DTSTAMP:20260421T112435
CREATED:20240107T102158Z
LAST-MODIFIED:20240107T102158Z
UID:10004305-1708200000-1708207200@jagstheim.de
SUMMARY:جمعية الصيد
DESCRIPTION:جلست عند الساعة الواحدة والنصف ظهرا \nيبدأ الساعة 8 مساءً \n 
URL:https://jagstheim.de/event/%d8%ac%d9%85%d8%b9%d9%8a%d8%a9-%d8%a7%d9%84%d8%b5%d9%8a%d8%af/?lang=ar
LOCATION:Jagstauenhalle\, جاغستهايمر Hauptstrasse 157\, كريلسهايم\, بادن فورتمبيرغ\, 74564\, Deutschland
CATEGORIES:منظمة
END:VEVENT
END:VCALENDAR