BEGIN:VCALENDAR
VERSION:2.0
PRODID:-//Jagstheim - ECPv6.15.20//NONSGML v1.0//EN
CALSCALE:GREGORIAN
METHOD:PUBLISH
X-WR-CALNAME:Jagstheim
X-ORIGINAL-URL:https://jagstheim.de/?lang=en
X-WR-CALDESC:Events for Jagstheim
REFRESH-INTERVAL;VALUE=DURATION:PT1H
X-Robots-Tag:noindex
X-PUBLISHED-TTL:PT1H
BEGIN:VTIMEZONE
TZID:Europe/Helsinki
BEGIN:DAYLIGHT
TZOFFSETFROM:+0200
TZOFFSETTO:+0300
TZNAME:EEST
DTSTART:20230326T010000
END:DAYLIGHT
BEGIN:STANDARD
TZOFFSETFROM:+0300
TZOFFSETTO:+0200
TZNAME:EET
DTSTART:20231029T010000
END:STANDARD
BEGIN:DAYLIGHT
TZOFFSETFROM:+0200
TZOFFSETTO:+0300
TZNAME:EEST
DTSTART:20240331T010000
END:DAYLIGHT
BEGIN:STANDARD
TZOFFSETFROM:+0300
TZOFFSETTO:+0200
TZNAME:EET
DTSTART:20241027T010000
END:STANDARD
BEGIN:DAYLIGHT
TZOFFSETFROM:+0200
TZOFFSETTO:+0300
TZNAME:EEST
DTSTART:20250330T010000
END:DAYLIGHT
BEGIN:STANDARD
TZOFFSETFROM:+0300
TZOFFSETTO:+0200
TZNAME:EET
DTSTART:20251026T010000
END:STANDARD
END:VTIMEZONE
BEGIN:VEVENT
DTSTART;TZID=Europe/Helsinki:20240605T190000
DTEND;TZID=Europe/Helsinki:20240605T210000
DTSTAMP:20260422T090047
CREATED:20240107T113014Z
LAST-MODIFIED:20240107T113014Z
UID:10004671-1717614000-1717621200@jagstheim.de
SUMMARY:General meeting
DESCRIPTION: 
URL:https://jagstheim.de/event/general-meeting/?lang=en
LOCATION:Baden-Württemberg
CATEGORIES:Association,Countrywomen
END:VEVENT
BEGIN:VEVENT
DTSTART;TZID=Europe/Helsinki:20240605T181500
DTEND;TZID=Europe/Helsinki:20240605T193000
DTSTAMP:20260422T090048
CREATED:20230825T194007Z
LAST-MODIFIED:20230825T194205Z
UID:10001617-1717611300-1717615800@jagstheim.de
SUMMARY:KICK 4 Fit is a fitness program
DESCRIPTION:KICK 4 Fit is a fitness program with dynamic elements from the martial art Taekwondo.\nCompletely non-violent\, we train with young and old our speed\, endurance\, strength and coordination.\nWe improve our reaction and performance and stimulate the nervous system\, muscles\, tendons and joints in an extremely dynamic way.\nIt’s on after the summer vacations – the perfect opportunity for you to get in on the action!\nJOIN US! FROM SEPTEMBER 13\, 2023\, 6:15 – 7:30 P.M.\nTrainer:\nPascal Mele\, 5th Dan TKD & Isabell Schäfer\, 3rd Dan TKD\nStart:\nWednesday 13 September 2023\, 6.15 – 7.30 p.m. each day\nProcedure:\nContinuously running course\, entry possible at any time\nCourse Fee:\n8\,00 € per training unit + membership with Landfrauen Jagstheim\nLocation:\nJagstauenhalle\, Jagstheimer Hauptstraße 157\, 74564 Crailsheim\nTo bring:\nComfortable sportswear\, drink\nBinding registration:\nWith Kathrin Lenz (0176.426 01912) \n 
URL:https://jagstheim.de/event/kick-4-fit-is-a-fitness-program/2024-06-05/?lang=en
LOCATION:Jagstauenhalle\, Jagstheimer main street 157\, Crailsheim\, Baden-Württemberg\, 74564\, Deutschland
CATEGORIES:Association,Countrywomen,Sporty
END:VEVENT
BEGIN:VEVENT
DTSTART;TZID=Europe/Helsinki:20240605T140000
DTEND;TZID=Europe/Helsinki:20240605T160000
DTSTAMP:20260422T090048
CREATED:20240107T112856Z
LAST-MODIFIED:20240107T112856Z
UID:10004658-1717596000-1717603200@jagstheim.de
SUMMARY:Old People's Club
DESCRIPTION: 
URL:https://jagstheim.de/event/old-peoples-club-6/?lang=en
LOCATION:cathol. parish hall\, Eichwald road 16\, Crailsheim\, Baden-Württemberg\, 74564\, Deutschland
CATEGORIES:catholic,Church
END:VEVENT
BEGIN:VEVENT
DTSTART;TZID=Europe/Helsinki:20240529T181500
DTEND;TZID=Europe/Helsinki:20240529T193000
DTSTAMP:20260422T090048
CREATED:20230825T194007Z
LAST-MODIFIED:20230825T194205Z
UID:10001616-1717006500-1717011000@jagstheim.de
SUMMARY:KICK 4 Fit is a fitness program
DESCRIPTION:KICK 4 Fit is a fitness program with dynamic elements from the martial art Taekwondo.\nCompletely non-violent\, we train with young and old our speed\, endurance\, strength and coordination.\nWe improve our reaction and performance and stimulate the nervous system\, muscles\, tendons and joints in an extremely dynamic way.\nIt’s on after the summer vacations – the perfect opportunity for you to get in on the action!\nJOIN US! FROM SEPTEMBER 13\, 2023\, 6:15 – 7:30 P.M.\nTrainer:\nPascal Mele\, 5th Dan TKD & Isabell Schäfer\, 3rd Dan TKD\nStart:\nWednesday 13 September 2023\, 6.15 – 7.30 p.m. each day\nProcedure:\nContinuously running course\, entry possible at any time\nCourse Fee:\n8\,00 € per training unit + membership with Landfrauen Jagstheim\nLocation:\nJagstauenhalle\, Jagstheimer Hauptstraße 157\, 74564 Crailsheim\nTo bring:\nComfortable sportswear\, drink\nBinding registration:\nWith Kathrin Lenz (0176.426 01912) \n 
URL:https://jagstheim.de/event/kick-4-fit-is-a-fitness-program/2024-05-29/?lang=en
LOCATION:Jagstauenhalle\, Jagstheimer main street 157\, Crailsheim\, Baden-Württemberg\, 74564\, Deutschland
CATEGORIES:Association,Countrywomen,Sporty
END:VEVENT
BEGIN:VEVENT
DTSTART;VALUE=DATE:20240528
DTEND;VALUE=DATE:20240529
DTSTAMP:20260422T090048
CREATED:20231210T173700Z
LAST-MODIFIED:20250102T065654Z
UID:10003747-1716854400-1716940799@jagstheim.de
SUMMARY:Organic waste and residual waste
DESCRIPTION:Crailsheim – District 4 \nCollection dates: Schwäbisch Hall district \n  \n 
URL:https://jagstheim.de/event/organic-waste-and-residual-waste-11/2024-05-28/?lang=en
LOCATION:Baden-Württemberg
CATEGORIES:Waste disposal
ATTACH;FMTTYPE=image/webp:https://jagstheim.de/wp-content/uploads/2023/07/BioRest.webp
END:VEVENT
BEGIN:VEVENT
DTSTART;TZID=Europe/Helsinki:20240522T181500
DTEND;TZID=Europe/Helsinki:20240522T193000
DTSTAMP:20260422T090048
CREATED:20230825T194007Z
LAST-MODIFIED:20230825T194205Z
UID:10001615-1716401700-1716406200@jagstheim.de
SUMMARY:KICK 4 Fit is a fitness program
DESCRIPTION:KICK 4 Fit is a fitness program with dynamic elements from the martial art Taekwondo.\nCompletely non-violent\, we train with young and old our speed\, endurance\, strength and coordination.\nWe improve our reaction and performance and stimulate the nervous system\, muscles\, tendons and joints in an extremely dynamic way.\nIt’s on after the summer vacations – the perfect opportunity for you to get in on the action!\nJOIN US! FROM SEPTEMBER 13\, 2023\, 6:15 – 7:30 P.M.\nTrainer:\nPascal Mele\, 5th Dan TKD & Isabell Schäfer\, 3rd Dan TKD\nStart:\nWednesday 13 September 2023\, 6.15 – 7.30 p.m. each day\nProcedure:\nContinuously running course\, entry possible at any time\nCourse Fee:\n8\,00 € per training unit + membership with Landfrauen Jagstheim\nLocation:\nJagstauenhalle\, Jagstheimer Hauptstraße 157\, 74564 Crailsheim\nTo bring:\nComfortable sportswear\, drink\nBinding registration:\nWith Kathrin Lenz (0176.426 01912) \n 
URL:https://jagstheim.de/event/kick-4-fit-is-a-fitness-program/2024-05-22/?lang=en
LOCATION:Jagstauenhalle\, Jagstheimer main street 157\, Crailsheim\, Baden-Württemberg\, 74564\, Deutschland
CATEGORIES:Association,Countrywomen,Sporty
END:VEVENT
BEGIN:VEVENT
DTSTART;TZID=Europe/Helsinki:20240519T100000
DTEND;TZID=Europe/Helsinki:20240519T110000
DTSTAMP:20260422T090048
CREATED:20240107T112740Z
LAST-MODIFIED:20240107T112740Z
UID:10004650-1716112800-1716116400@jagstheim.de
SUMMARY:District service in Altenmünster
DESCRIPTION: 
URL:https://jagstheim.de/event/district-service-in-altenmuenster/?lang=en
LOCATION:Baden-Württemberg
CATEGORIES:Church,evangelical
END:VEVENT
BEGIN:VEVENT
DTSTART;TZID=Europe/Helsinki:20240515T193000
DTEND;TZID=Europe/Helsinki:20240515T213000
DTSTAMP:20260422T090048
CREATED:20240107T112620Z
LAST-MODIFIED:20240107T112620Z
UID:10004637-1715801400-1715808600@jagstheim.de
SUMMARY:Garden lecture Water shortage\, drought suitable plants
DESCRIPTION: 
URL:https://jagstheim.de/event/garden-lecture-water-shortage-drought-suitable-plants/?lang=en
LOCATION:Baden-Württemberg
CATEGORIES:Association,Countrywomen
END:VEVENT
BEGIN:VEVENT
DTSTART;TZID=Europe/Helsinki:20240515T181500
DTEND;TZID=Europe/Helsinki:20240515T193000
DTSTAMP:20260422T090048
CREATED:20230825T194007Z
LAST-MODIFIED:20230825T194205Z
UID:10001614-1715796900-1715801400@jagstheim.de
SUMMARY:KICK 4 Fit is a fitness program
DESCRIPTION:KICK 4 Fit is a fitness program with dynamic elements from the martial art Taekwondo.\nCompletely non-violent\, we train with young and old our speed\, endurance\, strength and coordination.\nWe improve our reaction and performance and stimulate the nervous system\, muscles\, tendons and joints in an extremely dynamic way.\nIt’s on after the summer vacations – the perfect opportunity for you to get in on the action!\nJOIN US! FROM SEPTEMBER 13\, 2023\, 6:15 – 7:30 P.M.\nTrainer:\nPascal Mele\, 5th Dan TKD & Isabell Schäfer\, 3rd Dan TKD\nStart:\nWednesday 13 September 2023\, 6.15 – 7.30 p.m. each day\nProcedure:\nContinuously running course\, entry possible at any time\nCourse Fee:\n8\,00 € per training unit + membership with Landfrauen Jagstheim\nLocation:\nJagstauenhalle\, Jagstheimer Hauptstraße 157\, 74564 Crailsheim\nTo bring:\nComfortable sportswear\, drink\nBinding registration:\nWith Kathrin Lenz (0176.426 01912) \n 
URL:https://jagstheim.de/event/kick-4-fit-is-a-fitness-program/2024-05-15/?lang=en
LOCATION:Jagstauenhalle\, Jagstheimer main street 157\, Crailsheim\, Baden-Württemberg\, 74564\, Deutschland
CATEGORIES:Association,Countrywomen,Sporty
END:VEVENT
BEGIN:VEVENT
DTSTART;VALUE=DATE:20240514
DTEND;VALUE=DATE:20240515
DTSTAMP:20260422T090048
CREATED:20231210T173700Z
LAST-MODIFIED:20250102T065654Z
UID:10003746-1715644800-1715731199@jagstheim.de
SUMMARY:Organic waste and residual waste
DESCRIPTION:Crailsheim – District 4 \nCollection dates: Schwäbisch Hall district \n  \n 
URL:https://jagstheim.de/event/organic-waste-and-residual-waste-11/2024-05-14/?lang=en
LOCATION:Baden-Württemberg
CATEGORIES:Waste disposal
ATTACH;FMTTYPE=image/webp:https://jagstheim.de/wp-content/uploads/2023/07/BioRest.webp
END:VEVENT
BEGIN:VEVENT
DTSTART;VALUE=DATE:20240510
DTEND;VALUE=DATE:20240511
DTSTAMP:20260422T090048
CREATED:20231210T174342Z
LAST-MODIFIED:20250205T062540Z
UID:10004040-1715299200-1715385599@jagstheim.de
SUMMARY:Yellow bag and paper garbage can
DESCRIPTION:Crailsheim – District 4 \nLandkreis Schwäbisch Hall | Abfallkalender | (lrasha.de) \n 
URL:https://jagstheim.de/event/yellow-bag-and-paper-garbage-can-8/2024-05-10/?lang=en
LOCATION:Baden-Württemberg
CATEGORIES:Waste disposal
ATTACH;FMTTYPE=image/webp:https://jagstheim.de/wp-content/uploads/2023/07/GelbPapier.webp
END:VEVENT
BEGIN:VEVENT
DTSTART;TZID=Europe/Helsinki:20240508T181500
DTEND;TZID=Europe/Helsinki:20240508T193000
DTSTAMP:20260422T090048
CREATED:20230825T194007Z
LAST-MODIFIED:20230825T194205Z
UID:10001613-1715192100-1715196600@jagstheim.de
SUMMARY:KICK 4 Fit is a fitness program
DESCRIPTION:KICK 4 Fit is a fitness program with dynamic elements from the martial art Taekwondo.\nCompletely non-violent\, we train with young and old our speed\, endurance\, strength and coordination.\nWe improve our reaction and performance and stimulate the nervous system\, muscles\, tendons and joints in an extremely dynamic way.\nIt’s on after the summer vacations – the perfect opportunity for you to get in on the action!\nJOIN US! FROM SEPTEMBER 13\, 2023\, 6:15 – 7:30 P.M.\nTrainer:\nPascal Mele\, 5th Dan TKD & Isabell Schäfer\, 3rd Dan TKD\nStart:\nWednesday 13 September 2023\, 6.15 – 7.30 p.m. each day\nProcedure:\nContinuously running course\, entry possible at any time\nCourse Fee:\n8\,00 € per training unit + membership with Landfrauen Jagstheim\nLocation:\nJagstauenhalle\, Jagstheimer Hauptstraße 157\, 74564 Crailsheim\nTo bring:\nComfortable sportswear\, drink\nBinding registration:\nWith Kathrin Lenz (0176.426 01912) \n 
URL:https://jagstheim.de/event/kick-4-fit-is-a-fitness-program/2024-05-08/?lang=en
LOCATION:Jagstauenhalle\, Jagstheimer main street 157\, Crailsheim\, Baden-Württemberg\, 74564\, Deutschland
CATEGORIES:Association,Countrywomen,Sporty
END:VEVENT
BEGIN:VEVENT
DTSTART;TZID=Europe/Helsinki:20240508T140000
DTEND;TZID=Europe/Helsinki:20240508T160000
DTSTAMP:20260422T090048
CREATED:20240107T112508Z
LAST-MODIFIED:20240107T112508Z
UID:10004626-1715176800-1715184000@jagstheim.de
SUMMARY:Old People's Club
DESCRIPTION: 
URL:https://jagstheim.de/event/old-peoples-club-5/?lang=en
LOCATION:cathol. parish hall\, Eichwald road 16\, Crailsheim\, Baden-Württemberg\, 74564\, Deutschland
CATEGORIES:catholic,Church
END:VEVENT
BEGIN:VEVENT
DTSTART;VALUE=DATE:20240503
DTEND;VALUE=DATE:20240504
DTSTAMP:20260422T090048
CREATED:20240107T112331Z
LAST-MODIFIED:20240107T112331Z
UID:10004615-1714694400-1714780799@jagstheim.de
SUMMARY:Dairy plant
DESCRIPTION: 
URL:https://jagstheim.de/event/dairy-plant/?lang=en
LOCATION:Jagstauenhalle\, Jagstheimer main street 157\, Crailsheim\, Baden-Württemberg\, 74564\, Deutschland
CATEGORIES:Event
END:VEVENT
BEGIN:VEVENT
DTSTART;TZID=Europe/Helsinki:20240501T181500
DTEND;TZID=Europe/Helsinki:20240501T193000
DTSTAMP:20260422T090048
CREATED:20230825T194007Z
LAST-MODIFIED:20230825T194205Z
UID:10001612-1714587300-1714591800@jagstheim.de
SUMMARY:KICK 4 Fit is a fitness program
DESCRIPTION:KICK 4 Fit is a fitness program with dynamic elements from the martial art Taekwondo.\nCompletely non-violent\, we train with young and old our speed\, endurance\, strength and coordination.\nWe improve our reaction and performance and stimulate the nervous system\, muscles\, tendons and joints in an extremely dynamic way.\nIt’s on after the summer vacations – the perfect opportunity for you to get in on the action!\nJOIN US! FROM SEPTEMBER 13\, 2023\, 6:15 – 7:30 P.M.\nTrainer:\nPascal Mele\, 5th Dan TKD & Isabell Schäfer\, 3rd Dan TKD\nStart:\nWednesday 13 September 2023\, 6.15 – 7.30 p.m. each day\nProcedure:\nContinuously running course\, entry possible at any time\nCourse Fee:\n8\,00 € per training unit + membership with Landfrauen Jagstheim\nLocation:\nJagstauenhalle\, Jagstheimer Hauptstraße 157\, 74564 Crailsheim\nTo bring:\nComfortable sportswear\, drink\nBinding registration:\nWith Kathrin Lenz (0176.426 01912) \n 
URL:https://jagstheim.de/event/kick-4-fit-is-a-fitness-program/2024-05-01/?lang=en
LOCATION:Jagstauenhalle\, Jagstheimer main street 157\, Crailsheim\, Baden-Württemberg\, 74564\, Deutschland
CATEGORIES:Association,Countrywomen,Sporty
END:VEVENT
BEGIN:VEVENT
DTSTART;VALUE=DATE:20240501
DTEND;VALUE=DATE:20240502
DTSTAMP:20260422T090048
CREATED:20240107T112106Z
LAST-MODIFIED:20240107T112106Z
UID:10004601-1714521600-1714607999@jagstheim.de
SUMMARY:VfB May hike
DESCRIPTION: 
URL:https://jagstheim.de/event/vfb-may-hike/?lang=en
LOCATION:Baden-Württemberg
CATEGORIES:Association
END:VEVENT
BEGIN:VEVENT
DTSTART;TZID=Europe/Helsinki:20240430T190000
DTEND;TZID=Europe/Helsinki:20240430T233000
DTSTAMP:20260422T090048
CREATED:20240107T112004Z
LAST-MODIFIED:20240107T112004Z
UID:10004595-1714503600-1714519800@jagstheim.de
SUMMARY:Maypole festival in the village center
DESCRIPTION: 
URL:https://jagstheim.de/event/maypole-festival-in-the-village-center/?lang=en
LOCATION:Baden-Württemberg
CATEGORIES:Fixed
END:VEVENT
BEGIN:VEVENT
DTSTART;VALUE=DATE:20240430
DTEND;VALUE=DATE:20240501
DTSTAMP:20260422T090048
CREATED:20231210T173700Z
LAST-MODIFIED:20250102T065654Z
UID:10003745-1714435200-1714521599@jagstheim.de
SUMMARY:Organic waste and residual waste
DESCRIPTION:Crailsheim – District 4 \nCollection dates: Schwäbisch Hall district \n  \n 
URL:https://jagstheim.de/event/organic-waste-and-residual-waste-11/2024-04-30/?lang=en
LOCATION:Baden-Württemberg
CATEGORIES:Waste disposal
ATTACH;FMTTYPE=image/webp:https://jagstheim.de/wp-content/uploads/2023/07/BioRest.webp
END:VEVENT
BEGIN:VEVENT
DTSTART;TZID=Europe/Helsinki:20240428T100000
DTEND;TZID=Europe/Helsinki:20240428T120000
DTSTAMP:20260422T090048
CREATED:20240107T111834Z
LAST-MODIFIED:20240107T111834Z
UID:10004579-1714298400-1714305600@jagstheim.de
SUMMARY:Confirmation service
DESCRIPTION: 
URL:https://jagstheim.de/event/confirmation-service/?lang=en
LOCATION:ev. St. Nicholas Church\, Reservoir road 3\, Crailsheim\, Baden-Württemberg\, 74564\, Deutschland
CATEGORIES:Church,evangelical
END:VEVENT
BEGIN:VEVENT
DTSTART;TZID=Europe/Helsinki:20240427T090000
DTEND;TZID=Europe/Helsinki:20240427T120000
DTSTAMP:20260422T090048
CREATED:20240107T111715Z
LAST-MODIFIED:20240107T111715Z
UID:10004570-1714208400-1714219200@jagstheim.de
SUMMARY:Women's breakfast
DESCRIPTION: 
URL:https://jagstheim.de/event/womens-breakfast/?lang=en
LOCATION:Baden-Württemberg
CATEGORIES:Association,Countrywomen
END:VEVENT
BEGIN:VEVENT
DTSTART;TZID=Europe/Helsinki:20240424T181500
DTEND;TZID=Europe/Helsinki:20240424T193000
DTSTAMP:20260422T090048
CREATED:20230825T194007Z
LAST-MODIFIED:20230825T194205Z
UID:10001611-1713982500-1713987000@jagstheim.de
SUMMARY:KICK 4 Fit is a fitness program
DESCRIPTION:KICK 4 Fit is a fitness program with dynamic elements from the martial art Taekwondo.\nCompletely non-violent\, we train with young and old our speed\, endurance\, strength and coordination.\nWe improve our reaction and performance and stimulate the nervous system\, muscles\, tendons and joints in an extremely dynamic way.\nIt’s on after the summer vacations – the perfect opportunity for you to get in on the action!\nJOIN US! FROM SEPTEMBER 13\, 2023\, 6:15 – 7:30 P.M.\nTrainer:\nPascal Mele\, 5th Dan TKD & Isabell Schäfer\, 3rd Dan TKD\nStart:\nWednesday 13 September 2023\, 6.15 – 7.30 p.m. each day\nProcedure:\nContinuously running course\, entry possible at any time\nCourse Fee:\n8\,00 € per training unit + membership with Landfrauen Jagstheim\nLocation:\nJagstauenhalle\, Jagstheimer Hauptstraße 157\, 74564 Crailsheim\nTo bring:\nComfortable sportswear\, drink\nBinding registration:\nWith Kathrin Lenz (0176.426 01912) \n 
URL:https://jagstheim.de/event/kick-4-fit-is-a-fitness-program/2024-04-24/?lang=en
LOCATION:Jagstauenhalle\, Jagstheimer main street 157\, Crailsheim\, Baden-Württemberg\, 74564\, Deutschland
CATEGORIES:Association,Countrywomen,Sporty
END:VEVENT
BEGIN:VEVENT
DTSTART;VALUE=DATE:20240420
DTEND;VALUE=DATE:20240421
DTSTAMP:20260422T090048
CREATED:20240107T111611Z
LAST-MODIFIED:20240107T111611Z
UID:10004559-1713571200-1713657599@jagstheim.de
SUMMARY:VfB youth excursion to Nuremberg Zoo
DESCRIPTION: 
URL:https://jagstheim.de/event/vfb-youth-excursion-to-nuremberg-zoo/?lang=en
LOCATION:Baden-Württemberg
CATEGORIES:Association
END:VEVENT
BEGIN:VEVENT
DTSTART;TZID=Europe/Helsinki:20240417T181500
DTEND;TZID=Europe/Helsinki:20240417T193000
DTSTAMP:20260422T090048
CREATED:20230825T194007Z
LAST-MODIFIED:20230825T194205Z
UID:10001610-1713377700-1713382200@jagstheim.de
SUMMARY:KICK 4 Fit is a fitness program
DESCRIPTION:KICK 4 Fit is a fitness program with dynamic elements from the martial art Taekwondo.\nCompletely non-violent\, we train with young and old our speed\, endurance\, strength and coordination.\nWe improve our reaction and performance and stimulate the nervous system\, muscles\, tendons and joints in an extremely dynamic way.\nIt’s on after the summer vacations – the perfect opportunity for you to get in on the action!\nJOIN US! FROM SEPTEMBER 13\, 2023\, 6:15 – 7:30 P.M.\nTrainer:\nPascal Mele\, 5th Dan TKD & Isabell Schäfer\, 3rd Dan TKD\nStart:\nWednesday 13 September 2023\, 6.15 – 7.30 p.m. each day\nProcedure:\nContinuously running course\, entry possible at any time\nCourse Fee:\n8\,00 € per training unit + membership with Landfrauen Jagstheim\nLocation:\nJagstauenhalle\, Jagstheimer Hauptstraße 157\, 74564 Crailsheim\nTo bring:\nComfortable sportswear\, drink\nBinding registration:\nWith Kathrin Lenz (0176.426 01912) \n 
URL:https://jagstheim.de/event/kick-4-fit-is-a-fitness-program/2024-04-17/?lang=en
LOCATION:Jagstauenhalle\, Jagstheimer main street 157\, Crailsheim\, Baden-Württemberg\, 74564\, Deutschland
CATEGORIES:Association,Countrywomen,Sporty
END:VEVENT
BEGIN:VEVENT
DTSTART;TZID=Europe/Helsinki:20240417T140000
DTEND;TZID=Europe/Helsinki:20240417T170000
DTSTAMP:20260422T090048
CREATED:20240107T111505Z
LAST-MODIFIED:20240107T111505Z
UID:10004548-1713362400-1713373200@jagstheim.de
SUMMARY:Afternoon meeting "Tell us about it
DESCRIPTION: 
URL:https://jagstheim.de/event/afternoon-meeting-tell-us-about-it/?lang=en
LOCATION:Baden-Württemberg
CATEGORIES:Association,Countrywomen
END:VEVENT
BEGIN:VEVENT
DTSTART;VALUE=DATE:20240416
DTEND;VALUE=DATE:20240417
DTSTAMP:20260422T090048
CREATED:20231210T173700Z
LAST-MODIFIED:20250102T065654Z
UID:10003744-1713225600-1713311999@jagstheim.de
SUMMARY:Organic waste and residual waste
DESCRIPTION:Crailsheim – District 4 \nCollection dates: Schwäbisch Hall district \n  \n 
URL:https://jagstheim.de/event/organic-waste-and-residual-waste-11/2024-04-16/?lang=en
LOCATION:Baden-Württemberg
CATEGORIES:Waste disposal
ATTACH;FMTTYPE=image/webp:https://jagstheim.de/wp-content/uploads/2023/07/BioRest.webp
END:VEVENT
BEGIN:VEVENT
DTSTART;VALUE=DATE:20240412
DTEND;VALUE=DATE:20240413
DTSTAMP:20260422T090048
CREATED:20231210T174342Z
LAST-MODIFIED:20250205T062540Z
UID:10004039-1712880000-1712966399@jagstheim.de
SUMMARY:Yellow bag and paper garbage can
DESCRIPTION:Crailsheim – District 4 \nLandkreis Schwäbisch Hall | Abfallkalender | (lrasha.de) \n 
URL:https://jagstheim.de/event/yellow-bag-and-paper-garbage-can-8/2024-04-12/?lang=en
LOCATION:Baden-Württemberg
CATEGORIES:Waste disposal
ATTACH;FMTTYPE=image/webp:https://jagstheim.de/wp-content/uploads/2023/07/GelbPapier.webp
END:VEVENT
BEGIN:VEVENT
DTSTART;TZID=Europe/Helsinki:20240410T193000
DTEND;TZID=Europe/Helsinki:20240410T220000
DTSTAMP:20260422T090048
CREATED:20240107T111318Z
LAST-MODIFIED:20240107T111427Z
UID:10004538-1712777400-1712786400@jagstheim.de
SUMMARY:Health Herbal lecture Peppermint
DESCRIPTION:LandFrauen 19.30h \n 
URL:https://jagstheim.de/event/health-herbal-lecture-peppermint/?lang=en
LOCATION:Baden-Württemberg
CATEGORIES:Association,Countrywomen
END:VEVENT
BEGIN:VEVENT
DTSTART;TZID=Europe/Helsinki:20240410T181500
DTEND;TZID=Europe/Helsinki:20240410T193000
DTSTAMP:20260422T090048
CREATED:20230825T194007Z
LAST-MODIFIED:20230825T194205Z
UID:10001609-1712772900-1712777400@jagstheim.de
SUMMARY:KICK 4 Fit is a fitness program
DESCRIPTION:KICK 4 Fit is a fitness program with dynamic elements from the martial art Taekwondo.\nCompletely non-violent\, we train with young and old our speed\, endurance\, strength and coordination.\nWe improve our reaction and performance and stimulate the nervous system\, muscles\, tendons and joints in an extremely dynamic way.\nIt’s on after the summer vacations – the perfect opportunity for you to get in on the action!\nJOIN US! FROM SEPTEMBER 13\, 2023\, 6:15 – 7:30 P.M.\nTrainer:\nPascal Mele\, 5th Dan TKD & Isabell Schäfer\, 3rd Dan TKD\nStart:\nWednesday 13 September 2023\, 6.15 – 7.30 p.m. each day\nProcedure:\nContinuously running course\, entry possible at any time\nCourse Fee:\n8\,00 € per training unit + membership with Landfrauen Jagstheim\nLocation:\nJagstauenhalle\, Jagstheimer Hauptstraße 157\, 74564 Crailsheim\nTo bring:\nComfortable sportswear\, drink\nBinding registration:\nWith Kathrin Lenz (0176.426 01912) \n 
URL:https://jagstheim.de/event/kick-4-fit-is-a-fitness-program/2024-04-10/?lang=en
LOCATION:Jagstauenhalle\, Jagstheimer main street 157\, Crailsheim\, Baden-Württemberg\, 74564\, Deutschland
CATEGORIES:Association,Countrywomen,Sporty
END:VEVENT
BEGIN:VEVENT
DTSTART;TZID=Europe/Helsinki:20240410T140000
DTEND;TZID=Europe/Helsinki:20240410T160000
DTSTAMP:20260422T090048
CREATED:20240107T111210Z
LAST-MODIFIED:20240107T111210Z
UID:10004525-1712757600-1712764800@jagstheim.de
SUMMARY:Old People's Club
DESCRIPTION: 
URL:https://jagstheim.de/event/old-peoples-club-4/?lang=en
LOCATION:cathol. parish hall\, Eichwald road 16\, Crailsheim\, Baden-Württemberg\, 74564\, Deutschland
CATEGORIES:catholic,Church
END:VEVENT
BEGIN:VEVENT
DTSTART;TZID=Europe/Helsinki:20240409T143000
DTEND;TZID=Europe/Helsinki:20240409T163000
DTSTAMP:20260422T090048
CREATED:20240107T111050Z
LAST-MODIFIED:20240107T111050Z
UID:10004515-1712673000-1712680200@jagstheim.de
SUMMARY:Senior afternoon
DESCRIPTION: 
URL:https://jagstheim.de/event/senior-afternoon-4/?lang=en
LOCATION:ev. parish hall\, Reservoir road 5\, Crailsheim\, 74564
CATEGORIES:Church,evangelical
END:VEVENT
END:VCALENDAR