BEGIN:VCALENDAR
VERSION:2.0
PRODID:-//Jagstheim - ECPv6.15.20//NONSGML v1.0//EN
CALSCALE:GREGORIAN
METHOD:PUBLISH
X-WR-CALNAME:Jagstheim
X-ORIGINAL-URL:https://jagstheim.de/?lang=en
X-WR-CALDESC:Events for Jagstheim
REFRESH-INTERVAL;VALUE=DURATION:PT1H
X-Robots-Tag:noindex
X-PUBLISHED-TTL:PT1H
BEGIN:VTIMEZONE
TZID:Europe/Helsinki
BEGIN:DAYLIGHT
TZOFFSETFROM:+0200
TZOFFSETTO:+0300
TZNAME:EEST
DTSTART:20230326T010000
END:DAYLIGHT
BEGIN:STANDARD
TZOFFSETFROM:+0300
TZOFFSETTO:+0200
TZNAME:EET
DTSTART:20231029T010000
END:STANDARD
BEGIN:DAYLIGHT
TZOFFSETFROM:+0200
TZOFFSETTO:+0300
TZNAME:EEST
DTSTART:20240331T010000
END:DAYLIGHT
BEGIN:STANDARD
TZOFFSETFROM:+0300
TZOFFSETTO:+0200
TZNAME:EET
DTSTART:20241027T010000
END:STANDARD
BEGIN:DAYLIGHT
TZOFFSETFROM:+0200
TZOFFSETTO:+0300
TZNAME:EEST
DTSTART:20250330T010000
END:DAYLIGHT
BEGIN:STANDARD
TZOFFSETFROM:+0300
TZOFFSETTO:+0200
TZNAME:EET
DTSTART:20251026T010000
END:STANDARD
END:VTIMEZONE
BEGIN:VEVENT
DTSTART;TZID=Europe/Helsinki:20241006T091500
DTEND;TZID=Europe/Helsinki:20241006T120000
DTSTAMP:20260425T230043
CREATED:20240107T120401Z
LAST-MODIFIED:20240107T120401Z
UID:10004889-1728206100-1728216000@jagstheim.de
SUMMARY:Harvest thanksgiving service followed by Breakfast in the parish hall
DESCRIPTION: 
URL:https://jagstheim.de/event/harvest-thanksgiving-service-followed-by-breakfast-in-the-parish-hall/?lang=en
LOCATION:Catholic parish of Peter and Paul\, Eichwald road 16\, Crailsheim\, 74564\, Deutschland
CATEGORIES:catholic,Church
END:VEVENT
BEGIN:VEVENT
DTSTART;TZID=Europe/Helsinki:20241002T181500
DTEND;TZID=Europe/Helsinki:20241002T193000
DTSTAMP:20260425T230043
CREATED:20230825T194007Z
LAST-MODIFIED:20230825T194205Z
UID:10001634-1727892900-1727897400@jagstheim.de
SUMMARY:KICK 4 Fit is a fitness program
DESCRIPTION:KICK 4 Fit is a fitness program with dynamic elements from the martial art Taekwondo.\nCompletely non-violent\, we train with young and old our speed\, endurance\, strength and coordination.\nWe improve our reaction and performance and stimulate the nervous system\, muscles\, tendons and joints in an extremely dynamic way.\nIt’s on after the summer vacations – the perfect opportunity for you to get in on the action!\nJOIN US! FROM SEPTEMBER 13\, 2023\, 6:15 – 7:30 P.M.\nTrainer:\nPascal Mele\, 5th Dan TKD & Isabell Schäfer\, 3rd Dan TKD\nStart:\nWednesday 13 September 2023\, 6.15 – 7.30 p.m. each day\nProcedure:\nContinuously running course\, entry possible at any time\nCourse Fee:\n8\,00 € per training unit + membership with Landfrauen Jagstheim\nLocation:\nJagstauenhalle\, Jagstheimer Hauptstraße 157\, 74564 Crailsheim\nTo bring:\nComfortable sportswear\, drink\nBinding registration:\nWith Kathrin Lenz (0176.426 01912) \n 
URL:https://jagstheim.de/event/kick-4-fit-is-a-fitness-program/2024-10-02/?lang=en
LOCATION:Jagstauenhalle\, Jagstheimer main street 157\, Crailsheim\, Baden-Württemberg\, 74564\, Deutschland
CATEGORIES:Association,Countrywomen,Sporty
END:VEVENT
BEGIN:VEVENT
DTSTART;TZID=Europe/Helsinki:20241002T140000
DTEND;TZID=Europe/Helsinki:20241002T160000
DTSTAMP:20260425T230043
CREATED:20240107T115830Z
LAST-MODIFIED:20240107T115830Z
UID:10004846-1727877600-1727884800@jagstheim.de
SUMMARY:Old People's Club
DESCRIPTION: 
URL:https://jagstheim.de/event/old-peoples-club-9/?lang=en
LOCATION:cathol. parish hall\, Eichwald road 16\, Crailsheim\, Baden-Württemberg\, 74564\, Deutschland
CATEGORIES:catholic,Church
END:VEVENT
BEGIN:VEVENT
DTSTART;VALUE=DATE:20241001
DTEND;VALUE=DATE:20241002
DTSTAMP:20260425T230043
CREATED:20231210T173700Z
LAST-MODIFIED:20250102T065654Z
UID:10003756-1727740800-1727827199@jagstheim.de
SUMMARY:Organic waste and residual waste
DESCRIPTION:Crailsheim – District 4 \nCollection dates: Schwäbisch Hall district \n  \n 
URL:https://jagstheim.de/event/organic-waste-and-residual-waste-11/2024-10-01/?lang=en
CATEGORIES:Waste disposal
ATTACH;FMTTYPE=image/webp:https://jagstheim.de/wp-content/uploads/2023/07/BioRest.webp
END:VEVENT
BEGIN:VEVENT
DTSTART;VALUE=DATE:20240927
DTEND;VALUE=DATE:20240928
DTSTAMP:20260425T230043
CREATED:20231210T174342Z
LAST-MODIFIED:20250205T062540Z
UID:10004045-1727395200-1727481599@jagstheim.de
SUMMARY:Yellow bag and paper garbage can
DESCRIPTION:Crailsheim – District 4 \nLandkreis Schwäbisch Hall | Abfallkalender | (lrasha.de) \n 
URL:https://jagstheim.de/event/yellow-bag-and-paper-garbage-can-8/2024-09-27/?lang=en
CATEGORIES:Waste disposal
ATTACH;FMTTYPE=image/webp:https://jagstheim.de/wp-content/uploads/2023/07/GelbPapier.webp
END:VEVENT
BEGIN:VEVENT
DTSTART;TZID=Europe/Helsinki:20240925T181500
DTEND;TZID=Europe/Helsinki:20240925T193000
DTSTAMP:20260425T230044
CREATED:20230825T194007Z
LAST-MODIFIED:20230825T194205Z
UID:10001633-1727288100-1727292600@jagstheim.de
SUMMARY:KICK 4 Fit is a fitness program
DESCRIPTION:KICK 4 Fit is a fitness program with dynamic elements from the martial art Taekwondo.\nCompletely non-violent\, we train with young and old our speed\, endurance\, strength and coordination.\nWe improve our reaction and performance and stimulate the nervous system\, muscles\, tendons and joints in an extremely dynamic way.\nIt’s on after the summer vacations – the perfect opportunity for you to get in on the action!\nJOIN US! FROM SEPTEMBER 13\, 2023\, 6:15 – 7:30 P.M.\nTrainer:\nPascal Mele\, 5th Dan TKD & Isabell Schäfer\, 3rd Dan TKD\nStart:\nWednesday 13 September 2023\, 6.15 – 7.30 p.m. each day\nProcedure:\nContinuously running course\, entry possible at any time\nCourse Fee:\n8\,00 € per training unit + membership with Landfrauen Jagstheim\nLocation:\nJagstauenhalle\, Jagstheimer Hauptstraße 157\, 74564 Crailsheim\nTo bring:\nComfortable sportswear\, drink\nBinding registration:\nWith Kathrin Lenz (0176.426 01912) \n 
URL:https://jagstheim.de/event/kick-4-fit-is-a-fitness-program/2024-09-25/?lang=en
LOCATION:Jagstauenhalle\, Jagstheimer main street 157\, Crailsheim\, Baden-Württemberg\, 74564\, Deutschland
CATEGORIES:Association,Countrywomen,Sporty
END:VEVENT
BEGIN:VEVENT
DTSTART;TZID=Europe/Helsinki:20240918T181500
DTEND;TZID=Europe/Helsinki:20240918T193000
DTSTAMP:20260425T230044
CREATED:20230825T194007Z
LAST-MODIFIED:20230825T194205Z
UID:10001632-1726683300-1726687800@jagstheim.de
SUMMARY:KICK 4 Fit is a fitness program
DESCRIPTION:KICK 4 Fit is a fitness program with dynamic elements from the martial art Taekwondo.\nCompletely non-violent\, we train with young and old our speed\, endurance\, strength and coordination.\nWe improve our reaction and performance and stimulate the nervous system\, muscles\, tendons and joints in an extremely dynamic way.\nIt’s on after the summer vacations – the perfect opportunity for you to get in on the action!\nJOIN US! FROM SEPTEMBER 13\, 2023\, 6:15 – 7:30 P.M.\nTrainer:\nPascal Mele\, 5th Dan TKD & Isabell Schäfer\, 3rd Dan TKD\nStart:\nWednesday 13 September 2023\, 6.15 – 7.30 p.m. each day\nProcedure:\nContinuously running course\, entry possible at any time\nCourse Fee:\n8\,00 € per training unit + membership with Landfrauen Jagstheim\nLocation:\nJagstauenhalle\, Jagstheimer Hauptstraße 157\, 74564 Crailsheim\nTo bring:\nComfortable sportswear\, drink\nBinding registration:\nWith Kathrin Lenz (0176.426 01912) \n 
URL:https://jagstheim.de/event/kick-4-fit-is-a-fitness-program/2024-09-18/?lang=en
LOCATION:Jagstauenhalle\, Jagstheimer main street 157\, Crailsheim\, Baden-Württemberg\, 74564\, Deutschland
CATEGORIES:Association,Countrywomen,Sporty
END:VEVENT
BEGIN:VEVENT
DTSTART;VALUE=DATE:20240917
DTEND;VALUE=DATE:20240918
DTSTAMP:20260425T230044
CREATED:20231210T173700Z
LAST-MODIFIED:20250102T065654Z
UID:10003755-1726531200-1726617599@jagstheim.de
SUMMARY:Organic waste and residual waste
DESCRIPTION:Crailsheim – District 4 \nCollection dates: Schwäbisch Hall district \n  \n 
URL:https://jagstheim.de/event/organic-waste-and-residual-waste-11/2024-09-17/?lang=en
CATEGORIES:Waste disposal
ATTACH;FMTTYPE=image/webp:https://jagstheim.de/wp-content/uploads/2023/07/BioRest.webp
END:VEVENT
BEGIN:VEVENT
DTSTART;TZID=Europe/Helsinki:20240911T181500
DTEND;TZID=Europe/Helsinki:20240911T193000
DTSTAMP:20260425T230044
CREATED:20230825T194007Z
LAST-MODIFIED:20230825T194205Z
UID:10001631-1726078500-1726083000@jagstheim.de
SUMMARY:KICK 4 Fit is a fitness program
DESCRIPTION:KICK 4 Fit is a fitness program with dynamic elements from the martial art Taekwondo.\nCompletely non-violent\, we train with young and old our speed\, endurance\, strength and coordination.\nWe improve our reaction and performance and stimulate the nervous system\, muscles\, tendons and joints in an extremely dynamic way.\nIt’s on after the summer vacations – the perfect opportunity for you to get in on the action!\nJOIN US! FROM SEPTEMBER 13\, 2023\, 6:15 – 7:30 P.M.\nTrainer:\nPascal Mele\, 5th Dan TKD & Isabell Schäfer\, 3rd Dan TKD\nStart:\nWednesday 13 September 2023\, 6.15 – 7.30 p.m. each day\nProcedure:\nContinuously running course\, entry possible at any time\nCourse Fee:\n8\,00 € per training unit + membership with Landfrauen Jagstheim\nLocation:\nJagstauenhalle\, Jagstheimer Hauptstraße 157\, 74564 Crailsheim\nTo bring:\nComfortable sportswear\, drink\nBinding registration:\nWith Kathrin Lenz (0176.426 01912) \n 
URL:https://jagstheim.de/event/kick-4-fit-is-a-fitness-program/2024-09-11/?lang=en
LOCATION:Jagstauenhalle\, Jagstheimer main street 157\, Crailsheim\, Baden-Württemberg\, 74564\, Deutschland
CATEGORIES:Association,Countrywomen,Sporty
END:VEVENT
BEGIN:VEVENT
DTSTART;TZID=Europe/Helsinki:20240904T181500
DTEND;TZID=Europe/Helsinki:20240904T193000
DTSTAMP:20260425T230044
CREATED:20230825T194007Z
LAST-MODIFIED:20230825T194205Z
UID:10001630-1725473700-1725478200@jagstheim.de
SUMMARY:KICK 4 Fit is a fitness program
DESCRIPTION:KICK 4 Fit is a fitness program with dynamic elements from the martial art Taekwondo.\nCompletely non-violent\, we train with young and old our speed\, endurance\, strength and coordination.\nWe improve our reaction and performance and stimulate the nervous system\, muscles\, tendons and joints in an extremely dynamic way.\nIt’s on after the summer vacations – the perfect opportunity for you to get in on the action!\nJOIN US! FROM SEPTEMBER 13\, 2023\, 6:15 – 7:30 P.M.\nTrainer:\nPascal Mele\, 5th Dan TKD & Isabell Schäfer\, 3rd Dan TKD\nStart:\nWednesday 13 September 2023\, 6.15 – 7.30 p.m. each day\nProcedure:\nContinuously running course\, entry possible at any time\nCourse Fee:\n8\,00 € per training unit + membership with Landfrauen Jagstheim\nLocation:\nJagstauenhalle\, Jagstheimer Hauptstraße 157\, 74564 Crailsheim\nTo bring:\nComfortable sportswear\, drink\nBinding registration:\nWith Kathrin Lenz (0176.426 01912) \n 
URL:https://jagstheim.de/event/kick-4-fit-is-a-fitness-program/2024-09-04/?lang=en
LOCATION:Jagstauenhalle\, Jagstheimer main street 157\, Crailsheim\, Baden-Württemberg\, 74564\, Deutschland
CATEGORIES:Association,Countrywomen,Sporty
END:VEVENT
BEGIN:VEVENT
DTSTART;TZID=Europe/Helsinki:20240904T140000
DTEND;TZID=Europe/Helsinki:20240904T160000
DTSTAMP:20260425T230044
CREATED:20240107T115703Z
LAST-MODIFIED:20240107T115703Z
UID:10004835-1725458400-1725465600@jagstheim.de
SUMMARY:Old People's Club
DESCRIPTION: 
URL:https://jagstheim.de/event/old-peoples-club-8/?lang=en
LOCATION:cathol. parish hall\, Eichwald road 16\, Crailsheim\, Baden-Württemberg\, 74564\, Deutschland
CATEGORIES:catholic,Church
END:VEVENT
BEGIN:VEVENT
DTSTART;VALUE=DATE:20240903
DTEND;VALUE=DATE:20240904
DTSTAMP:20260425T230044
CREATED:20231210T173700Z
LAST-MODIFIED:20250102T065654Z
UID:10003754-1725321600-1725407999@jagstheim.de
SUMMARY:Organic waste and residual waste
DESCRIPTION:Crailsheim – District 4 \nCollection dates: Schwäbisch Hall district \n  \n 
URL:https://jagstheim.de/event/organic-waste-and-residual-waste-11/2024-09-03/?lang=en
CATEGORIES:Waste disposal
ATTACH;FMTTYPE=image/webp:https://jagstheim.de/wp-content/uploads/2023/07/BioRest.webp
END:VEVENT
BEGIN:VEVENT
DTSTART;VALUE=DATE:20240830
DTEND;VALUE=DATE:20240831
DTSTAMP:20260425T230044
CREATED:20231210T174342Z
LAST-MODIFIED:20250205T062540Z
UID:10004044-1724976000-1725062399@jagstheim.de
SUMMARY:Yellow bag and paper garbage can
DESCRIPTION:Crailsheim – District 4 \nLandkreis Schwäbisch Hall | Abfallkalender | (lrasha.de) \n 
URL:https://jagstheim.de/event/yellow-bag-and-paper-garbage-can-8/2024-08-30/?lang=en
CATEGORIES:Waste disposal
ATTACH;FMTTYPE=image/webp:https://jagstheim.de/wp-content/uploads/2023/07/GelbPapier.webp
END:VEVENT
BEGIN:VEVENT
DTSTART;TZID=Europe/Helsinki:20240828T181500
DTEND;TZID=Europe/Helsinki:20240828T193000
DTSTAMP:20260425T230044
CREATED:20230825T194007Z
LAST-MODIFIED:20230825T194205Z
UID:10001629-1724868900-1724873400@jagstheim.de
SUMMARY:KICK 4 Fit is a fitness program
DESCRIPTION:KICK 4 Fit is a fitness program with dynamic elements from the martial art Taekwondo.\nCompletely non-violent\, we train with young and old our speed\, endurance\, strength and coordination.\nWe improve our reaction and performance and stimulate the nervous system\, muscles\, tendons and joints in an extremely dynamic way.\nIt’s on after the summer vacations – the perfect opportunity for you to get in on the action!\nJOIN US! FROM SEPTEMBER 13\, 2023\, 6:15 – 7:30 P.M.\nTrainer:\nPascal Mele\, 5th Dan TKD & Isabell Schäfer\, 3rd Dan TKD\nStart:\nWednesday 13 September 2023\, 6.15 – 7.30 p.m. each day\nProcedure:\nContinuously running course\, entry possible at any time\nCourse Fee:\n8\,00 € per training unit + membership with Landfrauen Jagstheim\nLocation:\nJagstauenhalle\, Jagstheimer Hauptstraße 157\, 74564 Crailsheim\nTo bring:\nComfortable sportswear\, drink\nBinding registration:\nWith Kathrin Lenz (0176.426 01912) \n 
URL:https://jagstheim.de/event/kick-4-fit-is-a-fitness-program/2024-08-28/?lang=en
LOCATION:Jagstauenhalle\, Jagstheimer main street 157\, Crailsheim\, Baden-Württemberg\, 74564\, Deutschland
CATEGORIES:Association,Countrywomen,Sporty
END:VEVENT
BEGIN:VEVENT
DTSTART;VALUE=DATE:20240823
DTEND;VALUE=DATE:20240825
DTSTAMP:20260425T230044
CREATED:20240107T115544Z
LAST-MODIFIED:20240107T115544Z
UID:10004825-1724371200-1724543999@jagstheim.de
SUMMARY:Fire Brigade Hocketse
DESCRIPTION: 
URL:https://jagstheim.de/event/fire-brigade-hocketse/?lang=en
LOCATION:Fire station\, Fire department & LF / LK clubhouse\, Crailsheim\, Baden-Württemberg\, 74564\, Deutschland
CATEGORIES:Fire department,Fixed
END:VEVENT
BEGIN:VEVENT
DTSTART;TZID=Europe/Helsinki:20240821T181500
DTEND;TZID=Europe/Helsinki:20240821T193000
DTSTAMP:20260425T230044
CREATED:20230825T194007Z
LAST-MODIFIED:20230825T194205Z
UID:10001628-1724264100-1724268600@jagstheim.de
SUMMARY:KICK 4 Fit is a fitness program
DESCRIPTION:KICK 4 Fit is a fitness program with dynamic elements from the martial art Taekwondo.\nCompletely non-violent\, we train with young and old our speed\, endurance\, strength and coordination.\nWe improve our reaction and performance and stimulate the nervous system\, muscles\, tendons and joints in an extremely dynamic way.\nIt’s on after the summer vacations – the perfect opportunity for you to get in on the action!\nJOIN US! FROM SEPTEMBER 13\, 2023\, 6:15 – 7:30 P.M.\nTrainer:\nPascal Mele\, 5th Dan TKD & Isabell Schäfer\, 3rd Dan TKD\nStart:\nWednesday 13 September 2023\, 6.15 – 7.30 p.m. each day\nProcedure:\nContinuously running course\, entry possible at any time\nCourse Fee:\n8\,00 € per training unit + membership with Landfrauen Jagstheim\nLocation:\nJagstauenhalle\, Jagstheimer Hauptstraße 157\, 74564 Crailsheim\nTo bring:\nComfortable sportswear\, drink\nBinding registration:\nWith Kathrin Lenz (0176.426 01912) \n 
URL:https://jagstheim.de/event/kick-4-fit-is-a-fitness-program/2024-08-21/?lang=en
LOCATION:Jagstauenhalle\, Jagstheimer main street 157\, Crailsheim\, Baden-Württemberg\, 74564\, Deutschland
CATEGORIES:Association,Countrywomen,Sporty
END:VEVENT
BEGIN:VEVENT
DTSTART;VALUE=DATE:20240820
DTEND;VALUE=DATE:20240821
DTSTAMP:20260425T230044
CREATED:20231210T173700Z
LAST-MODIFIED:20250102T065654Z
UID:10003753-1724112000-1724198399@jagstheim.de
SUMMARY:Organic waste and residual waste
DESCRIPTION:Crailsheim – District 4 \nCollection dates: Schwäbisch Hall district \n  \n 
URL:https://jagstheim.de/event/organic-waste-and-residual-waste-11/2024-08-20/?lang=en
CATEGORIES:Waste disposal
ATTACH;FMTTYPE=image/webp:https://jagstheim.de/wp-content/uploads/2023/07/BioRest.webp
END:VEVENT
BEGIN:VEVENT
DTSTART;VALUE=DATE:20240817
DTEND;VALUE=DATE:20240824
DTSTAMP:20260425T230044
CREATED:20240107T115430Z
LAST-MODIFIED:20240107T115430Z
UID:10004814-1723852800-1724457599@jagstheim.de
SUMMARY:VfB leisure camp in the Allgäu
DESCRIPTION: 
URL:https://jagstheim.de/event/vfb-leisure-camp-in-the-allgaeu/?lang=en
CATEGORIES:Association
END:VEVENT
BEGIN:VEVENT
DTSTART;TZID=Europe/Helsinki:20240814T181500
DTEND;TZID=Europe/Helsinki:20240814T193000
DTSTAMP:20260425T230044
CREATED:20230825T194007Z
LAST-MODIFIED:20230825T194205Z
UID:10001627-1723659300-1723663800@jagstheim.de
SUMMARY:KICK 4 Fit is a fitness program
DESCRIPTION:KICK 4 Fit is a fitness program with dynamic elements from the martial art Taekwondo.\nCompletely non-violent\, we train with young and old our speed\, endurance\, strength and coordination.\nWe improve our reaction and performance and stimulate the nervous system\, muscles\, tendons and joints in an extremely dynamic way.\nIt’s on after the summer vacations – the perfect opportunity for you to get in on the action!\nJOIN US! FROM SEPTEMBER 13\, 2023\, 6:15 – 7:30 P.M.\nTrainer:\nPascal Mele\, 5th Dan TKD & Isabell Schäfer\, 3rd Dan TKD\nStart:\nWednesday 13 September 2023\, 6.15 – 7.30 p.m. each day\nProcedure:\nContinuously running course\, entry possible at any time\nCourse Fee:\n8\,00 € per training unit + membership with Landfrauen Jagstheim\nLocation:\nJagstauenhalle\, Jagstheimer Hauptstraße 157\, 74564 Crailsheim\nTo bring:\nComfortable sportswear\, drink\nBinding registration:\nWith Kathrin Lenz (0176.426 01912) \n 
URL:https://jagstheim.de/event/kick-4-fit-is-a-fitness-program/2024-08-14/?lang=en
LOCATION:Jagstauenhalle\, Jagstheimer main street 157\, Crailsheim\, Baden-Württemberg\, 74564\, Deutschland
CATEGORIES:Association,Countrywomen,Sporty
END:VEVENT
BEGIN:VEVENT
DTSTART;TZID=Europe/Helsinki:20240807T181500
DTEND;TZID=Europe/Helsinki:20240807T193000
DTSTAMP:20260425T230044
CREATED:20230825T194007Z
LAST-MODIFIED:20230825T194205Z
UID:10001626-1723054500-1723059000@jagstheim.de
SUMMARY:KICK 4 Fit is a fitness program
DESCRIPTION:KICK 4 Fit is a fitness program with dynamic elements from the martial art Taekwondo.\nCompletely non-violent\, we train with young and old our speed\, endurance\, strength and coordination.\nWe improve our reaction and performance and stimulate the nervous system\, muscles\, tendons and joints in an extremely dynamic way.\nIt’s on after the summer vacations – the perfect opportunity for you to get in on the action!\nJOIN US! FROM SEPTEMBER 13\, 2023\, 6:15 – 7:30 P.M.\nTrainer:\nPascal Mele\, 5th Dan TKD & Isabell Schäfer\, 3rd Dan TKD\nStart:\nWednesday 13 September 2023\, 6.15 – 7.30 p.m. each day\nProcedure:\nContinuously running course\, entry possible at any time\nCourse Fee:\n8\,00 € per training unit + membership with Landfrauen Jagstheim\nLocation:\nJagstauenhalle\, Jagstheimer Hauptstraße 157\, 74564 Crailsheim\nTo bring:\nComfortable sportswear\, drink\nBinding registration:\nWith Kathrin Lenz (0176.426 01912) \n 
URL:https://jagstheim.de/event/kick-4-fit-is-a-fitness-program/2024-08-07/?lang=en
LOCATION:Jagstauenhalle\, Jagstheimer main street 157\, Crailsheim\, Baden-Württemberg\, 74564\, Deutschland
CATEGORIES:Association,Countrywomen,Sporty
END:VEVENT
BEGIN:VEVENT
DTSTART;VALUE=DATE:20240806
DTEND;VALUE=DATE:20240807
DTSTAMP:20260425T230044
CREATED:20231210T173700Z
LAST-MODIFIED:20250102T065654Z
UID:10003752-1722902400-1722988799@jagstheim.de
SUMMARY:Organic waste and residual waste
DESCRIPTION:Crailsheim – District 4 \nCollection dates: Schwäbisch Hall district \n  \n 
URL:https://jagstheim.de/event/organic-waste-and-residual-waste-11/2024-08-06/?lang=en
CATEGORIES:Waste disposal
ATTACH;FMTTYPE=image/webp:https://jagstheim.de/wp-content/uploads/2023/07/BioRest.webp
END:VEVENT
BEGIN:VEVENT
DTSTART;VALUE=DATE:20240802
DTEND;VALUE=DATE:20240803
DTSTAMP:20260425T230044
CREATED:20231210T174342Z
LAST-MODIFIED:20250205T062540Z
UID:10004043-1722556800-1722643199@jagstheim.de
SUMMARY:Yellow bag and paper garbage can
DESCRIPTION:Crailsheim – District 4 \nLandkreis Schwäbisch Hall | Abfallkalender | (lrasha.de) \n 
URL:https://jagstheim.de/event/yellow-bag-and-paper-garbage-can-8/2024-08-02/?lang=en
CATEGORIES:Waste disposal
ATTACH;FMTTYPE=image/webp:https://jagstheim.de/wp-content/uploads/2023/07/GelbPapier.webp
END:VEVENT
BEGIN:VEVENT
DTSTART;TZID=Europe/Helsinki:20240731T181500
DTEND;TZID=Europe/Helsinki:20240731T193000
DTSTAMP:20260425T230044
CREATED:20230825T194007Z
LAST-MODIFIED:20230825T194205Z
UID:10001625-1722449700-1722454200@jagstheim.de
SUMMARY:KICK 4 Fit is a fitness program
DESCRIPTION:KICK 4 Fit is a fitness program with dynamic elements from the martial art Taekwondo.\nCompletely non-violent\, we train with young and old our speed\, endurance\, strength and coordination.\nWe improve our reaction and performance and stimulate the nervous system\, muscles\, tendons and joints in an extremely dynamic way.\nIt’s on after the summer vacations – the perfect opportunity for you to get in on the action!\nJOIN US! FROM SEPTEMBER 13\, 2023\, 6:15 – 7:30 P.M.\nTrainer:\nPascal Mele\, 5th Dan TKD & Isabell Schäfer\, 3rd Dan TKD\nStart:\nWednesday 13 September 2023\, 6.15 – 7.30 p.m. each day\nProcedure:\nContinuously running course\, entry possible at any time\nCourse Fee:\n8\,00 € per training unit + membership with Landfrauen Jagstheim\nLocation:\nJagstauenhalle\, Jagstheimer Hauptstraße 157\, 74564 Crailsheim\nTo bring:\nComfortable sportswear\, drink\nBinding registration:\nWith Kathrin Lenz (0176.426 01912) \n 
URL:https://jagstheim.de/event/kick-4-fit-is-a-fitness-program/2024-07-31/?lang=en
LOCATION:Jagstauenhalle\, Jagstheimer main street 157\, Crailsheim\, Baden-Württemberg\, 74564\, Deutschland
CATEGORIES:Association,Countrywomen,Sporty
END:VEVENT
BEGIN:VEVENT
DTSTART;TZID=Europe/Helsinki:20240725T200000
DTEND;TZID=Europe/Helsinki:20240725T210000
DTSTAMP:20260425T230044
CREATED:20240107T115318Z
LAST-MODIFIED:20240107T115318Z
UID:10004801-1721937600-1721941200@jagstheim.de
SUMMARY:Hail Holiday
DESCRIPTION: 
URL:https://jagstheim.de/event/hail-holiday/?lang=en
LOCATION:ev. St. Nicholas Church\, Reservoir road 3\, Crailsheim\, Baden-Württemberg\, 74564\, Deutschland
CATEGORIES:Church,evangelical
END:VEVENT
BEGIN:VEVENT
DTSTART;TZID=Europe/Helsinki:20240724T181500
DTEND;TZID=Europe/Helsinki:20240724T193000
DTSTAMP:20260425T230044
CREATED:20230825T194007Z
LAST-MODIFIED:20230825T194205Z
UID:10001624-1721844900-1721849400@jagstheim.de
SUMMARY:KICK 4 Fit is a fitness program
DESCRIPTION:KICK 4 Fit is a fitness program with dynamic elements from the martial art Taekwondo.\nCompletely non-violent\, we train with young and old our speed\, endurance\, strength and coordination.\nWe improve our reaction and performance and stimulate the nervous system\, muscles\, tendons and joints in an extremely dynamic way.\nIt’s on after the summer vacations – the perfect opportunity for you to get in on the action!\nJOIN US! FROM SEPTEMBER 13\, 2023\, 6:15 – 7:30 P.M.\nTrainer:\nPascal Mele\, 5th Dan TKD & Isabell Schäfer\, 3rd Dan TKD\nStart:\nWednesday 13 September 2023\, 6.15 – 7.30 p.m. each day\nProcedure:\nContinuously running course\, entry possible at any time\nCourse Fee:\n8\,00 € per training unit + membership with Landfrauen Jagstheim\nLocation:\nJagstauenhalle\, Jagstheimer Hauptstraße 157\, 74564 Crailsheim\nTo bring:\nComfortable sportswear\, drink\nBinding registration:\nWith Kathrin Lenz (0176.426 01912) \n 
URL:https://jagstheim.de/event/kick-4-fit-is-a-fitness-program/2024-07-24/?lang=en
LOCATION:Jagstauenhalle\, Jagstheimer main street 157\, Crailsheim\, Baden-Württemberg\, 74564\, Deutschland
CATEGORIES:Association,Countrywomen,Sporty
END:VEVENT
BEGIN:VEVENT
DTSTART;VALUE=DATE:20240723
DTEND;VALUE=DATE:20240724
DTSTAMP:20260425T230044
CREATED:20231210T173700Z
LAST-MODIFIED:20250102T065654Z
UID:10003751-1721692800-1721779199@jagstheim.de
SUMMARY:Organic waste and residual waste
DESCRIPTION:Crailsheim – District 4 \nCollection dates: Schwäbisch Hall district \n  \n 
URL:https://jagstheim.de/event/organic-waste-and-residual-waste-11/2024-07-23/?lang=en
CATEGORIES:Waste disposal
ATTACH;FMTTYPE=image/webp:https://jagstheim.de/wp-content/uploads/2023/07/BioRest.webp
END:VEVENT
BEGIN:VEVENT
DTSTART;VALUE=DATE:20240720
DTEND;VALUE=DATE:20240721
DTSTAMP:20260425T230044
CREATED:20240130T081109Z
LAST-MODIFIED:20240130T081109Z
UID:10005115-1721433600-1721519999@jagstheim.de
SUMMARY:Wedding celebration
DESCRIPTION: 
URL:https://jagstheim.de/event/wedding-celebration/?lang=en
LOCATION:Jagstauenhalle\, Jagstheimer main street 157\, Crailsheim\, Baden-Württemberg\, 74564\, Deutschland
CATEGORIES:Fixed
END:VEVENT
BEGIN:VEVENT
DTSTART;VALUE=DATE:20240720
DTEND;VALUE=DATE:20240721
DTSTAMP:20260425T230044
CREATED:20240107T115147Z
LAST-MODIFIED:20240107T115147Z
UID:10004788-1721433600-1721519999@jagstheim.de
SUMMARY:Fishing club barbecue
DESCRIPTION: 
URL:https://jagstheim.de/event/fishing-club-barbecue/?lang=en
CATEGORIES:Association,Fixed
END:VEVENT
BEGIN:VEVENT
DTSTART;TZID=Europe/Helsinki:20240717T181500
DTEND;TZID=Europe/Helsinki:20240717T193000
DTSTAMP:20260425T230044
CREATED:20230825T194007Z
LAST-MODIFIED:20230825T194205Z
UID:10001623-1721240100-1721244600@jagstheim.de
SUMMARY:KICK 4 Fit is a fitness program
DESCRIPTION:KICK 4 Fit is a fitness program with dynamic elements from the martial art Taekwondo.\nCompletely non-violent\, we train with young and old our speed\, endurance\, strength and coordination.\nWe improve our reaction and performance and stimulate the nervous system\, muscles\, tendons and joints in an extremely dynamic way.\nIt’s on after the summer vacations – the perfect opportunity for you to get in on the action!\nJOIN US! FROM SEPTEMBER 13\, 2023\, 6:15 – 7:30 P.M.\nTrainer:\nPascal Mele\, 5th Dan TKD & Isabell Schäfer\, 3rd Dan TKD\nStart:\nWednesday 13 September 2023\, 6.15 – 7.30 p.m. each day\nProcedure:\nContinuously running course\, entry possible at any time\nCourse Fee:\n8\,00 € per training unit + membership with Landfrauen Jagstheim\nLocation:\nJagstauenhalle\, Jagstheimer Hauptstraße 157\, 74564 Crailsheim\nTo bring:\nComfortable sportswear\, drink\nBinding registration:\nWith Kathrin Lenz (0176.426 01912) \n 
URL:https://jagstheim.de/event/kick-4-fit-is-a-fitness-program/2024-07-17/?lang=en
LOCATION:Jagstauenhalle\, Jagstheimer main street 157\, Crailsheim\, Baden-Württemberg\, 74564\, Deutschland
CATEGORIES:Association,Countrywomen,Sporty
END:VEVENT
BEGIN:VEVENT
DTSTART;VALUE=DATE:20240713
DTEND;VALUE=DATE:20240715
DTSTAMP:20260425T230044
CREATED:20240107T114754Z
LAST-MODIFIED:20240107T114754Z
UID:10004779-1720828800-1721001599@jagstheim.de
SUMMARY:Aikido mat cleaning
DESCRIPTION: 
URL:https://jagstheim.de/event/aikido-mat-cleaning/?lang=en
LOCATION:Jagstauenhalle\, Jagstheimer main street 157\, Crailsheim\, Baden-Württemberg\, 74564\, Deutschland
CATEGORIES:Association
END:VEVENT
END:VCALENDAR