BEGIN:VCALENDAR
VERSION:2.0
PRODID:-//Jagstheim - ECPv6.15.20//NONSGML v1.0//EN
CALSCALE:GREGORIAN
METHOD:PUBLISH
X-WR-CALNAME:Jagstheim
X-ORIGINAL-URL:https://jagstheim.de/?lang=es
X-WR-CALDESC:Eventos para Jagstheim
REFRESH-INTERVAL;VALUE=DURATION:PT1H
X-Robots-Tag:noindex
X-PUBLISHED-TTL:PT1H
BEGIN:VTIMEZONE
TZID:Europe/Helsinki
BEGIN:DAYLIGHT
TZOFFSETFROM:+0200
TZOFFSETTO:+0300
TZNAME:EEST
DTSTART:20230326T010000
END:DAYLIGHT
BEGIN:STANDARD
TZOFFSETFROM:+0300
TZOFFSETTO:+0200
TZNAME:EET
DTSTART:20231029T010000
END:STANDARD
BEGIN:DAYLIGHT
TZOFFSETFROM:+0200
TZOFFSETTO:+0300
TZNAME:EEST
DTSTART:20240331T010000
END:DAYLIGHT
BEGIN:STANDARD
TZOFFSETFROM:+0300
TZOFFSETTO:+0200
TZNAME:EET
DTSTART:20241027T010000
END:STANDARD
BEGIN:DAYLIGHT
TZOFFSETFROM:+0200
TZOFFSETTO:+0300
TZNAME:EEST
DTSTART:20250330T010000
END:DAYLIGHT
BEGIN:STANDARD
TZOFFSETFROM:+0300
TZOFFSETTO:+0200
TZNAME:EET
DTSTART:20251026T010000
END:STANDARD
BEGIN:DAYLIGHT
TZOFFSETFROM:+0200
TZOFFSETTO:+0300
TZNAME:EEST
DTSTART:20260329T010000
END:DAYLIGHT
BEGIN:STANDARD
TZOFFSETFROM:+0300
TZOFFSETTO:+0200
TZNAME:EET
DTSTART:20261025T010000
END:STANDARD
END:VTIMEZONE
BEGIN:VEVENT
DTSTART;TZID=Europe/Helsinki:20250420T100000
DTEND;TZID=Europe/Helsinki:20250420T113000
DTSTAMP:20260419T162856
CREATED:20250205T060727Z
LAST-MODIFIED:20250205T060727Z
UID:10007676-1745143200-1745148600@jagstheim.de
SUMMARY:Servicio religioso con coro de trombones
DESCRIPTION: 
URL:https://jagstheim.de/event/servicio-religioso-con-coro-de-trombones-2/?lang=es
LOCATION:ev. Iglesia de San Nicolás\, Carretera del embalse 3\, Crailsheim\, Baden-Württemberg\, 74564\, Deutschland
CATEGORIES:Protestante
END:VEVENT
BEGIN:VEVENT
DTSTART;TZID=Europe/Helsinki:20250418T150000
DTEND;TZID=Europe/Helsinki:20250418T170000
DTSTAMP:20260419T162856
CREATED:20250205T060727Z
LAST-MODIFIED:20250205T060727Z
UID:10007575-1744988400-1744995600@jagstheim.de
SUMMARY:Servicio de comunión
DESCRIPTION: 
URL:https://jagstheim.de/event/servicio-de-comunion-2/?lang=es
LOCATION:ev. Iglesia de San Nicolás\, Carretera del embalse 3\, Crailsheim\, Baden-Württemberg\, 74564\, Deutschland
CATEGORIES:Protestante
END:VEVENT
BEGIN:VEVENT
DTSTART;TZID=Europe/Helsinki:20250417T193000
DTEND;TZID=Europe/Helsinki:20250417T203000
DTSTAMP:20260419T162856
CREATED:20250205T060726Z
LAST-MODIFIED:20250205T060726Z
UID:10007602-1744918200-1744921800@jagstheim.de
SUMMARY:Servicio de comunión
DESCRIPTION: 
URL:https://jagstheim.de/event/servicio-de-comunion-3/?lang=es
LOCATION:ev. Iglesia de San Nicolás\, Carretera del embalse 3\, Crailsheim\, Baden-Württemberg\, 74564\, Deutschland
CATEGORIES:Protestante
END:VEVENT
BEGIN:VEVENT
DTSTART;TZID=Europe/Helsinki:20250413T000000
DTEND;TZID=Europe/Helsinki:20250413T000000
DTSTAMP:20260419T162856
CREATED:20250205T060726Z
LAST-MODIFIED:20250205T060726Z
UID:10007627-1744502400-1744502400@jagstheim.de
SUMMARY:Confirmación Dorada
DESCRIPTION: 
URL:https://jagstheim.de/event/confirmacion-dorada/?lang=es
LOCATION:ev. Iglesia de San Nicolás\, Carretera del embalse 3\, Crailsheim\, Baden-Württemberg\, 74564\, Deutschland
CATEGORIES:Protestante
END:VEVENT
BEGIN:VEVENT
DTSTART;TZID=Europe/Helsinki:20250408T143000
DTEND;TZID=Europe/Helsinki:20250408T163000
DTSTAMP:20260419T162856
CREATED:20250205T060725Z
LAST-MODIFIED:20250205T060725Z
UID:10007651-1744122600-1744129800@jagstheim.de
SUMMARY:Tarde de la tercera edad
DESCRIPTION: 
URL:https://jagstheim.de/event/tarde-de-la-tercera-edad-10/?lang=es
LOCATION:ev. salón parroquial\, Carretera del embalse 5\, Crailsheim\, 74564
CATEGORIES:Protestante
END:VEVENT
BEGIN:VEVENT
DTSTART;TZID=Europe/Helsinki:20250330T100000
DTEND;TZID=Europe/Helsinki:20250330T110000
DTSTAMP:20260419T162856
CREATED:20250205T060716Z
LAST-MODIFIED:20250205T060716Z
UID:10007591-1743328800-1743332400@jagstheim.de
SUMMARY:Servicio de culto
DESCRIPTION: 
URL:https://jagstheim.de/event/servicio-de-culto/?lang=es
LOCATION:ev. Iglesia de San Nicolás\, Carretera del embalse 3\, Crailsheim\, Baden-Württemberg\, 74564\, Deutschland
CATEGORIES:Protestante
END:VEVENT
BEGIN:VEVENT
DTSTART;TZID=Europe/Helsinki:20250311T143000
DTEND;TZID=Europe/Helsinki:20250311T163000
DTSTAMP:20260419T162856
CREATED:20250102T100132Z
LAST-MODIFIED:20250102T100132Z
UID:10007490-1741703400-1741710600@jagstheim.de
SUMMARY:Tarde de la tercera edad
DESCRIPTION: 
URL:https://jagstheim.de/event/tarde-de-la-tercera-edad-9/?lang=es
LOCATION:ev. salón parroquial\, Carretera del embalse 5\, Crailsheim\, 74564
CATEGORIES:Iglesia,Protestante
ATTACH;FMTTYPE=image/jpeg:https://jagstheim.de/wp-content/uploads/2023/07/sports-2863541_640.jpg
END:VEVENT
BEGIN:VEVENT
DTSTART;TZID=Europe/Helsinki:20250307T190000
DTEND;TZID=Europe/Helsinki:20250307T200000
DTSTAMP:20260419T162856
CREATED:20250102T095804Z
LAST-MODIFIED:20250102T095804Z
UID:10007473-1741374000-1741377600@jagstheim.de
SUMMARY:ecum. Celebración de la Jornada Mundial de Oración
DESCRIPTION: 
URL:https://jagstheim.de/event/ecum-celebracion-de-la-jornada-mundial-de-oracion/?lang=es
LOCATION:Salón parroquial católico\, Carretera Eichwald 16\, Crailsheim\, Baden-Württemberg\, 74564\, Deutschland
CATEGORIES:católica,Iglesia
ATTACH;FMTTYPE=image/jpeg:https://jagstheim.de/wp-content/uploads/2023/07/bible-5255924_640.jpg
END:VEVENT
BEGIN:VEVENT
DTSTART;TZID=Europe/Helsinki:20250211T143000
DTEND;TZID=Europe/Helsinki:20250211T163000
DTSTAMP:20260419T162856
CREATED:20250102T090902Z
LAST-MODIFIED:20250102T090902Z
UID:10007394-1739284200-1739291400@jagstheim.de
SUMMARY:Tarde de la tercera edad
DESCRIPTION: 
URL:https://jagstheim.de/event/tarde-de-la-tercera-edad-8/?lang=es
LOCATION:ev. salón parroquial\, Carretera del embalse 5\, Crailsheim\, 74564
CATEGORIES:Iglesia,Protestante
END:VEVENT
BEGIN:VEVENT
DTSTART;TZID=Europe/Helsinki:20250114T143000
DTEND;TZID=Europe/Helsinki:20250114T153000
DTSTAMP:20260419T162856
CREATED:20250102T075528Z
LAST-MODIFIED:20250102T075528Z
UID:10007327-1736865000-1736868600@jagstheim.de
SUMMARY:Tarde de la tercera edad
DESCRIPTION: 
URL:https://jagstheim.de/event/tarde-de-la-tercera-edad-7/?lang=es
LOCATION:ev. salón parroquial\, Carretera del embalse 5\, Crailsheim\, 74564
CATEGORIES:Iglesia,Protestante
ATTACH;FMTTYPE=image/jpeg:https://jagstheim.de/wp-content/uploads/2023/07/coffee-shop-3699340-scaled.jpg
END:VEVENT
BEGIN:VEVENT
DTSTART;TZID=Europe/Helsinki:20250106T101500
DTEND;TZID=Europe/Helsinki:20250106T111500
DTSTAMP:20260419T162856
CREATED:20250102T075306Z
LAST-MODIFIED:20250102T075306Z
UID:10007316-1736158500-1736162100@jagstheim.de
SUMMARY:Servicio de distrito en Onolzheim
DESCRIPTION: 
URL:https://jagstheim.de/event/servicio-de-distrito-en-onolzheim/?lang=es
LOCATION:Baden-Württemberg
CATEGORIES:Iglesia,Protestante
ATTACH;FMTTYPE=image/jpeg:https://jagstheim.de/wp-content/uploads/2023/07/bible-5255924_640.jpg
END:VEVENT
BEGIN:VEVENT
DTSTART;TZID=Europe/Helsinki:20241230T190000
DTEND;TZID=Europe/Helsinki:20241230T203000
DTSTAMP:20260419T162856
CREATED:20240107T122627Z
LAST-MODIFIED:20240107T122627Z
UID:10005057-1735585200-1735590600@jagstheim.de
SUMMARY:Servicio de comunión
DESCRIPTION: 
URL:https://jagstheim.de/event/servicio-de-comunion/?lang=es
LOCATION:ev. Iglesia de San Nicolás\, Carretera del embalse 3\, Crailsheim\, Baden-Württemberg\, 74564\, Deutschland
CATEGORIES:Iglesia,Protestante
END:VEVENT
BEGIN:VEVENT
DTSTART;TZID=Europe/Helsinki:20241224T100000
DTEND;TZID=Europe/Helsinki:20241224T113000
DTSTAMP:20260419T162856
CREATED:20240107T122514Z
LAST-MODIFIED:20240107T122514Z
UID:10005041-1735034400-1735039800@jagstheim.de
SUMMARY:Servicio de Navidad
DESCRIPTION: 
URL:https://jagstheim.de/event/servicio-de-navidad/?lang=es
LOCATION:ev. Iglesia de San Nicolás\, Carretera del embalse 3\, Crailsheim\, Baden-Württemberg\, 74564\, Deutschland
CATEGORIES:Iglesia,Protestante
END:VEVENT
BEGIN:VEVENT
DTSTART;TZID=Europe/Helsinki:20241223T190000
DTEND;TZID=Europe/Helsinki:20241223T200000
DTSTAMP:20260419T162856
CREATED:20240107T122359Z
LAST-MODIFIED:20240107T122359Z
UID:10005032-1734980400-1734984000@jagstheim.de
SUMMARY:Misa de Navidad
DESCRIPTION: 
URL:https://jagstheim.de/event/misa-de-navidad/?lang=es
LOCATION:ev. Iglesia de San Nicolás\, Carretera del embalse 3\, Crailsheim\, Baden-Württemberg\, 74564\, Deutschland
CATEGORIES:Iglesia,Protestante
END:VEVENT
BEGIN:VEVENT
DTSTART;TZID=Europe/Helsinki:20241223T160000
DTEND;TZID=Europe/Helsinki:20241223T170000
DTSTAMP:20260419T162856
CREATED:20240107T122243Z
LAST-MODIFIED:20240107T122243Z
UID:10005023-1734969600-1734973200@jagstheim.de
SUMMARY:Servicio familiar
DESCRIPTION: 
URL:https://jagstheim.de/event/servicio-familiar/?lang=es
LOCATION:ev. Iglesia de San Nicolás\, Carretera del embalse 3\, Crailsheim\, Baden-Württemberg\, 74564\, Deutschland
CATEGORIES:Iglesia,Protestante
END:VEVENT
BEGIN:VEVENT
DTSTART;TZID=Europe/Helsinki:20241209T143000
DTEND;TZID=Europe/Helsinki:20241209T163000
DTSTAMP:20260419T162856
CREATED:20240107T121449Z
LAST-MODIFIED:20240107T121449Z
UID:10004964-1733754600-1733761800@jagstheim.de
SUMMARY:Fiesta de Navidad para mayores
DESCRIPTION: 
URL:https://jagstheim.de/event/fiesta-de-navidad-para-mayores/?lang=es
LOCATION:ev. salón parroquial\, Carretera del embalse 5\, Crailsheim\, 74564
CATEGORIES:Iglesia,Protestante
END:VEVENT
BEGIN:VEVENT
DTSTART;TZID=Europe/Helsinki:20241208T100000
DTEND;TZID=Europe/Helsinki:20241208T130000
DTSTAMP:20260419T162856
CREATED:20240107T122120Z
LAST-MODIFIED:20240107T122120Z
UID:10005013-1733652000-1733662800@jagstheim.de
SUMMARY:ecum. Servicio de Adviento\, campaña naranja ejcr\, almuerzo 11.30 h.
DESCRIPTION: 
URL:https://jagstheim.de/event/ecum-servicio-de-adviento-campana-naranja-ejcr-almuerzo-11-30-h/?lang=es
LOCATION:ev. Iglesia de San Nicolás\, Carretera del embalse 3\, Crailsheim\, Baden-Württemberg\, 74564\, Deutschland
CATEGORIES:católica,Iglesia,Protestante
END:VEVENT
BEGIN:VEVENT
DTSTART;TZID=Europe/Helsinki:20241204T140000
DTEND;TZID=Europe/Helsinki:20241204T160000
DTSTAMP:20260419T162856
CREATED:20240107T120034Z
LAST-MODIFIED:20240107T120034Z
UID:10004868-1733320800-1733328000@jagstheim.de
SUMMARY:Club de la Tercera Edad
DESCRIPTION: 
URL:https://jagstheim.de/event/club-de-la-tercera-edad-11/?lang=es
LOCATION:Salón parroquial católico\, Carretera Eichwald 16\, Crailsheim\, Baden-Württemberg\, 74564\, Deutschland
CATEGORIES:católica,Iglesia
END:VEVENT
BEGIN:VEVENT
DTSTART;TZID=Europe/Helsinki:20241123T100000
DTEND;TZID=Europe/Helsinki:20241123T110000
DTSTAMP:20260419T162856
CREATED:20240107T121711Z
LAST-MODIFIED:20240107T121711Z
UID:10004986-1732356000-1732359600@jagstheim.de
SUMMARY:Servicio conmemorativo por el fallecido
DESCRIPTION: 
URL:https://jagstheim.de/event/servicio-conmemorativo-por-el-fallecido/?lang=es
LOCATION:ev. Iglesia de San Nicolás\, Carretera del embalse 3\, Crailsheim\, Baden-Württemberg\, 74564\, Deutschland
CATEGORIES:Iglesia,Protestante
END:VEVENT
BEGIN:VEVENT
DTSTART;TZID=Europe/Helsinki:20241117T100000
DTEND;TZID=Europe/Helsinki:20241117T120000
DTSTAMP:20260419T162856
CREATED:20240107T121603Z
LAST-MODIFIED:20240107T121603Z
UID:10004977-1731837600-1731844800@jagstheim.de
SUMMARY:ecum. Celebración del Día del Recuerdo con el ayuntamiento y el VfB
DESCRIPTION: 
URL:https://jagstheim.de/event/ecum-celebracion-del-dia-del-recuerdo-con-el-ayuntamiento-y-el-vfb/?lang=es
LOCATION:Sala del Cementerio\, Jagstheimer Haupstraße 160\, Crailsheim\, Baden-Württemberg\, 74564\, Deutschland
CATEGORIES:católica,Iglesia,Protestante
END:VEVENT
BEGIN:VEVENT
DTSTART;TZID=Europe/Helsinki:20241112T143000
DTEND;TZID=Europe/Helsinki:20241112T163000
DTSTAMP:20260419T162856
CREATED:20240107T121303Z
LAST-MODIFIED:20240107T121303Z
UID:10004956-1731421800-1731429000@jagstheim.de
SUMMARY:Tarde de la tercera edad
DESCRIPTION: 
URL:https://jagstheim.de/event/tarde-de-la-tercera-edad-6/?lang=es
LOCATION:ev. salón parroquial\, Carretera del embalse 5\, Crailsheim\, 74564
CATEGORIES:Iglesia,Protestante
END:VEVENT
BEGIN:VEVENT
DTSTART;TZID=Europe/Helsinki:20241111T173000
DTEND;TZID=Europe/Helsinki:20241111T180000
DTSTAMP:20260419T162856
CREATED:20240107T121032Z
LAST-MODIFIED:20240107T121032Z
UID:10004932-1731346200-1731348000@jagstheim.de
SUMMARY:Devoción martiniquesa
DESCRIPTION: 
URL:https://jagstheim.de/event/devocion-martiniquesa/?lang=es
LOCATION:ev. Iglesia de San Nicolás\, Carretera del embalse 3\, Crailsheim\, Baden-Württemberg\, 74564\, Deutschland
CATEGORIES:Iglesia,Protestante
END:VEVENT
BEGIN:VEVENT
DTSTART;TZID=Europe/Helsinki:20241106T140000
DTEND;TZID=Europe/Helsinki:20241106T160000
DTSTAMP:20260419T162856
CREATED:20240107T115938Z
LAST-MODIFIED:20240107T115938Z
UID:10004855-1730901600-1730908800@jagstheim.de
SUMMARY:Club de la Tercera Edad
DESCRIPTION: 
URL:https://jagstheim.de/event/club-de-la-tercera-edad-10/?lang=es
LOCATION:Salón parroquial católico\, Carretera Eichwald 16\, Crailsheim\, Baden-Württemberg\, 74564\, Deutschland
CATEGORIES:católica,Iglesia
END:VEVENT
BEGIN:VEVENT
DTSTART;TZID=Europe/Helsinki:20241008T143000
DTEND;TZID=Europe/Helsinki:20241008T163000
DTSTAMP:20260419T162856
CREATED:20240107T120516Z
LAST-MODIFIED:20240107T120516Z
UID:10004900-1728397800-1728405000@jagstheim.de
SUMMARY:Tarde de la tercera edad
DESCRIPTION: 
URL:https://jagstheim.de/event/tarde-de-la-tercera-edad-5/?lang=es
LOCATION:ev. salón parroquial\, Carretera del embalse 5\, Crailsheim\, 74564
CATEGORIES:Iglesia,Protestante
END:VEVENT
BEGIN:VEVENT
DTSTART;TZID=Europe/Helsinki:20241006T100000
DTEND;TZID=Europe/Helsinki:20241006T110000
DTSTAMP:20260419T162856
CREATED:20240107T120231Z
LAST-MODIFIED:20240107T120231Z
UID:10004879-1728208800-1728212400@jagstheim.de
SUMMARY:Fiesta de la cosecha
DESCRIPTION: 
URL:https://jagstheim.de/event/fiesta-de-la-cosecha/?lang=es
LOCATION:ev. Iglesia de San Nicolás\, Carretera del embalse 3\, Crailsheim\, Baden-Württemberg\, 74564\, Deutschland
CATEGORIES:Iglesia,Protestante
END:VEVENT
BEGIN:VEVENT
DTSTART;TZID=Europe/Helsinki:20241006T091500
DTEND;TZID=Europe/Helsinki:20241006T120000
DTSTAMP:20260419T162856
CREATED:20240107T120401Z
LAST-MODIFIED:20240107T120401Z
UID:10004890-1728206100-1728216000@jagstheim.de
SUMMARY:Servicio de acción de gracias por la cosecha con celebración posterior. Desayuno en el salón parroquial
DESCRIPTION: 
URL:https://jagstheim.de/event/servicio-de-accion-de-gracias-por-la-cosecha-con-celebracion-posterior-desayuno-en-el-salon-parroquial/?lang=es
LOCATION:Parroquia católica de Pedro y Pablo\, Carretera Eichwald 16\, Crailsheim\, 74564\, Deutschland
CATEGORIES:católica,Iglesia
END:VEVENT
BEGIN:VEVENT
DTSTART;TZID=Europe/Helsinki:20241002T140000
DTEND;TZID=Europe/Helsinki:20241002T160000
DTSTAMP:20260419T162856
CREATED:20240107T115830Z
LAST-MODIFIED:20240107T115830Z
UID:10004848-1727877600-1727884800@jagstheim.de
SUMMARY:Club de la Tercera Edad
DESCRIPTION: 
URL:https://jagstheim.de/event/club-de-la-tercera-edad-9/?lang=es
LOCATION:Salón parroquial católico\, Carretera Eichwald 16\, Crailsheim\, Baden-Württemberg\, 74564\, Deutschland
CATEGORIES:católica,Iglesia
END:VEVENT
BEGIN:VEVENT
DTSTART;TZID=Europe/Helsinki:20240904T140000
DTEND;TZID=Europe/Helsinki:20240904T160000
DTSTAMP:20260419T162856
CREATED:20240107T115703Z
LAST-MODIFIED:20240107T115703Z
UID:10004836-1725458400-1725465600@jagstheim.de
SUMMARY:Club de la Tercera Edad
DESCRIPTION: 
URL:https://jagstheim.de/event/club-de-la-tercera-edad-8/?lang=es
LOCATION:Salón parroquial católico\, Carretera Eichwald 16\, Crailsheim\, Baden-Württemberg\, 74564\, Deutschland
CATEGORIES:católica,Iglesia
END:VEVENT
BEGIN:VEVENT
DTSTART;TZID=Europe/Helsinki:20240725T200000
DTEND;TZID=Europe/Helsinki:20240725T210000
DTSTAMP:20260419T162856
CREATED:20240107T115318Z
LAST-MODIFIED:20240107T115318Z
UID:10004802-1721937600-1721941200@jagstheim.de
SUMMARY:Salve fiesta
DESCRIPTION: 
URL:https://jagstheim.de/event/salve-fiesta/?lang=es
LOCATION:ev. Iglesia de San Nicolás\, Carretera del embalse 3\, Crailsheim\, Baden-Württemberg\, 74564\, Deutschland
CATEGORIES:Iglesia,Protestante
END:VEVENT
BEGIN:VEVENT
DTSTART;TZID=Europe/Helsinki:20240629T180000
DTEND;TZID=Europe/Helsinki:20240629T200000
DTSTAMP:20260419T162856
CREATED:20240107T114026Z
LAST-MODIFIED:20240107T114026Z
UID:10004731-1719684000-1719691200@jagstheim.de
SUMMARY:Festival Pedro y Pablo
DESCRIPTION: 
URL:https://jagstheim.de/event/festival-pedro-y-pablo/?lang=es
LOCATION:Parroquia católica de Pedro y Pablo\, Carretera Eichwald 16\, Crailsheim\, 74564\, Deutschland
CATEGORIES:católica,Iglesia
END:VEVENT
END:VCALENDAR