BEGIN:VCALENDAR
VERSION:2.0
PRODID:-//Jagstheim - ECPv6.15.20//NONSGML v1.0//EN
CALSCALE:GREGORIAN
METHOD:PUBLISH
X-WR-CALNAME:Jagstheim
X-ORIGINAL-URL:https://jagstheim.de/?lang=es
X-WR-CALDESC:Eventos para Jagstheim
REFRESH-INTERVAL;VALUE=DURATION:PT1H
X-Robots-Tag:noindex
X-PUBLISHED-TTL:PT1H
BEGIN:VTIMEZONE
TZID:Europe/Helsinki
BEGIN:DAYLIGHT
TZOFFSETFROM:+0200
TZOFFSETTO:+0300
TZNAME:EEST
DTSTART:20250330T010000
END:DAYLIGHT
BEGIN:STANDARD
TZOFFSETFROM:+0300
TZOFFSETTO:+0200
TZNAME:EET
DTSTART:20251026T010000
END:STANDARD
BEGIN:DAYLIGHT
TZOFFSETFROM:+0200
TZOFFSETTO:+0300
TZNAME:EEST
DTSTART:20260329T010000
END:DAYLIGHT
BEGIN:STANDARD
TZOFFSETFROM:+0300
TZOFFSETTO:+0200
TZNAME:EET
DTSTART:20261025T010000
END:STANDARD
BEGIN:DAYLIGHT
TZOFFSETFROM:+0200
TZOFFSETTO:+0300
TZNAME:EEST
DTSTART:20270328T010000
END:DAYLIGHT
BEGIN:STANDARD
TZOFFSETFROM:+0300
TZOFFSETTO:+0200
TZNAME:EET
DTSTART:20271031T010000
END:STANDARD
END:VTIMEZONE
BEGIN:VEVENT
DTSTART;TZID=Europe/Helsinki:20260701T181500
DTEND;TZID=Europe/Helsinki:20260701T193000
DTSTAMP:20260420T102657
CREATED:20230825T194007Z
LAST-MODIFIED:20230825T194209Z
UID:10001984-1782929700-1782934200@jagstheim.de
SUMMARY:KICK 4 Fit es un programa de fitness
DESCRIPTION:KICK 4 Fit es un programa de fitness con elementos dinámicos del arte marcial Taekwondo.\nCompletamente no violento\, entrenamos nuestra velocidad\, resistencia\, fuerza y coordinación con jóvenes y mayores.\nMejoramos nuestra reacción y nuestro rendimiento y estimulamos el sistema nervioso\, los músculos\, los tendones y las articulaciones de una forma extremadamente dinámica.\nContinúa después de las vacaciones de verano: ¡la oportunidad perfecta para participar!\nÚNETE A NOSOTROS A PARTIR DEL 13 DE SEPTIEMBRE DE 2023\, DE 18.15 A 19.30 HORAS\nEntrenadores:\nPascal Mele\, 5º Dan TKD & Isabell Schäfer\, 3er Dan TKD\nComienza:\nMiércoles 13 de septiembre de 2023\, de 18.15 a 19.30 horas cada uno\nProcedimiento:\nCurso continuo\, entrada posible en cualquier momento\nPrecio del curso:\n8\,00 € por unidad de formación + afiliación a Landfrauen Jagstheim\nLugar:\nJagstauenhalle\, Jagstheimer Hauptstraße 157\, 74564 Crailsheim\nPara llevar:\nRopa deportiva cómoda\, bebida\nRegistro vinculante:\nCon Kathrin Lenz (0176.426 01912) \n 
URL:https://jagstheim.de/event/kick-4-fit-es-un-programa-de-fitness/2026-07-01/?lang=es
LOCATION:Jagstauenhalle\, Jagstheimer calle principal 157\, Crailsheim\, Baden-Württemberg\, 74564\, Deutschland
CATEGORIES:Asociación,Campesinas,Deportivo
END:VEVENT
BEGIN:VEVENT
DTSTART;TZID=Europe/Helsinki:20260708T181500
DTEND;TZID=Europe/Helsinki:20260708T193000
DTSTAMP:20260420T102658
CREATED:20230825T194007Z
LAST-MODIFIED:20230825T194209Z
UID:10001985-1783534500-1783539000@jagstheim.de
SUMMARY:KICK 4 Fit es un programa de fitness
DESCRIPTION:KICK 4 Fit es un programa de fitness con elementos dinámicos del arte marcial Taekwondo.\nCompletamente no violento\, entrenamos nuestra velocidad\, resistencia\, fuerza y coordinación con jóvenes y mayores.\nMejoramos nuestra reacción y nuestro rendimiento y estimulamos el sistema nervioso\, los músculos\, los tendones y las articulaciones de una forma extremadamente dinámica.\nContinúa después de las vacaciones de verano: ¡la oportunidad perfecta para participar!\nÚNETE A NOSOTROS A PARTIR DEL 13 DE SEPTIEMBRE DE 2023\, DE 18.15 A 19.30 HORAS\nEntrenadores:\nPascal Mele\, 5º Dan TKD & Isabell Schäfer\, 3er Dan TKD\nComienza:\nMiércoles 13 de septiembre de 2023\, de 18.15 a 19.30 horas cada uno\nProcedimiento:\nCurso continuo\, entrada posible en cualquier momento\nPrecio del curso:\n8\,00 € por unidad de formación + afiliación a Landfrauen Jagstheim\nLugar:\nJagstauenhalle\, Jagstheimer Hauptstraße 157\, 74564 Crailsheim\nPara llevar:\nRopa deportiva cómoda\, bebida\nRegistro vinculante:\nCon Kathrin Lenz (0176.426 01912) \n 
URL:https://jagstheim.de/event/kick-4-fit-es-un-programa-de-fitness/2026-07-08/?lang=es
LOCATION:Jagstauenhalle\, Jagstheimer calle principal 157\, Crailsheim\, Baden-Württemberg\, 74564\, Deutschland
CATEGORIES:Asociación,Campesinas,Deportivo
END:VEVENT
BEGIN:VEVENT
DTSTART;TZID=Europe/Helsinki:20260715T181500
DTEND;TZID=Europe/Helsinki:20260715T193000
DTSTAMP:20260420T102658
CREATED:20230825T194007Z
LAST-MODIFIED:20230825T194209Z
UID:10001986-1784139300-1784143800@jagstheim.de
SUMMARY:KICK 4 Fit es un programa de fitness
DESCRIPTION:KICK 4 Fit es un programa de fitness con elementos dinámicos del arte marcial Taekwondo.\nCompletamente no violento\, entrenamos nuestra velocidad\, resistencia\, fuerza y coordinación con jóvenes y mayores.\nMejoramos nuestra reacción y nuestro rendimiento y estimulamos el sistema nervioso\, los músculos\, los tendones y las articulaciones de una forma extremadamente dinámica.\nContinúa después de las vacaciones de verano: ¡la oportunidad perfecta para participar!\nÚNETE A NOSOTROS A PARTIR DEL 13 DE SEPTIEMBRE DE 2023\, DE 18.15 A 19.30 HORAS\nEntrenadores:\nPascal Mele\, 5º Dan TKD & Isabell Schäfer\, 3er Dan TKD\nComienza:\nMiércoles 13 de septiembre de 2023\, de 18.15 a 19.30 horas cada uno\nProcedimiento:\nCurso continuo\, entrada posible en cualquier momento\nPrecio del curso:\n8\,00 € por unidad de formación + afiliación a Landfrauen Jagstheim\nLugar:\nJagstauenhalle\, Jagstheimer Hauptstraße 157\, 74564 Crailsheim\nPara llevar:\nRopa deportiva cómoda\, bebida\nRegistro vinculante:\nCon Kathrin Lenz (0176.426 01912) \n 
URL:https://jagstheim.de/event/kick-4-fit-es-un-programa-de-fitness/2026-07-15/?lang=es
LOCATION:Jagstauenhalle\, Jagstheimer calle principal 157\, Crailsheim\, Baden-Württemberg\, 74564\, Deutschland
CATEGORIES:Asociación,Campesinas,Deportivo
END:VEVENT
BEGIN:VEVENT
DTSTART;TZID=Europe/Helsinki:20260722T181500
DTEND;TZID=Europe/Helsinki:20260722T193000
DTSTAMP:20260420T102658
CREATED:20230825T194007Z
LAST-MODIFIED:20230825T194209Z
UID:10001987-1784744100-1784748600@jagstheim.de
SUMMARY:KICK 4 Fit es un programa de fitness
DESCRIPTION:KICK 4 Fit es un programa de fitness con elementos dinámicos del arte marcial Taekwondo.\nCompletamente no violento\, entrenamos nuestra velocidad\, resistencia\, fuerza y coordinación con jóvenes y mayores.\nMejoramos nuestra reacción y nuestro rendimiento y estimulamos el sistema nervioso\, los músculos\, los tendones y las articulaciones de una forma extremadamente dinámica.\nContinúa después de las vacaciones de verano: ¡la oportunidad perfecta para participar!\nÚNETE A NOSOTROS A PARTIR DEL 13 DE SEPTIEMBRE DE 2023\, DE 18.15 A 19.30 HORAS\nEntrenadores:\nPascal Mele\, 5º Dan TKD & Isabell Schäfer\, 3er Dan TKD\nComienza:\nMiércoles 13 de septiembre de 2023\, de 18.15 a 19.30 horas cada uno\nProcedimiento:\nCurso continuo\, entrada posible en cualquier momento\nPrecio del curso:\n8\,00 € por unidad de formación + afiliación a Landfrauen Jagstheim\nLugar:\nJagstauenhalle\, Jagstheimer Hauptstraße 157\, 74564 Crailsheim\nPara llevar:\nRopa deportiva cómoda\, bebida\nRegistro vinculante:\nCon Kathrin Lenz (0176.426 01912) \n 
URL:https://jagstheim.de/event/kick-4-fit-es-un-programa-de-fitness/2026-07-22/?lang=es
LOCATION:Jagstauenhalle\, Jagstheimer calle principal 157\, Crailsheim\, Baden-Württemberg\, 74564\, Deutschland
CATEGORIES:Asociación,Campesinas,Deportivo
END:VEVENT
BEGIN:VEVENT
DTSTART;TZID=Europe/Helsinki:20260729T181500
DTEND;TZID=Europe/Helsinki:20260729T193000
DTSTAMP:20260420T102658
CREATED:20230825T194007Z
LAST-MODIFIED:20230825T194209Z
UID:10001988-1785348900-1785353400@jagstheim.de
SUMMARY:KICK 4 Fit es un programa de fitness
DESCRIPTION:KICK 4 Fit es un programa de fitness con elementos dinámicos del arte marcial Taekwondo.\nCompletamente no violento\, entrenamos nuestra velocidad\, resistencia\, fuerza y coordinación con jóvenes y mayores.\nMejoramos nuestra reacción y nuestro rendimiento y estimulamos el sistema nervioso\, los músculos\, los tendones y las articulaciones de una forma extremadamente dinámica.\nContinúa después de las vacaciones de verano: ¡la oportunidad perfecta para participar!\nÚNETE A NOSOTROS A PARTIR DEL 13 DE SEPTIEMBRE DE 2023\, DE 18.15 A 19.30 HORAS\nEntrenadores:\nPascal Mele\, 5º Dan TKD & Isabell Schäfer\, 3er Dan TKD\nComienza:\nMiércoles 13 de septiembre de 2023\, de 18.15 a 19.30 horas cada uno\nProcedimiento:\nCurso continuo\, entrada posible en cualquier momento\nPrecio del curso:\n8\,00 € por unidad de formación + afiliación a Landfrauen Jagstheim\nLugar:\nJagstauenhalle\, Jagstheimer Hauptstraße 157\, 74564 Crailsheim\nPara llevar:\nRopa deportiva cómoda\, bebida\nRegistro vinculante:\nCon Kathrin Lenz (0176.426 01912) \n 
URL:https://jagstheim.de/event/kick-4-fit-es-un-programa-de-fitness/2026-07-29/?lang=es
LOCATION:Jagstauenhalle\, Jagstheimer calle principal 157\, Crailsheim\, Baden-Württemberg\, 74564\, Deutschland
CATEGORIES:Asociación,Campesinas,Deportivo
END:VEVENT
BEGIN:VEVENT
DTSTART;TZID=Europe/Helsinki:20260731T190000
DTEND;TZID=Europe/Helsinki:20260731T210000
DTSTAMP:20260420T102658
CREATED:20251214T123854Z
LAST-MODIFIED:20251214T123854Z
UID:10007798-1785524400-1785531600@jagstheim.de
SUMMARY:Asociación de apoyo al servicio de enfermería Jagstheim
DESCRIPTION: 
URL:https://jagstheim.de/event/asociacion-de-apoyo-al-servicio-de-enfermeria-jagstheim/?lang=es
LOCATION:ev. salón parroquial\, Carretera del embalse 5\, Crailsheim\, 74564
CATEGORIES:Asociación
END:VEVENT
END:VCALENDAR