BEGIN:VCALENDAR
VERSION:2.0
PRODID:-//Jagstheim - ECPv6.15.20//NONSGML v1.0//EN
CALSCALE:GREGORIAN
METHOD:PUBLISH
X-WR-CALNAME:Jagstheim
X-ORIGINAL-URL:https://jagstheim.de/?lang=es
X-WR-CALDESC:Eventos para Jagstheim
REFRESH-INTERVAL;VALUE=DURATION:PT1H
X-Robots-Tag:noindex
X-PUBLISHED-TTL:PT1H
BEGIN:VTIMEZONE
TZID:Europe/Helsinki
BEGIN:DAYLIGHT
TZOFFSETFROM:+0200
TZOFFSETTO:+0300
TZNAME:EEST
DTSTART:20230326T010000
END:DAYLIGHT
BEGIN:STANDARD
TZOFFSETFROM:+0300
TZOFFSETTO:+0200
TZNAME:EET
DTSTART:20231029T010000
END:STANDARD
BEGIN:DAYLIGHT
TZOFFSETFROM:+0200
TZOFFSETTO:+0300
TZNAME:EEST
DTSTART:20240331T010000
END:DAYLIGHT
BEGIN:STANDARD
TZOFFSETFROM:+0300
TZOFFSETTO:+0200
TZNAME:EET
DTSTART:20241027T010000
END:STANDARD
BEGIN:DAYLIGHT
TZOFFSETFROM:+0200
TZOFFSETTO:+0300
TZNAME:EEST
DTSTART:20250330T010000
END:DAYLIGHT
BEGIN:STANDARD
TZOFFSETFROM:+0300
TZOFFSETTO:+0200
TZNAME:EET
DTSTART:20251026T010000
END:STANDARD
END:VTIMEZONE
BEGIN:VEVENT
DTSTART;TZID=Europe/Helsinki:20240605T190000
DTEND;TZID=Europe/Helsinki:20240605T210000
DTSTAMP:20260419T193128
CREATED:20240107T113014Z
LAST-MODIFIED:20240107T113014Z
UID:10004668-1717614000-1717621200@jagstheim.de
SUMMARY:Junta General
DESCRIPTION: 
URL:https://jagstheim.de/event/junta-general/?lang=es
LOCATION:Baden-Württemberg
CATEGORIES:Asociación,Campesinas
END:VEVENT
BEGIN:VEVENT
DTSTART;TZID=Europe/Helsinki:20240605T181500
DTEND;TZID=Europe/Helsinki:20240605T193000
DTSTAMP:20260419T193128
CREATED:20230825T194007Z
LAST-MODIFIED:20230825T194209Z
UID:10001876-1717611300-1717615800@jagstheim.de
SUMMARY:KICK 4 Fit es un programa de fitness
DESCRIPTION:KICK 4 Fit es un programa de fitness con elementos dinámicos del arte marcial Taekwondo.\nCompletamente no violento\, entrenamos nuestra velocidad\, resistencia\, fuerza y coordinación con jóvenes y mayores.\nMejoramos nuestra reacción y nuestro rendimiento y estimulamos el sistema nervioso\, los músculos\, los tendones y las articulaciones de una forma extremadamente dinámica.\nContinúa después de las vacaciones de verano: ¡la oportunidad perfecta para participar!\nÚNETE A NOSOTROS A PARTIR DEL 13 DE SEPTIEMBRE DE 2023\, DE 18.15 A 19.30 HORAS\nEntrenadores:\nPascal Mele\, 5º Dan TKD & Isabell Schäfer\, 3er Dan TKD\nComienza:\nMiércoles 13 de septiembre de 2023\, de 18.15 a 19.30 horas cada uno\nProcedimiento:\nCurso continuo\, entrada posible en cualquier momento\nPrecio del curso:\n8\,00 € por unidad de formación + afiliación a Landfrauen Jagstheim\nLugar:\nJagstauenhalle\, Jagstheimer Hauptstraße 157\, 74564 Crailsheim\nPara llevar:\nRopa deportiva cómoda\, bebida\nRegistro vinculante:\nCon Kathrin Lenz (0176.426 01912) \n 
URL:https://jagstheim.de/event/kick-4-fit-es-un-programa-de-fitness/2024-06-05/?lang=es
LOCATION:Jagstauenhalle\, Jagstheimer calle principal 157\, Crailsheim\, Baden-Württemberg\, 74564\, Deutschland
CATEGORIES:Asociación,Campesinas,Deportivo
END:VEVENT
BEGIN:VEVENT
DTSTART;TZID=Europe/Helsinki:20240605T140000
DTEND;TZID=Europe/Helsinki:20240605T160000
DTSTAMP:20260419T193128
CREATED:20240107T112856Z
LAST-MODIFIED:20240107T112856Z
UID:10004659-1717596000-1717603200@jagstheim.de
SUMMARY:Club de la Tercera Edad
DESCRIPTION: 
URL:https://jagstheim.de/event/club-de-la-tercera-edad-6/?lang=es
LOCATION:Salón parroquial católico\, Carretera Eichwald 16\, Crailsheim\, Baden-Württemberg\, 74564\, Deutschland
CATEGORIES:católica,Iglesia
END:VEVENT
BEGIN:VEVENT
DTSTART;TZID=Europe/Helsinki:20240529T181500
DTEND;TZID=Europe/Helsinki:20240529T193000
DTSTAMP:20260419T193128
CREATED:20230825T194007Z
LAST-MODIFIED:20230825T194209Z
UID:10001875-1717006500-1717011000@jagstheim.de
SUMMARY:KICK 4 Fit es un programa de fitness
DESCRIPTION:KICK 4 Fit es un programa de fitness con elementos dinámicos del arte marcial Taekwondo.\nCompletamente no violento\, entrenamos nuestra velocidad\, resistencia\, fuerza y coordinación con jóvenes y mayores.\nMejoramos nuestra reacción y nuestro rendimiento y estimulamos el sistema nervioso\, los músculos\, los tendones y las articulaciones de una forma extremadamente dinámica.\nContinúa después de las vacaciones de verano: ¡la oportunidad perfecta para participar!\nÚNETE A NOSOTROS A PARTIR DEL 13 DE SEPTIEMBRE DE 2023\, DE 18.15 A 19.30 HORAS\nEntrenadores:\nPascal Mele\, 5º Dan TKD & Isabell Schäfer\, 3er Dan TKD\nComienza:\nMiércoles 13 de septiembre de 2023\, de 18.15 a 19.30 horas cada uno\nProcedimiento:\nCurso continuo\, entrada posible en cualquier momento\nPrecio del curso:\n8\,00 € por unidad de formación + afiliación a Landfrauen Jagstheim\nLugar:\nJagstauenhalle\, Jagstheimer Hauptstraße 157\, 74564 Crailsheim\nPara llevar:\nRopa deportiva cómoda\, bebida\nRegistro vinculante:\nCon Kathrin Lenz (0176.426 01912) \n 
URL:https://jagstheim.de/event/kick-4-fit-es-un-programa-de-fitness/2024-05-29/?lang=es
LOCATION:Jagstauenhalle\, Jagstheimer calle principal 157\, Crailsheim\, Baden-Württemberg\, 74564\, Deutschland
CATEGORIES:Asociación,Campesinas,Deportivo
END:VEVENT
BEGIN:VEVENT
DTSTART;VALUE=DATE:20240528
DTEND;VALUE=DATE:20240529
DTSTAMP:20260419T193128
CREATED:20231210T173700Z
LAST-MODIFIED:20250102T065658Z
UID:10003903-1716854400-1716940799@jagstheim.de
SUMMARY:Desechos orgánicos y residuos
DESCRIPTION:Crailsheim – Distrito 4Fechas derecogida: Distrito de Schwäbisch Hall \n  \n 
URL:https://jagstheim.de/event/desechos-organicos-y-residuos-17/2024-05-28/?lang=es
LOCATION:Baden-Württemberg
CATEGORIES:Eliminación de residuos
ATTACH;FMTTYPE=image/webp:https://jagstheim.de/wp-content/uploads/2023/07/BioRest.webp
END:VEVENT
BEGIN:VEVENT
DTSTART;TZID=Europe/Helsinki:20240522T181500
DTEND;TZID=Europe/Helsinki:20240522T193000
DTSTAMP:20260419T193128
CREATED:20230825T194007Z
LAST-MODIFIED:20230825T194209Z
UID:10001874-1716401700-1716406200@jagstheim.de
SUMMARY:KICK 4 Fit es un programa de fitness
DESCRIPTION:KICK 4 Fit es un programa de fitness con elementos dinámicos del arte marcial Taekwondo.\nCompletamente no violento\, entrenamos nuestra velocidad\, resistencia\, fuerza y coordinación con jóvenes y mayores.\nMejoramos nuestra reacción y nuestro rendimiento y estimulamos el sistema nervioso\, los músculos\, los tendones y las articulaciones de una forma extremadamente dinámica.\nContinúa después de las vacaciones de verano: ¡la oportunidad perfecta para participar!\nÚNETE A NOSOTROS A PARTIR DEL 13 DE SEPTIEMBRE DE 2023\, DE 18.15 A 19.30 HORAS\nEntrenadores:\nPascal Mele\, 5º Dan TKD & Isabell Schäfer\, 3er Dan TKD\nComienza:\nMiércoles 13 de septiembre de 2023\, de 18.15 a 19.30 horas cada uno\nProcedimiento:\nCurso continuo\, entrada posible en cualquier momento\nPrecio del curso:\n8\,00 € por unidad de formación + afiliación a Landfrauen Jagstheim\nLugar:\nJagstauenhalle\, Jagstheimer Hauptstraße 157\, 74564 Crailsheim\nPara llevar:\nRopa deportiva cómoda\, bebida\nRegistro vinculante:\nCon Kathrin Lenz (0176.426 01912) \n 
URL:https://jagstheim.de/event/kick-4-fit-es-un-programa-de-fitness/2024-05-22/?lang=es
LOCATION:Jagstauenhalle\, Jagstheimer calle principal 157\, Crailsheim\, Baden-Württemberg\, 74564\, Deutschland
CATEGORIES:Asociación,Campesinas,Deportivo
END:VEVENT
BEGIN:VEVENT
DTSTART;TZID=Europe/Helsinki:20240519T100000
DTEND;TZID=Europe/Helsinki:20240519T110000
DTSTAMP:20260419T193128
CREATED:20240107T112740Z
LAST-MODIFIED:20240107T112740Z
UID:10004645-1716112800-1716116400@jagstheim.de
SUMMARY:Servicio de distrito en Altenmünster
DESCRIPTION: 
URL:https://jagstheim.de/event/servicio-de-distrito-en-altenmuenster/?lang=es
LOCATION:Baden-Württemberg
CATEGORIES:Iglesia,Protestante
END:VEVENT
BEGIN:VEVENT
DTSTART;TZID=Europe/Helsinki:20240515T193000
DTEND;TZID=Europe/Helsinki:20240515T213000
DTSTAMP:20260419T193128
CREATED:20240107T112620Z
LAST-MODIFIED:20240107T112620Z
UID:10004636-1715801400-1715808600@jagstheim.de
SUMMARY:Conferencia sobre jardinería Escasez de agua\, plantas aptas para la sequía
DESCRIPTION: 
URL:https://jagstheim.de/event/conferencia-sobre-jardineria-escasez-de-agua-plantas-aptas-para-la-sequia/?lang=es
LOCATION:Baden-Württemberg
CATEGORIES:Asociación,Campesinas
END:VEVENT
BEGIN:VEVENT
DTSTART;TZID=Europe/Helsinki:20240515T181500
DTEND;TZID=Europe/Helsinki:20240515T193000
DTSTAMP:20260419T193128
CREATED:20230825T194007Z
LAST-MODIFIED:20230825T194209Z
UID:10001873-1715796900-1715801400@jagstheim.de
SUMMARY:KICK 4 Fit es un programa de fitness
DESCRIPTION:KICK 4 Fit es un programa de fitness con elementos dinámicos del arte marcial Taekwondo.\nCompletamente no violento\, entrenamos nuestra velocidad\, resistencia\, fuerza y coordinación con jóvenes y mayores.\nMejoramos nuestra reacción y nuestro rendimiento y estimulamos el sistema nervioso\, los músculos\, los tendones y las articulaciones de una forma extremadamente dinámica.\nContinúa después de las vacaciones de verano: ¡la oportunidad perfecta para participar!\nÚNETE A NOSOTROS A PARTIR DEL 13 DE SEPTIEMBRE DE 2023\, DE 18.15 A 19.30 HORAS\nEntrenadores:\nPascal Mele\, 5º Dan TKD & Isabell Schäfer\, 3er Dan TKD\nComienza:\nMiércoles 13 de septiembre de 2023\, de 18.15 a 19.30 horas cada uno\nProcedimiento:\nCurso continuo\, entrada posible en cualquier momento\nPrecio del curso:\n8\,00 € por unidad de formación + afiliación a Landfrauen Jagstheim\nLugar:\nJagstauenhalle\, Jagstheimer Hauptstraße 157\, 74564 Crailsheim\nPara llevar:\nRopa deportiva cómoda\, bebida\nRegistro vinculante:\nCon Kathrin Lenz (0176.426 01912) \n 
URL:https://jagstheim.de/event/kick-4-fit-es-un-programa-de-fitness/2024-05-15/?lang=es
LOCATION:Jagstauenhalle\, Jagstheimer calle principal 157\, Crailsheim\, Baden-Württemberg\, 74564\, Deutschland
CATEGORIES:Asociación,Campesinas,Deportivo
END:VEVENT
BEGIN:VEVENT
DTSTART;VALUE=DATE:20240514
DTEND;VALUE=DATE:20240515
DTSTAMP:20260419T193128
CREATED:20231210T173700Z
LAST-MODIFIED:20250102T065658Z
UID:10003902-1715644800-1715731199@jagstheim.de
SUMMARY:Desechos orgánicos y residuos
DESCRIPTION:Crailsheim – Distrito 4Fechas derecogida: Distrito de Schwäbisch Hall \n  \n 
URL:https://jagstheim.de/event/desechos-organicos-y-residuos-17/2024-05-14/?lang=es
LOCATION:Baden-Württemberg
CATEGORIES:Eliminación de residuos
ATTACH;FMTTYPE=image/webp:https://jagstheim.de/wp-content/uploads/2023/07/BioRest.webp
END:VEVENT
BEGIN:VEVENT
DTSTART;VALUE=DATE:20240510
DTEND;VALUE=DATE:20240511
DTSTAMP:20260419T193128
CREATED:20231210T174342Z
LAST-MODIFIED:20250205T062535Z
UID:10004053-1715299200-1715385599@jagstheim.de
SUMMARY:Bolsa amarilla y papelera
DESCRIPTION:Crailsheim – Distrito 4Landkreis Schwäbisch Hall | Abfallkalender | (lrasha.de) \n 
URL:https://jagstheim.de/event/bolsa-amarilla-y-papelera-9/2024-05-10/?lang=es
LOCATION:Baden-Württemberg
CATEGORIES:Eliminación de residuos
ATTACH;FMTTYPE=image/webp:https://jagstheim.de/wp-content/uploads/2023/07/GelbPapier.webp
END:VEVENT
BEGIN:VEVENT
DTSTART;TZID=Europe/Helsinki:20240508T181500
DTEND;TZID=Europe/Helsinki:20240508T193000
DTSTAMP:20260419T193128
CREATED:20230825T194007Z
LAST-MODIFIED:20230825T194209Z
UID:10001872-1715192100-1715196600@jagstheim.de
SUMMARY:KICK 4 Fit es un programa de fitness
DESCRIPTION:KICK 4 Fit es un programa de fitness con elementos dinámicos del arte marcial Taekwondo.\nCompletamente no violento\, entrenamos nuestra velocidad\, resistencia\, fuerza y coordinación con jóvenes y mayores.\nMejoramos nuestra reacción y nuestro rendimiento y estimulamos el sistema nervioso\, los músculos\, los tendones y las articulaciones de una forma extremadamente dinámica.\nContinúa después de las vacaciones de verano: ¡la oportunidad perfecta para participar!\nÚNETE A NOSOTROS A PARTIR DEL 13 DE SEPTIEMBRE DE 2023\, DE 18.15 A 19.30 HORAS\nEntrenadores:\nPascal Mele\, 5º Dan TKD & Isabell Schäfer\, 3er Dan TKD\nComienza:\nMiércoles 13 de septiembre de 2023\, de 18.15 a 19.30 horas cada uno\nProcedimiento:\nCurso continuo\, entrada posible en cualquier momento\nPrecio del curso:\n8\,00 € por unidad de formación + afiliación a Landfrauen Jagstheim\nLugar:\nJagstauenhalle\, Jagstheimer Hauptstraße 157\, 74564 Crailsheim\nPara llevar:\nRopa deportiva cómoda\, bebida\nRegistro vinculante:\nCon Kathrin Lenz (0176.426 01912) \n 
URL:https://jagstheim.de/event/kick-4-fit-es-un-programa-de-fitness/2024-05-08/?lang=es
LOCATION:Jagstauenhalle\, Jagstheimer calle principal 157\, Crailsheim\, Baden-Württemberg\, 74564\, Deutschland
CATEGORIES:Asociación,Campesinas,Deportivo
END:VEVENT
BEGIN:VEVENT
DTSTART;TZID=Europe/Helsinki:20240508T140000
DTEND;TZID=Europe/Helsinki:20240508T160000
DTSTAMP:20260419T193128
CREATED:20240107T112508Z
LAST-MODIFIED:20240107T112508Z
UID:10004625-1715176800-1715184000@jagstheim.de
SUMMARY:Club de la Tercera Edad
DESCRIPTION: 
URL:https://jagstheim.de/event/club-de-la-tercera-edad-5/?lang=es
LOCATION:Salón parroquial católico\, Carretera Eichwald 16\, Crailsheim\, Baden-Württemberg\, 74564\, Deutschland
CATEGORIES:católica,Iglesia
END:VEVENT
BEGIN:VEVENT
DTSTART;VALUE=DATE:20240503
DTEND;VALUE=DATE:20240504
DTSTAMP:20260419T193128
CREATED:20240107T112331Z
LAST-MODIFIED:20240107T112331Z
UID:10004614-1714694400-1714780799@jagstheim.de
SUMMARY:Central lechera
DESCRIPTION: 
URL:https://jagstheim.de/event/central-lechera/?lang=es
LOCATION:Jagstauenhalle\, Jagstheimer calle principal 157\, Crailsheim\, Baden-Württemberg\, 74564\, Deutschland
CATEGORIES:El acontecimiento
END:VEVENT
BEGIN:VEVENT
DTSTART;TZID=Europe/Helsinki:20240501T181500
DTEND;TZID=Europe/Helsinki:20240501T193000
DTSTAMP:20260419T193128
CREATED:20230825T194007Z
LAST-MODIFIED:20230825T194209Z
UID:10001871-1714587300-1714591800@jagstheim.de
SUMMARY:KICK 4 Fit es un programa de fitness
DESCRIPTION:KICK 4 Fit es un programa de fitness con elementos dinámicos del arte marcial Taekwondo.\nCompletamente no violento\, entrenamos nuestra velocidad\, resistencia\, fuerza y coordinación con jóvenes y mayores.\nMejoramos nuestra reacción y nuestro rendimiento y estimulamos el sistema nervioso\, los músculos\, los tendones y las articulaciones de una forma extremadamente dinámica.\nContinúa después de las vacaciones de verano: ¡la oportunidad perfecta para participar!\nÚNETE A NOSOTROS A PARTIR DEL 13 DE SEPTIEMBRE DE 2023\, DE 18.15 A 19.30 HORAS\nEntrenadores:\nPascal Mele\, 5º Dan TKD & Isabell Schäfer\, 3er Dan TKD\nComienza:\nMiércoles 13 de septiembre de 2023\, de 18.15 a 19.30 horas cada uno\nProcedimiento:\nCurso continuo\, entrada posible en cualquier momento\nPrecio del curso:\n8\,00 € por unidad de formación + afiliación a Landfrauen Jagstheim\nLugar:\nJagstauenhalle\, Jagstheimer Hauptstraße 157\, 74564 Crailsheim\nPara llevar:\nRopa deportiva cómoda\, bebida\nRegistro vinculante:\nCon Kathrin Lenz (0176.426 01912) \n 
URL:https://jagstheim.de/event/kick-4-fit-es-un-programa-de-fitness/2024-05-01/?lang=es
LOCATION:Jagstauenhalle\, Jagstheimer calle principal 157\, Crailsheim\, Baden-Württemberg\, 74564\, Deutschland
CATEGORIES:Asociación,Campesinas,Deportivo
END:VEVENT
BEGIN:VEVENT
DTSTART;VALUE=DATE:20240501
DTEND;VALUE=DATE:20240502
DTSTAMP:20260419T193129
CREATED:20240107T112106Z
LAST-MODIFIED:20240107T112106Z
UID:10004606-1714521600-1714607999@jagstheim.de
SUMMARY:VfB May hike
DESCRIPTION: 
URL:https://jagstheim.de/event/vfb-may-hike/?lang=es
LOCATION:Baden-Württemberg
CATEGORIES:Asociación
END:VEVENT
BEGIN:VEVENT
DTSTART;TZID=Europe/Helsinki:20240430T190000
DTEND;TZID=Europe/Helsinki:20240430T233000
DTSTAMP:20260419T193129
CREATED:20240107T112004Z
LAST-MODIFIED:20240107T112004Z
UID:10004590-1714503600-1714519800@jagstheim.de
SUMMARY:Fiesta de mayo en el centro del pueblo
DESCRIPTION: 
URL:https://jagstheim.de/event/fiesta-de-mayo-en-el-centro-del-pueblo/?lang=es
LOCATION:Baden-Württemberg
CATEGORIES:Fijo
END:VEVENT
BEGIN:VEVENT
DTSTART;VALUE=DATE:20240430
DTEND;VALUE=DATE:20240501
DTSTAMP:20260419T193129
CREATED:20231210T173700Z
LAST-MODIFIED:20250102T065658Z
UID:10003901-1714435200-1714521599@jagstheim.de
SUMMARY:Desechos orgánicos y residuos
DESCRIPTION:Crailsheim – Distrito 4Fechas derecogida: Distrito de Schwäbisch Hall \n  \n 
URL:https://jagstheim.de/event/desechos-organicos-y-residuos-17/2024-04-30/?lang=es
LOCATION:Baden-Württemberg
CATEGORIES:Eliminación de residuos
ATTACH;FMTTYPE=image/webp:https://jagstheim.de/wp-content/uploads/2023/07/BioRest.webp
END:VEVENT
BEGIN:VEVENT
DTSTART;TZID=Europe/Helsinki:20240428T100000
DTEND;TZID=Europe/Helsinki:20240428T120000
DTSTAMP:20260419T193129
CREATED:20240107T111834Z
LAST-MODIFIED:20240107T111834Z
UID:10004584-1714298400-1714305600@jagstheim.de
SUMMARY:Servicio de confirmación
DESCRIPTION: 
URL:https://jagstheim.de/event/servicio-de-confirmacion/?lang=es
LOCATION:ev. Iglesia de San Nicolás\, Carretera del embalse 3\, Crailsheim\, Baden-Württemberg\, 74564\, Deutschland
CATEGORIES:Iglesia,Protestante
END:VEVENT
BEGIN:VEVENT
DTSTART;TZID=Europe/Helsinki:20240427T090000
DTEND;TZID=Europe/Helsinki:20240427T120000
DTSTAMP:20260419T193129
CREATED:20240107T111715Z
LAST-MODIFIED:20240107T111715Z
UID:10004571-1714208400-1714219200@jagstheim.de
SUMMARY:Desayuno de mujeres
DESCRIPTION: 
URL:https://jagstheim.de/event/desayuno-de-mujeres/?lang=es
LOCATION:Baden-Württemberg
CATEGORIES:Asociación,Campesinas
END:VEVENT
BEGIN:VEVENT
DTSTART;TZID=Europe/Helsinki:20240424T181500
DTEND;TZID=Europe/Helsinki:20240424T193000
DTSTAMP:20260419T193129
CREATED:20230825T194007Z
LAST-MODIFIED:20230825T194209Z
UID:10001870-1713982500-1713987000@jagstheim.de
SUMMARY:KICK 4 Fit es un programa de fitness
DESCRIPTION:KICK 4 Fit es un programa de fitness con elementos dinámicos del arte marcial Taekwondo.\nCompletamente no violento\, entrenamos nuestra velocidad\, resistencia\, fuerza y coordinación con jóvenes y mayores.\nMejoramos nuestra reacción y nuestro rendimiento y estimulamos el sistema nervioso\, los músculos\, los tendones y las articulaciones de una forma extremadamente dinámica.\nContinúa después de las vacaciones de verano: ¡la oportunidad perfecta para participar!\nÚNETE A NOSOTROS A PARTIR DEL 13 DE SEPTIEMBRE DE 2023\, DE 18.15 A 19.30 HORAS\nEntrenadores:\nPascal Mele\, 5º Dan TKD & Isabell Schäfer\, 3er Dan TKD\nComienza:\nMiércoles 13 de septiembre de 2023\, de 18.15 a 19.30 horas cada uno\nProcedimiento:\nCurso continuo\, entrada posible en cualquier momento\nPrecio del curso:\n8\,00 € por unidad de formación + afiliación a Landfrauen Jagstheim\nLugar:\nJagstauenhalle\, Jagstheimer Hauptstraße 157\, 74564 Crailsheim\nPara llevar:\nRopa deportiva cómoda\, bebida\nRegistro vinculante:\nCon Kathrin Lenz (0176.426 01912) \n 
URL:https://jagstheim.de/event/kick-4-fit-es-un-programa-de-fitness/2024-04-24/?lang=es
LOCATION:Jagstauenhalle\, Jagstheimer calle principal 157\, Crailsheim\, Baden-Württemberg\, 74564\, Deutschland
CATEGORIES:Asociación,Campesinas,Deportivo
END:VEVENT
BEGIN:VEVENT
DTSTART;VALUE=DATE:20240420
DTEND;VALUE=DATE:20240421
DTSTAMP:20260419T193129
CREATED:20240107T111611Z
LAST-MODIFIED:20240107T111611Z
UID:10004560-1713571200-1713657599@jagstheim.de
SUMMARY:Excursión de los juveniles del VfB al zoo de Núremberg
DESCRIPTION: 
URL:https://jagstheim.de/event/excursion-de-los-juveniles-del-vfb-al-zoo-de-nuremberg/?lang=es
LOCATION:Baden-Württemberg
CATEGORIES:Asociación
END:VEVENT
BEGIN:VEVENT
DTSTART;TZID=Europe/Helsinki:20240417T181500
DTEND;TZID=Europe/Helsinki:20240417T193000
DTSTAMP:20260419T193129
CREATED:20230825T194007Z
LAST-MODIFIED:20230825T194209Z
UID:10001869-1713377700-1713382200@jagstheim.de
SUMMARY:KICK 4 Fit es un programa de fitness
DESCRIPTION:KICK 4 Fit es un programa de fitness con elementos dinámicos del arte marcial Taekwondo.\nCompletamente no violento\, entrenamos nuestra velocidad\, resistencia\, fuerza y coordinación con jóvenes y mayores.\nMejoramos nuestra reacción y nuestro rendimiento y estimulamos el sistema nervioso\, los músculos\, los tendones y las articulaciones de una forma extremadamente dinámica.\nContinúa después de las vacaciones de verano: ¡la oportunidad perfecta para participar!\nÚNETE A NOSOTROS A PARTIR DEL 13 DE SEPTIEMBRE DE 2023\, DE 18.15 A 19.30 HORAS\nEntrenadores:\nPascal Mele\, 5º Dan TKD & Isabell Schäfer\, 3er Dan TKD\nComienza:\nMiércoles 13 de septiembre de 2023\, de 18.15 a 19.30 horas cada uno\nProcedimiento:\nCurso continuo\, entrada posible en cualquier momento\nPrecio del curso:\n8\,00 € por unidad de formación + afiliación a Landfrauen Jagstheim\nLugar:\nJagstauenhalle\, Jagstheimer Hauptstraße 157\, 74564 Crailsheim\nPara llevar:\nRopa deportiva cómoda\, bebida\nRegistro vinculante:\nCon Kathrin Lenz (0176.426 01912) \n 
URL:https://jagstheim.de/event/kick-4-fit-es-un-programa-de-fitness/2024-04-17/?lang=es
LOCATION:Jagstauenhalle\, Jagstheimer calle principal 157\, Crailsheim\, Baden-Württemberg\, 74564\, Deutschland
CATEGORIES:Asociación,Campesinas,Deportivo
END:VEVENT
BEGIN:VEVENT
DTSTART;TZID=Europe/Helsinki:20240417T140000
DTEND;TZID=Europe/Helsinki:20240417T170000
DTSTAMP:20260419T193129
CREATED:20240107T111505Z
LAST-MODIFIED:20240107T111505Z
UID:10004549-1713362400-1713373200@jagstheim.de
SUMMARY:Reunión de tarde "Cuéntanoslo
DESCRIPTION: 
URL:https://jagstheim.de/event/reunion-de-tarde-cuentanoslo/?lang=es
LOCATION:Baden-Württemberg
CATEGORIES:Asociación,Campesinas
END:VEVENT
BEGIN:VEVENT
DTSTART;VALUE=DATE:20240416
DTEND;VALUE=DATE:20240417
DTSTAMP:20260419T193129
CREATED:20231210T173700Z
LAST-MODIFIED:20250102T065658Z
UID:10003900-1713225600-1713311999@jagstheim.de
SUMMARY:Desechos orgánicos y residuos
DESCRIPTION:Crailsheim – Distrito 4Fechas derecogida: Distrito de Schwäbisch Hall \n  \n 
URL:https://jagstheim.de/event/desechos-organicos-y-residuos-17/2024-04-16/?lang=es
LOCATION:Baden-Württemberg
CATEGORIES:Eliminación de residuos
ATTACH;FMTTYPE=image/webp:https://jagstheim.de/wp-content/uploads/2023/07/BioRest.webp
END:VEVENT
BEGIN:VEVENT
DTSTART;VALUE=DATE:20240412
DTEND;VALUE=DATE:20240413
DTSTAMP:20260419T193129
CREATED:20231210T174342Z
LAST-MODIFIED:20250205T062535Z
UID:10004052-1712880000-1712966399@jagstheim.de
SUMMARY:Bolsa amarilla y papelera
DESCRIPTION:Crailsheim – Distrito 4Landkreis Schwäbisch Hall | Abfallkalender | (lrasha.de) \n 
URL:https://jagstheim.de/event/bolsa-amarilla-y-papelera-9/2024-04-12/?lang=es
LOCATION:Baden-Württemberg
CATEGORIES:Eliminación de residuos
ATTACH;FMTTYPE=image/webp:https://jagstheim.de/wp-content/uploads/2023/07/GelbPapier.webp
END:VEVENT
BEGIN:VEVENT
DTSTART;TZID=Europe/Helsinki:20240410T193000
DTEND;TZID=Europe/Helsinki:20240410T220000
DTSTAMP:20260419T193129
CREATED:20240107T111318Z
LAST-MODIFIED:20240107T111428Z
UID:10004537-1712777400-1712786400@jagstheim.de
SUMMARY:Salud Conferencia a base de plantas Menta
DESCRIPTION:LandFrauen 19.30h \n 
URL:https://jagstheim.de/event/salud-conferencia-a-base-de-plantas-menta/?lang=es
LOCATION:Baden-Württemberg
CATEGORIES:Asociación,Campesinas
END:VEVENT
BEGIN:VEVENT
DTSTART;TZID=Europe/Helsinki:20240410T181500
DTEND;TZID=Europe/Helsinki:20240410T193000
DTSTAMP:20260419T193129
CREATED:20230825T194007Z
LAST-MODIFIED:20230825T194209Z
UID:10001868-1712772900-1712777400@jagstheim.de
SUMMARY:KICK 4 Fit es un programa de fitness
DESCRIPTION:KICK 4 Fit es un programa de fitness con elementos dinámicos del arte marcial Taekwondo.\nCompletamente no violento\, entrenamos nuestra velocidad\, resistencia\, fuerza y coordinación con jóvenes y mayores.\nMejoramos nuestra reacción y nuestro rendimiento y estimulamos el sistema nervioso\, los músculos\, los tendones y las articulaciones de una forma extremadamente dinámica.\nContinúa después de las vacaciones de verano: ¡la oportunidad perfecta para participar!\nÚNETE A NOSOTROS A PARTIR DEL 13 DE SEPTIEMBRE DE 2023\, DE 18.15 A 19.30 HORAS\nEntrenadores:\nPascal Mele\, 5º Dan TKD & Isabell Schäfer\, 3er Dan TKD\nComienza:\nMiércoles 13 de septiembre de 2023\, de 18.15 a 19.30 horas cada uno\nProcedimiento:\nCurso continuo\, entrada posible en cualquier momento\nPrecio del curso:\n8\,00 € por unidad de formación + afiliación a Landfrauen Jagstheim\nLugar:\nJagstauenhalle\, Jagstheimer Hauptstraße 157\, 74564 Crailsheim\nPara llevar:\nRopa deportiva cómoda\, bebida\nRegistro vinculante:\nCon Kathrin Lenz (0176.426 01912) \n 
URL:https://jagstheim.de/event/kick-4-fit-es-un-programa-de-fitness/2024-04-10/?lang=es
LOCATION:Jagstauenhalle\, Jagstheimer calle principal 157\, Crailsheim\, Baden-Württemberg\, 74564\, Deutschland
CATEGORIES:Asociación,Campesinas,Deportivo
END:VEVENT
BEGIN:VEVENT
DTSTART;TZID=Europe/Helsinki:20240410T140000
DTEND;TZID=Europe/Helsinki:20240410T160000
DTSTAMP:20260419T193129
CREATED:20240107T111210Z
LAST-MODIFIED:20240107T111210Z
UID:10004528-1712757600-1712764800@jagstheim.de
SUMMARY:Club de la Tercera Edad
DESCRIPTION: 
URL:https://jagstheim.de/event/club-de-la-tercera-edad-4/?lang=es
LOCATION:Salón parroquial católico\, Carretera Eichwald 16\, Crailsheim\, Baden-Württemberg\, 74564\, Deutschland
CATEGORIES:católica,Iglesia
END:VEVENT
BEGIN:VEVENT
DTSTART;TZID=Europe/Helsinki:20240409T143000
DTEND;TZID=Europe/Helsinki:20240409T163000
DTSTAMP:20260419T193129
CREATED:20240107T111050Z
LAST-MODIFIED:20240107T111050Z
UID:10004516-1712673000-1712680200@jagstheim.de
SUMMARY:Tarde de la tercera edad
DESCRIPTION: 
URL:https://jagstheim.de/event/tarde-de-la-tercera-edad-4/?lang=es
LOCATION:ev. salón parroquial\, Carretera del embalse 5\, Crailsheim\, 74564
CATEGORIES:Iglesia,Protestante
END:VEVENT
END:VCALENDAR