BEGIN:VCALENDAR
VERSION:2.0
PRODID:-//Jagstheim - ECPv6.15.20//NONSGML v1.0//EN
CALSCALE:GREGORIAN
METHOD:PUBLISH
X-WR-CALNAME:Jagstheim
X-ORIGINAL-URL:https://jagstheim.de/?lang=tr
X-WR-CALDESC:Jagstheim için etkinlikler
REFRESH-INTERVAL;VALUE=DURATION:PT1H
X-Robots-Tag:noindex
X-PUBLISHED-TTL:PT1H
BEGIN:VTIMEZONE
TZID:Europe/Helsinki
BEGIN:DAYLIGHT
TZOFFSETFROM:+0200
TZOFFSETTO:+0300
TZNAME:EEST
DTSTART:20220327T010000
END:DAYLIGHT
BEGIN:STANDARD
TZOFFSETFROM:+0300
TZOFFSETTO:+0200
TZNAME:EET
DTSTART:20221030T010000
END:STANDARD
BEGIN:DAYLIGHT
TZOFFSETFROM:+0200
TZOFFSETTO:+0300
TZNAME:EEST
DTSTART:20230326T010000
END:DAYLIGHT
BEGIN:STANDARD
TZOFFSETFROM:+0300
TZOFFSETTO:+0200
TZNAME:EET
DTSTART:20231029T010000
END:STANDARD
BEGIN:DAYLIGHT
TZOFFSETFROM:+0200
TZOFFSETTO:+0300
TZNAME:EEST
DTSTART:20240331T010000
END:DAYLIGHT
BEGIN:STANDARD
TZOFFSETFROM:+0300
TZOFFSETTO:+0200
TZNAME:EET
DTSTART:20241027T010000
END:STANDARD
BEGIN:DAYLIGHT
TZOFFSETFROM:+0200
TZOFFSETTO:+0300
TZNAME:EEST
DTSTART:20250330T010000
END:DAYLIGHT
BEGIN:STANDARD
TZOFFSETFROM:+0300
TZOFFSETTO:+0200
TZNAME:EET
DTSTART:20251026T010000
END:STANDARD
END:VTIMEZONE
BEGIN:VEVENT
DTSTART;TZID=Europe/Helsinki:20240410T140000
DTEND;TZID=Europe/Helsinki:20240410T160000
DTSTAMP:20260421T174434
CREATED:20240107T111210Z
LAST-MODIFIED:20240107T111210Z
UID:10004530-1712757600-1712764800@jagstheim.de
SUMMARY:Yaşlılar Kulübü
DESCRIPTION: 
URL:https://jagstheim.de/event/yaslilar-kuluebue-4/?lang=tr
LOCATION:Katolik kilise salonu\, Eichwald Yolu 16\, Crailsheim\, Baden-Württemberg\, 74564\, Deutschland
CATEGORIES:KATOLİK,Kilise
END:VEVENT
BEGIN:VEVENT
DTSTART;TZID=Europe/Helsinki:20240409T143000
DTEND;TZID=Europe/Helsinki:20240409T163000
DTSTAMP:20260421T174434
CREATED:20240107T111050Z
LAST-MODIFIED:20240107T111050Z
UID:10004518-1712673000-1712680200@jagstheim.de
SUMMARY:Yaşlılar için öğleden sonra
DESCRIPTION: 
URL:https://jagstheim.de/event/yaslilar-icin-oegleden-sonra-4/?lang=tr
LOCATION:ev. cemaat salonu\, Rezervuar yolu 5\, Crailsheim\, 74564
CATEGORIES:Kilise,Protestan
END:VEVENT
BEGIN:VEVENT
DTSTART;TZID=Europe/Helsinki:20240401T103000
DTEND;TZID=Europe/Helsinki:20240401T113000
DTSTAMP:20260421T174434
CREATED:20240107T110732Z
LAST-MODIFIED:20240107T110732Z
UID:10004496-1711967400-1711971000@jagstheim.de
SUMMARY:Osterminikirche
DESCRIPTION:ev. kilise\, \, ev. kilise salonu\, saat 10:30. \n 
URL:https://jagstheim.de/event/osterminikirche/?lang=tr
LOCATION:ev. cemaat salonu\, Rezervuar yolu 5\, Crailsheim\, 74564
CATEGORIES:Kilise,Protestan
END:VEVENT
BEGIN:VEVENT
DTSTART;TZID=Europe/Helsinki:20240331T100000
DTEND;TZID=Europe/Helsinki:20240331T110000
DTSTAMP:20260421T174434
CREATED:20240107T110601Z
LAST-MODIFIED:20240107T110601Z
UID:10004481-1711879200-1711882800@jagstheim.de
SUMMARY:Trombon korosu ile kilise ayini
DESCRIPTION: 
URL:https://jagstheim.de/event/trombon-korosu-ile-kilise-ayini/?lang=tr
LOCATION:Aziz Nicholas Kilisesi\, Rezervuar yolu 3\, Crailsheim\, Baden-Württemberg\, 74564\, Deutschland
CATEGORIES:Kilise,Protestan
END:VEVENT
BEGIN:VEVENT
DTSTART;TZID=Europe/Helsinki:20240329T150000
DTEND;TZID=Europe/Helsinki:20240329T160000
DTSTAMP:20260421T174434
CREATED:20240107T110441Z
LAST-MODIFIED:20250205T062448Z
UID:10004474-1711724400-1711728000@jagstheim.de
SUMMARY:Komünyonlu kilise ayini
DESCRIPTION: 
URL:https://jagstheim.de/event/komuenyonlu-kilise-ayini-2/?lang=tr
LOCATION:ev. cemaat salonu\, Rezervuar yolu 5\, Crailsheim\, 74564
CATEGORIES:Kilise,Protestan
END:VEVENT
BEGIN:VEVENT
DTSTART;TZID=Europe/Helsinki:20240328T193000
DTEND;TZID=Europe/Helsinki:20240328T203000
DTSTAMP:20260421T174435
CREATED:20240107T110314Z
LAST-MODIFIED:20240107T110314Z
UID:10004462-1711654200-1711657800@jagstheim.de
SUMMARY:Komünyonlu kilise ayini
DESCRIPTION: 
URL:https://jagstheim.de/event/komuenyonlu-kilise-ayini/?lang=tr
LOCATION:Aziz Nicholas Kilisesi\, Rezervuar yolu 3\, Crailsheim\, Baden-Württemberg\, 74564\, Deutschland
CATEGORIES:Kilise,Protestan
END:VEVENT
BEGIN:VEVENT
DTSTART;VALUE=DATE:20240317
DTEND;VALUE=DATE:20240318
DTSTAMP:20260421T174435
CREATED:20240125T063318Z
LAST-MODIFIED:20240125T063318Z
UID:10005098-1710633600-1710719999@jagstheim.de
SUMMARY:Trombon korosu ile diyakozluk töreni
DESCRIPTION: 
URL:https://jagstheim.de/event/trombon-korosu-ile-diyakozluk-toereni/?lang=tr
LOCATION:Jagstauenhalle\, Jagstheimer ana caddesi 157\, Crailsheim\, Baden-Württemberg\, 74564\, Deutschland
CATEGORIES:Kilise,Protestan
END:VEVENT
BEGIN:VEVENT
DTSTART;TZID=Europe/Helsinki:20240312T143000
DTEND;TZID=Europe/Helsinki:20240312T163000
DTSTAMP:20260421T174435
CREATED:20240107T105537Z
LAST-MODIFIED:20240107T105537Z
UID:10004409-1710253800-1710261000@jagstheim.de
SUMMARY:Yaşlılar için öğleden sonra
DESCRIPTION: 
URL:https://jagstheim.de/event/yaslilar-icin-oegleden-sonra-3/?lang=tr
LOCATION:ev. cemaat salonu\, Rezervuar yolu 5\, Crailsheim\, 74564
CATEGORIES:Kilise,Protestan
END:VEVENT
BEGIN:VEVENT
DTSTART;TZID=Europe/Helsinki:20240306T140000
DTEND;TZID=Europe/Helsinki:20240306T160000
DTSTAMP:20260421T174435
CREATED:20240107T103524Z
LAST-MODIFIED:20240107T103524Z
UID:10004374-1709733600-1709740800@jagstheim.de
SUMMARY:Yaşlılar Kulübü
DESCRIPTION: 
URL:https://jagstheim.de/event/yaslilar-kuluebue-3/?lang=tr
LOCATION:Katolik kilise salonu\, Eichwald Yolu 16\, Crailsheim\, Baden-Württemberg\, 74564\, Deutschland
CATEGORIES:KATOLİK,Kilise
END:VEVENT
BEGIN:VEVENT
DTSTART;TZID=Europe/Helsinki:20240301T190000
DTEND;TZID=Europe/Helsinki:20240301T200000
DTSTAMP:20260421T174435
CREATED:20240107T103315Z
LAST-MODIFIED:20240107T103315Z
UID:10004363-1709319600-1709323200@jagstheim.de
SUMMARY:ecum. Dünya Dua Günü
DESCRIPTION: 
URL:https://jagstheim.de/event/ecum-duenya-dua-guenue/?lang=tr
LOCATION:ev. cemaat salonu\, Rezervuar yolu 5\, Crailsheim\, 74564
CATEGORIES:KATOLİK,Kilise
ATTACH;FMTTYPE=image/jpeg:https://jagstheim.de/wp-content/uploads/2023/07/cruz-2536209_640.jpg
END:VEVENT
BEGIN:VEVENT
DTSTART;TZID=Europe/Helsinki:20240213T143000
DTEND;TZID=Europe/Helsinki:20240213T163000
DTSTAMP:20260421T174435
CREATED:20240107T101713Z
LAST-MODIFIED:20240107T101713Z
UID:10004285-1707834600-1707841800@jagstheim.de
SUMMARY:Yaşlılar için öğleden sonra
DESCRIPTION: 
URL:https://jagstheim.de/event/yaslilar-icin-oegleden-sonra-2/?lang=tr
LOCATION:ev. cemaat salonu\, Rezervuar yolu 5\, Crailsheim\, 74564
CATEGORIES:KATOLİK,Kilise
ATTACH;FMTTYPE=image/jpeg:https://jagstheim.de/wp-content/uploads/2023/07/coffee-shop-3699340-scaled.jpg
END:VEVENT
BEGIN:VEVENT
DTSTART;TZID=Europe/Helsinki:20240207T140000
DTEND;TZID=Europe/Helsinki:20240207T160000
DTSTAMP:20260421T174435
CREATED:20240107T100625Z
LAST-MODIFIED:20240107T100625Z
UID:10004266-1707314400-1707321600@jagstheim.de
SUMMARY:Yaşlılar Kulübü
DESCRIPTION: 
URL:https://jagstheim.de/event/yaslilar-kuluebue-2/?lang=tr
LOCATION:Katolik kilise salonu\, Eichwald Yolu 16\, Crailsheim\, Baden-Württemberg\, 74564\, Deutschland
CATEGORIES:KATOLİK,Kilise
ATTACH;FMTTYPE=image/jpeg:https://jagstheim.de/wp-content/uploads/2023/07/sports-2863541_640.jpg
END:VEVENT
BEGIN:VEVENT
DTSTART;TZID=Europe/Helsinki:20240114T103000
DTEND;TZID=Europe/Helsinki:20240114T113000
DTSTAMP:20260421T174435
CREATED:20240107T090758Z
LAST-MODIFIED:20240107T090758Z
UID:10004165-1705228200-1705231800@jagstheim.de
SUMMARY:Füzyon töreni\, St John's Kilisesi
DESCRIPTION:Protestan Crailsheim ve Blaufelden dekanlıklarının birleşme töreni\, saat 10.30. \n 
URL:https://jagstheim.de/event/fuezyon-toereni-st-johns-kilisesi/?lang=tr
LOCATION:Baden-Württemberg
CATEGORIES:Kilise,Protestan
ATTACH;FMTTYPE=image/jpeg:https://jagstheim.de/wp-content/uploads/2023/07/cruz-2536209_640.jpg
END:VEVENT
BEGIN:VEVENT
DTSTART;TZID=Europe/Helsinki:20240110T140000
DTEND;TZID=Europe/Helsinki:20240110T160000
DTSTAMP:20260421T174435
CREATED:20240107T090140Z
LAST-MODIFIED:20240107T090301Z
UID:10004145-1704895200-1704902400@jagstheim.de
SUMMARY:Yaşlılar Kulübü
DESCRIPTION:Peter ve Paul Jagstheim Katolik Cemaati\, Katolik Cemaati Salonu\, 14.00-4.00 saatleri arasında. \n 
URL:https://jagstheim.de/event/yaslilar-kuluebue/?lang=tr
LOCATION:Katolik kilise salonu\, Eichwald Yolu 16\, Crailsheim\, Baden-Württemberg\, 74564\, Deutschland
CATEGORIES:KATOLİK,Kilise
ATTACH;FMTTYPE=image/jpeg:https://jagstheim.de/wp-content/uploads/2023/07/sports-2863541_640.jpg
END:VEVENT
BEGIN:VEVENT
DTSTART;TZID=Europe/Helsinki:20240109T143000
DTEND;TZID=Europe/Helsinki:20240109T163000
DTSTAMP:20260421T174435
CREATED:20240107T085950Z
LAST-MODIFIED:20240107T085950Z
UID:10004135-1704810600-1704817800@jagstheim.de
SUMMARY:Yaşlılar için öğleden sonra
DESCRIPTION: 
URL:https://jagstheim.de/event/yaslilar-icin-oegleden-sonra/?lang=tr
LOCATION:ev. cemaat salonu\, Rezervuar yolu 5\, Crailsheim\, 74564
CATEGORIES:Kilise,Protestan
ATTACH;FMTTYPE=image/jpeg:https://jagstheim.de/wp-content/uploads/2023/07/coffee-shop-3699340-scaled.jpg
END:VEVENT
BEGIN:VEVENT
DTSTART;TZID=Europe/Helsinki:20231231T170000
DTEND;TZID=Europe/Helsinki:20231231T183000
DTSTAMP:20260421T174435
CREATED:20230706T115125Z
LAST-MODIFIED:20230706T115125Z
UID:10000582-1704042000-1704047400@jagstheim.de
SUMMARY:ev. parish
DESCRIPTION:Yılbaşı gecesi töreni \n 
URL:https://jagstheim.de/event/ev-parish-11/?lang=tr
LOCATION:Aziz Nicholas Kilisesi\, Rezervuar yolu 3\, Crailsheim\, Baden-Württemberg\, 74564\, Deutschland
CATEGORIES:Kilise,Protestan
ATTACH;FMTTYPE=image/jpeg:https://jagstheim.de/wp-content/uploads/2023/07/lucky-pig-3898098_640.jpg
END:VEVENT
BEGIN:VEVENT
DTSTART;TZID=Europe/Helsinki:20231225T100000
DTEND;TZID=Europe/Helsinki:20231225T113000
DTSTAMP:20260421T174435
CREATED:20230706T114919Z
LAST-MODIFIED:20230706T114919Z
UID:10000574-1703498400-1703503800@jagstheim.de
SUMMARY:ev. parish
DESCRIPTION:Noel Ayini \n 
URL:https://jagstheim.de/event/ev-parish-9/?lang=tr
LOCATION:Aziz Nicholas Kilisesi\, Rezervuar yolu 3\, Crailsheim\, Baden-Württemberg\, 74564\, Deutschland
CATEGORIES:Kilise,Protestan
ATTACH;FMTTYPE=image/jpeg:https://jagstheim.de/wp-content/uploads/2023/07/christmas-1740325_640.jpg
END:VEVENT
BEGIN:VEVENT
DTSTART;TZID=Europe/Helsinki:20231224T190000
DTEND;TZID=Europe/Helsinki:20231224T200000
DTSTAMP:20260421T174435
CREATED:20230706T114735Z
LAST-MODIFIED:20230706T114735Z
UID:10000602-1703444400-1703448000@jagstheim.de
SUMMARY:ev. parish
DESCRIPTION:Aile Hizmeti \n 
URL:https://jagstheim.de/event/ev-parish-13/?lang=tr
LOCATION:Aziz Nicholas Kilisesi\, Rezervuar yolu 3\, Crailsheim\, Baden-Württemberg\, 74564\, Deutschland
CATEGORIES:Kilise,Protestan
ATTACH;FMTTYPE=image/jpeg:https://jagstheim.de/wp-content/uploads/2023/07/bible-5255924_640.jpg
END:VEVENT
BEGIN:VEVENT
DTSTART;TZID=Europe/Helsinki:20231224T160000
DTEND;TZID=Europe/Helsinki:20231224T170000
DTSTAMP:20260421T174435
CREATED:20230706T114528Z
LAST-MODIFIED:20230706T114528Z
UID:10000566-1703433600-1703437200@jagstheim.de
SUMMARY:ev. parish
DESCRIPTION:Aile Hizmeti \n 
URL:https://jagstheim.de/event/ev-parish-10/?lang=tr
LOCATION:Aziz Nicholas Kilisesi\, Rezervuar yolu 3\, Crailsheim\, Baden-Württemberg\, 74564\, Deutschland
CATEGORIES:Kilise,Protestan
ATTACH;FMTTYPE=image/jpeg:https://jagstheim.de/wp-content/uploads/2023/07/church-669556_640.jpg
END:VEVENT
BEGIN:VEVENT
DTSTART;TZID=Europe/Helsinki:20231212T143000
DTEND;TZID=Europe/Helsinki:20231212T160000
DTSTAMP:20260421T174435
CREATED:20230706T113759Z
LAST-MODIFIED:20230706T113759Z
UID:10000553-1702391400-1702396800@jagstheim.de
SUMMARY:ev. parish
DESCRIPTION:Kıdemli Vatandaşlar Noel Partisi \n 
URL:https://jagstheim.de/event/ev-parish-8/?lang=tr
LOCATION:ev. cemaat salonu\, Rezervuar yolu 5\, Crailsheim\, 74564
CATEGORIES:Kilise,Protestan
ATTACH;FMTTYPE=image/jpeg:https://jagstheim.de/wp-content/uploads/2023/07/christmas-4724856_640.jpg
END:VEVENT
BEGIN:VEVENT
DTSTART;TZID=Europe/Helsinki:20231210T160000
DTEND;TZID=Europe/Helsinki:20231210T170000
DTSTAMP:20260421T174435
CREATED:20230706T113320Z
LAST-MODIFIED:20230706T113320Z
UID:10000550-1702224000-1702227600@jagstheim.de
SUMMARY:Liederkranz
DESCRIPTION:Advent konseri \n 
URL:https://jagstheim.de/event/liederkranz/?lang=tr
LOCATION:Aziz Nicholas Kilisesi\, Rezervuar yolu 3\, Crailsheim\, Baden-Württemberg\, 74564\, Deutschland
CATEGORIES:Kilise,Liederkranz,Protestan
ATTACH;FMTTYPE=image/jpeg:https://jagstheim.de/wp-content/uploads/2023/07/bear-1084043_640.jpg
END:VEVENT
BEGIN:VEVENT
DTSTART;TZID=Europe/Helsinki:20231210T100000
DTEND;TZID=Europe/Helsinki:20231210T113000
DTSTAMP:20260421T174435
CREATED:20230706T112036Z
LAST-MODIFIED:20230706T112036Z
UID:10000554-1702202400-1702207800@jagstheim.de
SUMMARY:ev. parish
DESCRIPTION:Ekümenik hizmet \n 
URL:https://jagstheim.de/event/ev-parish-7/?lang=tr
LOCATION:Aziz Nicholas Kilisesi\, Rezervuar yolu 3\, Crailsheim\, Baden-Württemberg\, 74564\, Deutschland
CATEGORIES:Kilise,Protestan
ATTACH;FMTTYPE=image/jpeg:https://jagstheim.de/wp-content/uploads/2023/07/supper-2610875_640.jpg
END:VEVENT
BEGIN:VEVENT
DTSTART;TZID=Europe/Helsinki:20231206T140000
DTEND;TZID=Europe/Helsinki:20231206T153000
DTSTAMP:20260421T174435
CREATED:20230706T110641Z
LAST-MODIFIED:20230706T110641Z
UID:10000605-1701871200-1701876600@jagstheim.de
SUMMARY:katoli̇k cemaati̇
DESCRIPTION:Yaşlılar Kulübü \n 
URL:https://jagstheim.de/event/katoli%cc%87k-cemaati%cc%87-4/?lang=tr
LOCATION:Katolik kilise salonu\, Eichwald Yolu 16\, Crailsheim\, Baden-Württemberg\, 74564\, Deutschland
CATEGORIES:KATOLİK,Kilise
ATTACH;FMTTYPE=image/jpeg:https://jagstheim.de/wp-content/uploads/2023/07/sports-2863541_640.jpg
END:VEVENT
BEGIN:VEVENT
DTSTART;TZID=Europe/Helsinki:20231126T100000
DTEND;TZID=Europe/Helsinki:20231126T113000
DTSTAMP:20260421T174435
CREATED:20230706T104716Z
LAST-MODIFIED:20230706T104716Z
UID:10000604-1700992800-1700998200@jagstheim.de
SUMMARY:ev. parish
DESCRIPTION:Merhumu anma töreni \n 
URL:https://jagstheim.de/event/ev-parish-12/?lang=tr
LOCATION:Aziz Nicholas Kilisesi\, Rezervuar yolu 3\, Crailsheim\, Baden-Württemberg\, 74564\, Deutschland
CATEGORIES:Kilise,Protestan
ATTACH;FMTTYPE=image/jpeg:https://jagstheim.de/wp-content/uploads/2023/07/graveyard-7543514_640.jpg
END:VEVENT
BEGIN:VEVENT
DTSTART;TZID=Europe/Helsinki:20231114T100000
DTEND;TZID=Europe/Helsinki:20231114T113000
DTSTAMP:20260421T174435
CREATED:20230706T104431Z
LAST-MODIFIED:20230706T104431Z
UID:10000537-1699956000-1699961400@jagstheim.de
SUMMARY:ev. parish
DESCRIPTION:İbadet hizmeti \n 
URL:https://jagstheim.de/event/ev-parish-6/?lang=tr
LOCATION:Mezarlık Salonu\, Jagstheimer Haupstraße 160\, Crailsheim\, Baden-Württemberg\, 74564\, Deutschland
CATEGORIES:Kilise,Protestan
ATTACH;FMTTYPE=image/jpeg:https://jagstheim.de/wp-content/uploads/2023/07/bible-5255924_640.jpg
END:VEVENT
BEGIN:VEVENT
DTSTART;TZID=Europe/Helsinki:20231111T180000
DTEND;TZID=Europe/Helsinki:20231111T190000
DTSTAMP:20260421T174435
CREATED:20230706T103959Z
LAST-MODIFIED:20230706T103959Z
UID:10000534-1699725600-1699729200@jagstheim.de
SUMMARY:Aziz Martin Töreni
DESCRIPTION:Anaokulları ve Jagstheimer Handwerker und Dienstleister e.V. tarafından düzenlenmektedir. \n 
URL:https://jagstheim.de/event/aziz-martin-toereni/?lang=tr
LOCATION:Aziz Nicholas Kilisesi\, Rezervuar yolu 3\, Crailsheim\, Baden-Württemberg\, 74564\, Deutschland
CATEGORIES:Anaokulu,Kilise,Motley,Protestan,Shag,Ticaret
ATTACH;FMTTYPE=image/jpeg:https://jagstheim.de/wp-content/uploads/2023/07/lantern-hike-3829133_640.jpg
END:VEVENT
BEGIN:VEVENT
DTSTART;TZID=Europe/Helsinki:20231111T173000
DTEND;TZID=Europe/Helsinki:20231111T180000
DTSTAMP:20260421T174435
CREATED:20230706T103651Z
LAST-MODIFIED:20230706T103651Z
UID:10000540-1699723800-1699725600@jagstheim.de
SUMMARY:ev. parish
DESCRIPTION:Martinmas bağlılığı \n 
URL:https://jagstheim.de/event/ev-parish-4/?lang=tr
LOCATION:Aziz Nicholas Kilisesi\, Rezervuar yolu 3\, Crailsheim\, Baden-Württemberg\, 74564\, Deutschland
CATEGORIES:Kilise,Protestan
ATTACH;FMTTYPE=image/jpeg:https://jagstheim.de/wp-content/uploads/2023/07/cruz-2536209_640.jpg
END:VEVENT
BEGIN:VEVENT
DTSTART;TZID=Europe/Helsinki:20231108T140000
DTEND;TZID=Europe/Helsinki:20231108T153000
DTSTAMP:20260421T174435
CREATED:20230706T103352Z
LAST-MODIFIED:20230706T103352Z
UID:10000523-1699452000-1699457400@jagstheim.de
SUMMARY:katoli̇k cemaati̇
DESCRIPTION:Yaşlılar Kulübü \n 
URL:https://jagstheim.de/event/katoli%cc%87k-cemaati%cc%87-2/?lang=tr
LOCATION:Katolik kilise salonu\, Eichwald Yolu 16\, Crailsheim\, Baden-Württemberg\, 74564\, Deutschland
CATEGORIES:KATOLİK,Kilise
ATTACH;FMTTYPE=image/jpeg:https://jagstheim.de/wp-content/uploads/2023/07/sports-2863541_640.jpg
END:VEVENT
BEGIN:VEVENT
DTSTART;TZID=Europe/Helsinki:20231010T143000
DTEND;TZID=Europe/Helsinki:20231010T160000
DTSTAMP:20260421T174435
CREATED:20230706T092926Z
LAST-MODIFIED:20230708T090913Z
UID:10000528-1696948200-1696953600@jagstheim.de
SUMMARY:ev. parish
DESCRIPTION:Yaşlılar için öğleden sonra \n 
URL:https://jagstheim.de/event/ev-parish-5/?lang=tr
LOCATION:ev. cemaat salonu\, Rezervuar yolu 5\, Crailsheim\, 74564
CATEGORIES:Kilise,Protestan
ATTACH;FMTTYPE=image/jpeg:https://jagstheim.de/wp-content/uploads/2023/07/coffee-shop-3699340-scaled.jpg
END:VEVENT
BEGIN:VEVENT
DTSTART;TZID=Europe/Helsinki:20231004T140000
DTEND;TZID=Europe/Helsinki:20231004T153000
DTSTAMP:20260421T174435
CREATED:20230706T091428Z
LAST-MODIFIED:20230706T091428Z
UID:10000571-1696428000-1696433400@jagstheim.de
SUMMARY:katoli̇k cemaati̇
DESCRIPTION:Yaşlılar Kulübü \n 
URL:https://jagstheim.de/event/katoli%cc%87k-cemaati%cc%87-3/?lang=tr
LOCATION:Katolik kilise salonu\, Eichwald Yolu 16\, Crailsheim\, Baden-Württemberg\, 74564\, Deutschland
CATEGORIES:KATOLİK,Kilise
ATTACH;FMTTYPE=image/jpeg:https://jagstheim.de/wp-content/uploads/2023/07/cruz-2536209_640.jpg
END:VEVENT
END:VCALENDAR