BEGIN:VCALENDAR
VERSION:2.0
PRODID:-//Jagstheim - ECPv6.15.20//NONSGML v1.0//EN
CALSCALE:GREGORIAN
METHOD:PUBLISH
X-WR-CALNAME:Jagstheim
X-ORIGINAL-URL:https://jagstheim.de
X-WR-CALDESC:Veranstaltungen für Jagstheim
REFRESH-INTERVAL;VALUE=DURATION:PT1H
X-Robots-Tag:noindex
X-PUBLISHED-TTL:PT1H
BEGIN:VTIMEZONE
TZID:Europe/Helsinki
BEGIN:DAYLIGHT
TZOFFSETFROM:+0200
TZOFFSETTO:+0300
TZNAME:EEST
DTSTART:20220327T010000
END:DAYLIGHT
BEGIN:STANDARD
TZOFFSETFROM:+0300
TZOFFSETTO:+0200
TZNAME:EET
DTSTART:20221030T010000
END:STANDARD
BEGIN:DAYLIGHT
TZOFFSETFROM:+0200
TZOFFSETTO:+0300
TZNAME:EEST
DTSTART:20230326T010000
END:DAYLIGHT
BEGIN:STANDARD
TZOFFSETFROM:+0300
TZOFFSETTO:+0200
TZNAME:EET
DTSTART:20231029T010000
END:STANDARD
BEGIN:DAYLIGHT
TZOFFSETFROM:+0200
TZOFFSETTO:+0300
TZNAME:EEST
DTSTART:20240331T010000
END:DAYLIGHT
BEGIN:STANDARD
TZOFFSETFROM:+0300
TZOFFSETTO:+0200
TZNAME:EET
DTSTART:20241027T010000
END:STANDARD
BEGIN:DAYLIGHT
TZOFFSETFROM:+0200
TZOFFSETTO:+0300
TZNAME:EEST
DTSTART:20250330T010000
END:DAYLIGHT
BEGIN:STANDARD
TZOFFSETFROM:+0300
TZOFFSETTO:+0200
TZNAME:EET
DTSTART:20251026T010000
END:STANDARD
BEGIN:DAYLIGHT
TZOFFSETFROM:+0200
TZOFFSETTO:+0300
TZNAME:EEST
DTSTART:20260329T010000
END:DAYLIGHT
BEGIN:STANDARD
TZOFFSETFROM:+0300
TZOFFSETTO:+0200
TZNAME:EET
DTSTART:20261025T010000
END:STANDARD
BEGIN:DAYLIGHT
TZOFFSETFROM:+0200
TZOFFSETTO:+0300
TZNAME:EEST
DTSTART:20270328T010000
END:DAYLIGHT
BEGIN:STANDARD
TZOFFSETFROM:+0300
TZOFFSETTO:+0200
TZNAME:EET
DTSTART:20271031T010000
END:STANDARD
END:VTIMEZONE
BEGIN:VEVENT
DTSTART;TZID=Europe/Helsinki:20260306T193000
DTEND;TZID=Europe/Helsinki:20260306T210000
DTSTAMP:20260426T070107
CREATED:20251214T115223Z
LAST-MODIFIED:20251214T115223Z
UID:10007766-1772825400-1772830800@jagstheim.de
SUMMARY:Schützenverein | Hauptversammlung
DESCRIPTION: 
URL:https://jagstheim.de/event/schuetzenverein-hauptversammlung-2/
LOCATION:Schützenhaus\, Honhardter Bühl\, Jagstheim\, 74564\, Deutschland
CATEGORIES:Schützen,Verein
END:VEVENT
BEGIN:VEVENT
DTSTART;VALUE=DATE:20250315
DTEND;VALUE=DATE:20250316
DTSTAMP:20260426T070107
CREATED:20250125T195756Z
LAST-MODIFIED:20250125T195756Z
UID:10007531-1741996800-1742083199@jagstheim.de
SUMMARY:Kreisschützentag Schützenhaus
DESCRIPTION: 
URL:https://jagstheim.de/event/kreisschuetzentag-schuetzenhaus/
LOCATION:Schützenhaus\, Honhardter Bühl\, Jagstheim\, 74564\, Deutschland
CATEGORIES:Schützen
ATTACH;FMTTYPE=image/jpeg:https://jagstheim.de/wp-content/uploads/2023/07/pistol-1350484_640.jpg
END:VEVENT
BEGIN:VEVENT
DTSTART;TZID=Europe/Helsinki:20250307T193000
DTEND;TZID=Europe/Helsinki:20250307T213000
DTSTAMP:20260426T070107
CREATED:20250102T095952Z
LAST-MODIFIED:20250102T095952Z
UID:10007476-1741375800-1741383000@jagstheim.de
SUMMARY:Schützenverein Hauptversammlung
DESCRIPTION: 
URL:https://jagstheim.de/event/schuetzenverein-hauptversammlung/
LOCATION:Schützenhaus\, Honhardter Bühl\, Jagstheim\, 74564\, Deutschland
CATEGORIES:Schützen,Verein
END:VEVENT
BEGIN:VEVENT
DTSTART;TZID=Europe/Helsinki:20241019T133000
DTEND;TZID=Europe/Helsinki:20241019T220000
DTSTAMP:20260426T070107
CREATED:20240107T120650Z
LAST-MODIFIED:20240107T120650Z
UID:10004906-1729344600-1729375200@jagstheim.de
SUMMARY:Schießen der Vereine
DESCRIPTION: 
URL:https://jagstheim.de/event/schiessen-der-vereine/
LOCATION:Schützenhaus\, Honhardter Bühl\, Jagstheim\, 74564\, Deutschland
CATEGORIES:Schützen,Verein
END:VEVENT
BEGIN:VEVENT
DTSTART;TZID=Europe/Helsinki:20240707T110000
DTEND;TZID=Europe/Helsinki:20240707T170000
DTSTAMP:20260426T070107
CREATED:20240107T114403Z
LAST-MODIFIED:20240107T114403Z
UID:10004741-1720350000-1720371600@jagstheim.de
SUMMARY:Schützenverein Jagstheim Grillen für alle
DESCRIPTION: 
URL:https://jagstheim.de/event/schuetzenverein-jagstheim-grillen-fuer-alle/
LOCATION:Schützenhaus\, Honhardter Bühl\, Jagstheim\, 74564\, Deutschland
CATEGORIES:Schützen,Verein
END:VEVENT
BEGIN:VEVENT
DTSTART;TZID=Europe/Helsinki:20231021T133000
DTEND;TZID=Europe/Helsinki:20231021T170000
DTSTAMP:20260426T070107
CREATED:20230706T093402Z
LAST-MODIFIED:20230724T140613Z
UID:10000282-1697895000-1697907600@jagstheim.de
SUMMARY:Schießen der Vereine
DESCRIPTION:Weitere Informationen folgen \n 
URL:https://jagstheim.de/event/schuetzenverein/
LOCATION:Schützenhaus\, Honhardter Bühl\, Jagstheim\, 74564\, Deutschland
CATEGORIES:Schützen,Verein
ATTACH;FMTTYPE=image/jpeg:https://jagstheim.de/wp-content/uploads/2023/07/pistol-1350484_640.jpg
END:VEVENT
BEGIN:VEVENT
DTSTART;VALUE=DATE:20230608
DTEND;VALUE=DATE:20230609
DTSTAMP:20260426T070107
CREATED:20230605T143855Z
LAST-MODIFIED:20230706T110400Z
UID:10000146-1686182400-1686268799@jagstheim.de
SUMMARY:Vereinswanderung - Schützenverein
DESCRIPTION:– Abmarsch am Schützenhaus um 09:30! \n– Anschließendes Grillen am Schützenhaus \n– Gäste sind herzlich willkommen! \n 
URL:https://jagstheim.de/event/vereinswanderung-schuetzenverein/
LOCATION:Schützenhaus\, Honhardter Bühl\, Jagstheim\, 74564\, Deutschland
CATEGORIES:Schützen
END:VEVENT
END:VCALENDAR