BEGIN:VCALENDAR
VERSION:2.0
PRODID:-//Jagstheim - ECPv6.15.20//NONSGML v1.0//EN
CALSCALE:GREGORIAN
METHOD:PUBLISH
X-WR-CALNAME:Jagstheim
X-ORIGINAL-URL:https://jagstheim.de
X-WR-CALDESC:Veranstaltungen für Jagstheim
REFRESH-INTERVAL;VALUE=DURATION:PT1H
X-Robots-Tag:noindex
X-PUBLISHED-TTL:PT1H
BEGIN:VTIMEZONE
TZID:Europe/Helsinki
BEGIN:DAYLIGHT
TZOFFSETFROM:+0200
TZOFFSETTO:+0300
TZNAME:EEST
DTSTART:20220327T010000
END:DAYLIGHT
BEGIN:STANDARD
TZOFFSETFROM:+0300
TZOFFSETTO:+0200
TZNAME:EET
DTSTART:20221030T010000
END:STANDARD
BEGIN:DAYLIGHT
TZOFFSETFROM:+0200
TZOFFSETTO:+0300
TZNAME:EEST
DTSTART:20230326T010000
END:DAYLIGHT
BEGIN:STANDARD
TZOFFSETFROM:+0300
TZOFFSETTO:+0200
TZNAME:EET
DTSTART:20231029T010000
END:STANDARD
BEGIN:DAYLIGHT
TZOFFSETFROM:+0200
TZOFFSETTO:+0300
TZNAME:EEST
DTSTART:20240331T010000
END:DAYLIGHT
BEGIN:STANDARD
TZOFFSETFROM:+0300
TZOFFSETTO:+0200
TZNAME:EET
DTSTART:20241027T010000
END:STANDARD
BEGIN:DAYLIGHT
TZOFFSETFROM:+0200
TZOFFSETTO:+0300
TZNAME:EEST
DTSTART:20250330T010000
END:DAYLIGHT
BEGIN:STANDARD
TZOFFSETFROM:+0300
TZOFFSETTO:+0200
TZNAME:EET
DTSTART:20251026T010000
END:STANDARD
BEGIN:DAYLIGHT
TZOFFSETFROM:+0200
TZOFFSETTO:+0300
TZNAME:EEST
DTSTART:20260329T010000
END:DAYLIGHT
BEGIN:STANDARD
TZOFFSETFROM:+0300
TZOFFSETTO:+0200
TZNAME:EET
DTSTART:20261025T010000
END:STANDARD
BEGIN:DAYLIGHT
TZOFFSETFROM:+0200
TZOFFSETTO:+0300
TZNAME:EEST
DTSTART:20270328T010000
END:DAYLIGHT
BEGIN:STANDARD
TZOFFSETFROM:+0300
TZOFFSETTO:+0200
TZNAME:EET
DTSTART:20271031T010000
END:STANDARD
END:VTIMEZONE
BEGIN:VEVENT
DTSTART;TZID=Europe/Helsinki:20260301T100000
DTEND;TZID=Europe/Helsinki:20260301T150000
DTSTAMP:20260423T161629
CREATED:20251214T114907Z
LAST-MODIFIED:20251214T114907Z
UID:10007764-1772359200-1772377200@jagstheim.de
SUMMARY:Liederkranz | Vereinsessen mit Diakoniegottesdienst
DESCRIPTION: 
URL:https://jagstheim.de/event/liederkranz-vereinsessen-mit-diakoniegottesdienst/
LOCATION:Jagstauenhalle\, Jagstheimer Hauptstraße 157\, Crailsheim\, Baden-Württemberg\, 74564\, Deutschland
CATEGORIES:evangelisch,Kirche,Liederkranz,Verein
END:VEVENT
BEGIN:VEVENT
DTSTART;TZID=Europe/Helsinki:20260131T193000
DTEND;TZID=Europe/Helsinki:20260131T210000
DTSTAMP:20260423T161629
CREATED:20251214T082212Z
LAST-MODIFIED:20251214T082212Z
UID:10007757-1769887800-1769893200@jagstheim.de
SUMMARY:Liederkranz Jagstheim | Hauptversammlung
DESCRIPTION: 
URL:https://jagstheim.de/event/liederkranz-jagstheim-hauptversammlung/
LOCATION:Gasthaus Hirsch\, Hansgasse 1\, Crailsheim\, 74564
CATEGORIES:Liederkranz,Verein
END:VEVENT
BEGIN:VEVENT
DTSTART;TZID=Europe/Helsinki:20250330T110000
DTEND;TZID=Europe/Helsinki:20250330T140000
DTSTAMP:20260423T161629
CREATED:20250205T060716Z
LAST-MODIFIED:20250205T062351Z
UID:10007544-1743332400-1743343200@jagstheim.de
SUMMARY:Vereinsessen
DESCRIPTION: 
URL:https://jagstheim.de/event/vereinsessen/
LOCATION:Jagstauenhalle\, Jagstheimer Hauptstraße 157\, Crailsheim\, Baden-Württemberg\, 74564\, Deutschland
CATEGORIES:Liederkranz
END:VEVENT
BEGIN:VEVENT
DTSTART;TZID=Europe/Helsinki:20250207T190000
DTEND;TZID=Europe/Helsinki:20250207T210000
DTSTAMP:20260423T161629
CREATED:20250102T090544Z
LAST-MODIFIED:20250102T090544Z
UID:10007377-1738954800-1738962000@jagstheim.de
SUMMARY:Jahreshauptversammlung Liederkranz Jagstheim
DESCRIPTION: 
URL:https://jagstheim.de/event/jahreshauptversammlung-liederkranz-jagstheim/
LOCATION:Baden-Württemberg
CATEGORIES:Liederkranz,Verein
END:VEVENT
BEGIN:VEVENT
DTSTART;VALUE=DATE:20241026
DTEND;VALUE=DATE:20241027
DTSTAMP:20260423T161629
CREATED:20240130T081415Z
LAST-MODIFIED:20240130T081415Z
UID:10005122-1729900800-1729987199@jagstheim.de
SUMMARY:Das singen der Crailsheimer Chöre
DESCRIPTION: 
URL:https://jagstheim.de/event/das-singen-der-crailsheimer-choere/
LOCATION:Jagstauenhalle\, Jagstheimer Hauptstraße 157\, Crailsheim\, Baden-Württemberg\, 74564\, Deutschland
CATEGORIES:Feste,Liederkranz,Verein
END:VEVENT
BEGIN:VEVENT
DTSTART;VALUE=DATE:20240317
DTEND;VALUE=DATE:20240318
DTSTAMP:20260423T161629
CREATED:20240125T063510Z
LAST-MODIFIED:20240125T063510Z
UID:10005100-1710633600-1710719999@jagstheim.de
SUMMARY:Vereinsessen Liederkranz Jagstheim
DESCRIPTION: 
URL:https://jagstheim.de/event/vereinsessen-liederkranz-jagstheim/
LOCATION:Baden-Württemberg
CATEGORIES:Liederkranz,Verein
END:VEVENT
BEGIN:VEVENT
DTSTART;TZID=Europe/Helsinki:20240202T200000
DTEND;TZID=Europe/Helsinki:20240202T220000
DTSTAMP:20260423T161629
CREATED:20240107T095944Z
LAST-MODIFIED:20240107T095944Z
UID:10004235-1706904000-1706911200@jagstheim.de
SUMMARY:Hauptversammlung im Gasthaus Stoll
DESCRIPTION:Liederkranz Jagstheim\, 20:00 Uhr Hauptversammlung im Gasthaus Stoll \n 
URL:https://jagstheim.de/event/hauptversammlung-im-gasthaus-stoll/
LOCATION:Baden-Württemberg
CATEGORIES:Liederkranz,Verein
END:VEVENT
BEGIN:VEVENT
DTSTART;TZID=Europe/Helsinki:20231210T160000
DTEND;TZID=Europe/Helsinki:20231210T170000
DTSTAMP:20260423T161629
CREATED:20230706T113320Z
LAST-MODIFIED:20230706T113320Z
UID:10000342-1702224000-1702227600@jagstheim.de
SUMMARY:Liederkranz
DESCRIPTION:Adventskonzert \n 
URL:https://jagstheim.de/event/liederkranz/
LOCATION:ev. Nikolauskirche\, Stauseestraße 3\, Crailsheim\, Baden-Württemberg\, 74564\, Deutschland
CATEGORIES:evangelisch,Kirche,Liederkranz
ATTACH;FMTTYPE=image/jpeg:https://jagstheim.de/wp-content/uploads/2023/07/bear-1084043_640.jpg
END:VEVENT
BEGIN:VEVENT
DTSTART;VALUE=DATE:20231021
DTEND;VALUE=DATE:20231023
DTSTAMP:20260423T161629
CREATED:20230706T103016Z
LAST-MODIFIED:20230706T103016Z
UID:10000292-1697846400-1698019199@jagstheim.de
SUMMARY:Liederkanz
DESCRIPTION:Chorwochenende \n 
URL:https://jagstheim.de/event/liederkanz/
LOCATION:Baden-Württemberg
CATEGORIES:Liederkranz,Verein
ATTACH;FMTTYPE=image/jpeg:https://jagstheim.de/wp-content/uploads/2023/07/teacher-gradebook-7278379_640.jpg
END:VEVENT
END:VCALENDAR