BEGIN:VCALENDAR
VERSION:2.0
PRODID:-//Jagstheim - ECPv6.15.20//NONSGML v1.0//EN
CALSCALE:GREGORIAN
METHOD:PUBLISH
X-WR-CALNAME:Jagstheim
X-ORIGINAL-URL:https://jagstheim.de
X-WR-CALDESC:Veranstaltungen für Jagstheim
REFRESH-INTERVAL;VALUE=DURATION:PT1H
X-Robots-Tag:noindex
X-PUBLISHED-TTL:PT1H
BEGIN:VTIMEZONE
TZID:Europe/Helsinki
BEGIN:DAYLIGHT
TZOFFSETFROM:+0200
TZOFFSETTO:+0300
TZNAME:EEST
DTSTART:20240331T010000
END:DAYLIGHT
BEGIN:STANDARD
TZOFFSETFROM:+0300
TZOFFSETTO:+0200
TZNAME:EET
DTSTART:20241027T010000
END:STANDARD
BEGIN:DAYLIGHT
TZOFFSETFROM:+0200
TZOFFSETTO:+0300
TZNAME:EEST
DTSTART:20250330T010000
END:DAYLIGHT
BEGIN:STANDARD
TZOFFSETFROM:+0300
TZOFFSETTO:+0200
TZNAME:EET
DTSTART:20251026T010000
END:STANDARD
BEGIN:DAYLIGHT
TZOFFSETFROM:+0200
TZOFFSETTO:+0300
TZNAME:EEST
DTSTART:20260329T010000
END:DAYLIGHT
BEGIN:STANDARD
TZOFFSETFROM:+0300
TZOFFSETTO:+0200
TZNAME:EET
DTSTART:20261025T010000
END:STANDARD
END:VTIMEZONE
BEGIN:VEVENT
DTSTART;TZID=Europe/Helsinki:20250101T181500
DTEND;TZID=Europe/Helsinki:20250101T193000
DTSTAMP:20260426T065942
CREATED:20230825T194007Z
LAST-MODIFIED:20240107T123230Z
UID:10000870-1735755300-1735759800@jagstheim.de
SUMMARY:KICK 4 Fit ist ein Fitmachprogramm
DESCRIPTION:KICK 4 Fit ist ein Fitmachprogramm mit dynamischen Elementen aus der Kampfsportart Taekwondo.\nVöllig gewaltfrei trainieren wir mit Jung und Alt unsere Schnelligkeit\, Ausdauer\, Kraft und Koordination.\nWir verbessern unsere Reaktions- und Leistungsfähigkeit und stimulieren Nervensystem\, Muskeln\, Sehnen und Gelenke auf äußerst dynamische Art und Weise.\nNach den Sommerferien geht’s weiter — die perfekte Möglichkeit für dich\, um einzusteigen!\nMACH MIT! AB 13. SEPTEMBER 2023\, 18.15 – 19.30 UHR\nTrainer:\nPascal Mele\, 5. Dan TKD & Isabell Schäfer\, 3. Dan TKD\nBeginn:\nMittwoch 13. September 2023\, je 18.15 – 19.30 Uhr\nAblauf:\nKontinuierlich laufender Kurs\, Einstieg jederzeit möglich\nKursgebühr:\n8\,00 € pro Trainingseinheit + Mitgliedschaft bei den Landfrauen Jagstheim\nOrt:\nJagstauenhalle\, Jagstheimer Hauptstraße 157\, 74564 Crailsheim\nMitzubringen:\nBequeme Sportkleidung\, Getränk\nVerbindliche Anmeldung:\nBei Kathrin Lenz (0176.426 01912) \n 
URL:https://jagstheim.de/event/kick-4-fit-ist-ein-fitmachprogramm/2025-01-01/
LOCATION:Jagstauenhalle\, Jagstheimer Hauptstraße 157\, Crailsheim\, Baden-Württemberg\, 74564\, Deutschland
CATEGORIES:Landfrauen,Sportliches,Verein
END:VEVENT
BEGIN:VEVENT
DTSTART;TZID=Europe/Helsinki:20250108T181500
DTEND;TZID=Europe/Helsinki:20250108T193000
DTSTAMP:20260426T065942
CREATED:20230825T194007Z
LAST-MODIFIED:20240107T123230Z
UID:10000871-1736360100-1736364600@jagstheim.de
SUMMARY:KICK 4 Fit ist ein Fitmachprogramm
DESCRIPTION:KICK 4 Fit ist ein Fitmachprogramm mit dynamischen Elementen aus der Kampfsportart Taekwondo.\nVöllig gewaltfrei trainieren wir mit Jung und Alt unsere Schnelligkeit\, Ausdauer\, Kraft und Koordination.\nWir verbessern unsere Reaktions- und Leistungsfähigkeit und stimulieren Nervensystem\, Muskeln\, Sehnen und Gelenke auf äußerst dynamische Art und Weise.\nNach den Sommerferien geht’s weiter — die perfekte Möglichkeit für dich\, um einzusteigen!\nMACH MIT! AB 13. SEPTEMBER 2023\, 18.15 – 19.30 UHR\nTrainer:\nPascal Mele\, 5. Dan TKD & Isabell Schäfer\, 3. Dan TKD\nBeginn:\nMittwoch 13. September 2023\, je 18.15 – 19.30 Uhr\nAblauf:\nKontinuierlich laufender Kurs\, Einstieg jederzeit möglich\nKursgebühr:\n8\,00 € pro Trainingseinheit + Mitgliedschaft bei den Landfrauen Jagstheim\nOrt:\nJagstauenhalle\, Jagstheimer Hauptstraße 157\, 74564 Crailsheim\nMitzubringen:\nBequeme Sportkleidung\, Getränk\nVerbindliche Anmeldung:\nBei Kathrin Lenz (0176.426 01912) \n 
URL:https://jagstheim.de/event/kick-4-fit-ist-ein-fitmachprogramm/2025-01-08/
LOCATION:Jagstauenhalle\, Jagstheimer Hauptstraße 157\, Crailsheim\, Baden-Württemberg\, 74564\, Deutschland
CATEGORIES:Landfrauen,Sportliches,Verein
END:VEVENT
BEGIN:VEVENT
DTSTART;TZID=Europe/Helsinki:20250115T180000
DTEND;TZID=Europe/Helsinki:20250115T200000
DTSTAMP:20260426T065942
CREATED:20250102T080150Z
LAST-MODIFIED:20250102T080150Z
UID:10007333-1736964000-1736971200@jagstheim.de
SUMMARY:Kreativ Patchwork
DESCRIPTION: 
URL:https://jagstheim.de/event/kreativ-patchwork/
CATEGORIES:Landfrauen,Verein
ATTACH;FMTTYPE=image/jpeg:https://jagstheim.de/wp-content/uploads/2025/01/quilt_640.jpg
END:VEVENT
BEGIN:VEVENT
DTSTART;TZID=Europe/Helsinki:20250115T181500
DTEND;TZID=Europe/Helsinki:20250115T193000
DTSTAMP:20260426T065942
CREATED:20230825T194007Z
LAST-MODIFIED:20240107T123230Z
UID:10000872-1736964900-1736969400@jagstheim.de
SUMMARY:KICK 4 Fit ist ein Fitmachprogramm
DESCRIPTION:KICK 4 Fit ist ein Fitmachprogramm mit dynamischen Elementen aus der Kampfsportart Taekwondo.\nVöllig gewaltfrei trainieren wir mit Jung und Alt unsere Schnelligkeit\, Ausdauer\, Kraft und Koordination.\nWir verbessern unsere Reaktions- und Leistungsfähigkeit und stimulieren Nervensystem\, Muskeln\, Sehnen und Gelenke auf äußerst dynamische Art und Weise.\nNach den Sommerferien geht’s weiter — die perfekte Möglichkeit für dich\, um einzusteigen!\nMACH MIT! AB 13. SEPTEMBER 2023\, 18.15 – 19.30 UHR\nTrainer:\nPascal Mele\, 5. Dan TKD & Isabell Schäfer\, 3. Dan TKD\nBeginn:\nMittwoch 13. September 2023\, je 18.15 – 19.30 Uhr\nAblauf:\nKontinuierlich laufender Kurs\, Einstieg jederzeit möglich\nKursgebühr:\n8\,00 € pro Trainingseinheit + Mitgliedschaft bei den Landfrauen Jagstheim\nOrt:\nJagstauenhalle\, Jagstheimer Hauptstraße 157\, 74564 Crailsheim\nMitzubringen:\nBequeme Sportkleidung\, Getränk\nVerbindliche Anmeldung:\nBei Kathrin Lenz (0176.426 01912) \n 
URL:https://jagstheim.de/event/kick-4-fit-ist-ein-fitmachprogramm/2025-01-15/
LOCATION:Jagstauenhalle\, Jagstheimer Hauptstraße 157\, Crailsheim\, Baden-Württemberg\, 74564\, Deutschland
CATEGORIES:Landfrauen,Sportliches,Verein
END:VEVENT
BEGIN:VEVENT
DTSTART;TZID=Europe/Helsinki:20250122T181500
DTEND;TZID=Europe/Helsinki:20250122T193000
DTSTAMP:20260426T065942
CREATED:20230825T194007Z
LAST-MODIFIED:20240107T123230Z
UID:10000873-1737569700-1737574200@jagstheim.de
SUMMARY:KICK 4 Fit ist ein Fitmachprogramm
DESCRIPTION:KICK 4 Fit ist ein Fitmachprogramm mit dynamischen Elementen aus der Kampfsportart Taekwondo.\nVöllig gewaltfrei trainieren wir mit Jung und Alt unsere Schnelligkeit\, Ausdauer\, Kraft und Koordination.\nWir verbessern unsere Reaktions- und Leistungsfähigkeit und stimulieren Nervensystem\, Muskeln\, Sehnen und Gelenke auf äußerst dynamische Art und Weise.\nNach den Sommerferien geht’s weiter — die perfekte Möglichkeit für dich\, um einzusteigen!\nMACH MIT! AB 13. SEPTEMBER 2023\, 18.15 – 19.30 UHR\nTrainer:\nPascal Mele\, 5. Dan TKD & Isabell Schäfer\, 3. Dan TKD\nBeginn:\nMittwoch 13. September 2023\, je 18.15 – 19.30 Uhr\nAblauf:\nKontinuierlich laufender Kurs\, Einstieg jederzeit möglich\nKursgebühr:\n8\,00 € pro Trainingseinheit + Mitgliedschaft bei den Landfrauen Jagstheim\nOrt:\nJagstauenhalle\, Jagstheimer Hauptstraße 157\, 74564 Crailsheim\nMitzubringen:\nBequeme Sportkleidung\, Getränk\nVerbindliche Anmeldung:\nBei Kathrin Lenz (0176.426 01912) \n 
URL:https://jagstheim.de/event/kick-4-fit-ist-ein-fitmachprogramm/2025-01-22/
LOCATION:Jagstauenhalle\, Jagstheimer Hauptstraße 157\, Crailsheim\, Baden-Württemberg\, 74564\, Deutschland
CATEGORIES:Landfrauen,Sportliches,Verein
END:VEVENT
BEGIN:VEVENT
DTSTART;TZID=Europe/Helsinki:20250122T190000
DTEND;TZID=Europe/Helsinki:20250122T210000
DTSTAMP:20260426T065942
CREATED:20250102T080914Z
LAST-MODIFIED:20250102T080914Z
UID:10007344-1737572400-1737579600@jagstheim.de
SUMMARY:Bloozessen
DESCRIPTION: 
URL:https://jagstheim.de/event/bloozessen/
CATEGORIES:Landfrauen,Verein
END:VEVENT
BEGIN:VEVENT
DTSTART;TZID=Europe/Helsinki:20250128T140000
DTEND;TZID=Europe/Helsinki:20250128T170000
DTSTAMP:20260426T065942
CREATED:20250102T090257Z
LAST-MODIFIED:20250102T090257Z
UID:10007355-1738072800-1738083600@jagstheim.de
SUMMARY:Betriebsführung Milchwerk
DESCRIPTION: 
URL:https://jagstheim.de/event/betriebsfuehrung-milchwerk/
CATEGORIES:Landfrauen,Verein
ATTACH;FMTTYPE=image/jpeg:https://jagstheim.de/wp-content/uploads/2025/01/milk_640.jpeg
END:VEVENT
BEGIN:VEVENT
DTSTART;TZID=Europe/Helsinki:20250129T181500
DTEND;TZID=Europe/Helsinki:20250129T193000
DTSTAMP:20260426T065942
CREATED:20230825T194007Z
LAST-MODIFIED:20240107T123230Z
UID:10000874-1738174500-1738179000@jagstheim.de
SUMMARY:KICK 4 Fit ist ein Fitmachprogramm
DESCRIPTION:KICK 4 Fit ist ein Fitmachprogramm mit dynamischen Elementen aus der Kampfsportart Taekwondo.\nVöllig gewaltfrei trainieren wir mit Jung und Alt unsere Schnelligkeit\, Ausdauer\, Kraft und Koordination.\nWir verbessern unsere Reaktions- und Leistungsfähigkeit und stimulieren Nervensystem\, Muskeln\, Sehnen und Gelenke auf äußerst dynamische Art und Weise.\nNach den Sommerferien geht’s weiter — die perfekte Möglichkeit für dich\, um einzusteigen!\nMACH MIT! AB 13. SEPTEMBER 2023\, 18.15 – 19.30 UHR\nTrainer:\nPascal Mele\, 5. Dan TKD & Isabell Schäfer\, 3. Dan TKD\nBeginn:\nMittwoch 13. September 2023\, je 18.15 – 19.30 Uhr\nAblauf:\nKontinuierlich laufender Kurs\, Einstieg jederzeit möglich\nKursgebühr:\n8\,00 € pro Trainingseinheit + Mitgliedschaft bei den Landfrauen Jagstheim\nOrt:\nJagstauenhalle\, Jagstheimer Hauptstraße 157\, 74564 Crailsheim\nMitzubringen:\nBequeme Sportkleidung\, Getränk\nVerbindliche Anmeldung:\nBei Kathrin Lenz (0176.426 01912) \n 
URL:https://jagstheim.de/event/kick-4-fit-ist-ein-fitmachprogramm/2025-01-29/
LOCATION:Jagstauenhalle\, Jagstheimer Hauptstraße 157\, Crailsheim\, Baden-Württemberg\, 74564\, Deutschland
CATEGORIES:Landfrauen,Sportliches,Verein
END:VEVENT
END:VCALENDAR