BEGIN:VCALENDAR
VERSION:2.0
PRODID:-//Jagstheim - ECPv6.15.20//NONSGML v1.0//EN
CALSCALE:GREGORIAN
METHOD:PUBLISH
X-WR-CALNAME:Jagstheim
X-ORIGINAL-URL:https://jagstheim.de
X-WR-CALDESC:Veranstaltungen für Jagstheim
REFRESH-INTERVAL;VALUE=DURATION:PT1H
X-Robots-Tag:noindex
X-PUBLISHED-TTL:PT1H
BEGIN:VTIMEZONE
TZID:Europe/Helsinki
BEGIN:DAYLIGHT
TZOFFSETFROM:+0200
TZOFFSETTO:+0300
TZNAME:EEST
DTSTART:20240331T010000
END:DAYLIGHT
BEGIN:STANDARD
TZOFFSETFROM:+0300
TZOFFSETTO:+0200
TZNAME:EET
DTSTART:20241027T010000
END:STANDARD
BEGIN:DAYLIGHT
TZOFFSETFROM:+0200
TZOFFSETTO:+0300
TZNAME:EEST
DTSTART:20250330T010000
END:DAYLIGHT
BEGIN:STANDARD
TZOFFSETFROM:+0300
TZOFFSETTO:+0200
TZNAME:EET
DTSTART:20251026T010000
END:STANDARD
BEGIN:DAYLIGHT
TZOFFSETFROM:+0200
TZOFFSETTO:+0300
TZNAME:EEST
DTSTART:20260329T010000
END:DAYLIGHT
BEGIN:STANDARD
TZOFFSETFROM:+0300
TZOFFSETTO:+0200
TZNAME:EET
DTSTART:20261025T010000
END:STANDARD
END:VTIMEZONE
BEGIN:VEVENT
DTSTART;TZID=Europe/Helsinki:20251203T181500
DTEND;TZID=Europe/Helsinki:20251203T193000
DTSTAMP:20260420T044403
CREATED:20230825T194007Z
LAST-MODIFIED:20240107T123230Z
UID:10000918-1764785700-1764790200@jagstheim.de
SUMMARY:KICK 4 Fit ist ein Fitmachprogramm
DESCRIPTION:KICK 4 Fit ist ein Fitmachprogramm mit dynamischen Elementen aus der Kampfsportart Taekwondo.\nVöllig gewaltfrei trainieren wir mit Jung und Alt unsere Schnelligkeit\, Ausdauer\, Kraft und Koordination.\nWir verbessern unsere Reaktions- und Leistungsfähigkeit und stimulieren Nervensystem\, Muskeln\, Sehnen und Gelenke auf äußerst dynamische Art und Weise.\nNach den Sommerferien geht’s weiter — die perfekte Möglichkeit für dich\, um einzusteigen!\nMACH MIT! AB 13. SEPTEMBER 2023\, 18.15 – 19.30 UHR\nTrainer:\nPascal Mele\, 5. Dan TKD & Isabell Schäfer\, 3. Dan TKD\nBeginn:\nMittwoch 13. September 2023\, je 18.15 – 19.30 Uhr\nAblauf:\nKontinuierlich laufender Kurs\, Einstieg jederzeit möglich\nKursgebühr:\n8\,00 € pro Trainingseinheit + Mitgliedschaft bei den Landfrauen Jagstheim\nOrt:\nJagstauenhalle\, Jagstheimer Hauptstraße 157\, 74564 Crailsheim\nMitzubringen:\nBequeme Sportkleidung\, Getränk\nVerbindliche Anmeldung:\nBei Kathrin Lenz (0176.426 01912) \n 
URL:https://jagstheim.de/event/kick-4-fit-ist-ein-fitmachprogramm/2025-12-03/
LOCATION:Jagstauenhalle\, Jagstheimer Hauptstraße 157\, Crailsheim\, Baden-Württemberg\, 74564\, Deutschland
CATEGORIES:Landfrauen,Sportliches,Verein
END:VEVENT
BEGIN:VEVENT
DTSTART;TZID=Europe/Helsinki:20251210T181500
DTEND;TZID=Europe/Helsinki:20251210T193000
DTSTAMP:20260420T044403
CREATED:20230825T194007Z
LAST-MODIFIED:20240107T123230Z
UID:10000919-1765390500-1765395000@jagstheim.de
SUMMARY:KICK 4 Fit ist ein Fitmachprogramm
DESCRIPTION:KICK 4 Fit ist ein Fitmachprogramm mit dynamischen Elementen aus der Kampfsportart Taekwondo.\nVöllig gewaltfrei trainieren wir mit Jung und Alt unsere Schnelligkeit\, Ausdauer\, Kraft und Koordination.\nWir verbessern unsere Reaktions- und Leistungsfähigkeit und stimulieren Nervensystem\, Muskeln\, Sehnen und Gelenke auf äußerst dynamische Art und Weise.\nNach den Sommerferien geht’s weiter — die perfekte Möglichkeit für dich\, um einzusteigen!\nMACH MIT! AB 13. SEPTEMBER 2023\, 18.15 – 19.30 UHR\nTrainer:\nPascal Mele\, 5. Dan TKD & Isabell Schäfer\, 3. Dan TKD\nBeginn:\nMittwoch 13. September 2023\, je 18.15 – 19.30 Uhr\nAblauf:\nKontinuierlich laufender Kurs\, Einstieg jederzeit möglich\nKursgebühr:\n8\,00 € pro Trainingseinheit + Mitgliedschaft bei den Landfrauen Jagstheim\nOrt:\nJagstauenhalle\, Jagstheimer Hauptstraße 157\, 74564 Crailsheim\nMitzubringen:\nBequeme Sportkleidung\, Getränk\nVerbindliche Anmeldung:\nBei Kathrin Lenz (0176.426 01912) \n 
URL:https://jagstheim.de/event/kick-4-fit-ist-ein-fitmachprogramm/2025-12-10/
LOCATION:Jagstauenhalle\, Jagstheimer Hauptstraße 157\, Crailsheim\, Baden-Württemberg\, 74564\, Deutschland
CATEGORIES:Landfrauen,Sportliches,Verein
END:VEVENT
BEGIN:VEVENT
DTSTART;TZID=Europe/Helsinki:20251217T181500
DTEND;TZID=Europe/Helsinki:20251217T193000
DTSTAMP:20260420T044403
CREATED:20230825T194007Z
LAST-MODIFIED:20240107T123230Z
UID:10000920-1765995300-1765999800@jagstheim.de
SUMMARY:KICK 4 Fit ist ein Fitmachprogramm
DESCRIPTION:KICK 4 Fit ist ein Fitmachprogramm mit dynamischen Elementen aus der Kampfsportart Taekwondo.\nVöllig gewaltfrei trainieren wir mit Jung und Alt unsere Schnelligkeit\, Ausdauer\, Kraft und Koordination.\nWir verbessern unsere Reaktions- und Leistungsfähigkeit und stimulieren Nervensystem\, Muskeln\, Sehnen und Gelenke auf äußerst dynamische Art und Weise.\nNach den Sommerferien geht’s weiter — die perfekte Möglichkeit für dich\, um einzusteigen!\nMACH MIT! AB 13. SEPTEMBER 2023\, 18.15 – 19.30 UHR\nTrainer:\nPascal Mele\, 5. Dan TKD & Isabell Schäfer\, 3. Dan TKD\nBeginn:\nMittwoch 13. September 2023\, je 18.15 – 19.30 Uhr\nAblauf:\nKontinuierlich laufender Kurs\, Einstieg jederzeit möglich\nKursgebühr:\n8\,00 € pro Trainingseinheit + Mitgliedschaft bei den Landfrauen Jagstheim\nOrt:\nJagstauenhalle\, Jagstheimer Hauptstraße 157\, 74564 Crailsheim\nMitzubringen:\nBequeme Sportkleidung\, Getränk\nVerbindliche Anmeldung:\nBei Kathrin Lenz (0176.426 01912) \n 
URL:https://jagstheim.de/event/kick-4-fit-ist-ein-fitmachprogramm/2025-12-17/
LOCATION:Jagstauenhalle\, Jagstheimer Hauptstraße 157\, Crailsheim\, Baden-Württemberg\, 74564\, Deutschland
CATEGORIES:Landfrauen,Sportliches,Verein
END:VEVENT
BEGIN:VEVENT
DTSTART;TZID=Europe/Helsinki:20251224T181500
DTEND;TZID=Europe/Helsinki:20251224T193000
DTSTAMP:20260420T044403
CREATED:20230825T194007Z
LAST-MODIFIED:20240107T123230Z
UID:10000921-1766600100-1766604600@jagstheim.de
SUMMARY:KICK 4 Fit ist ein Fitmachprogramm
DESCRIPTION:KICK 4 Fit ist ein Fitmachprogramm mit dynamischen Elementen aus der Kampfsportart Taekwondo.\nVöllig gewaltfrei trainieren wir mit Jung und Alt unsere Schnelligkeit\, Ausdauer\, Kraft und Koordination.\nWir verbessern unsere Reaktions- und Leistungsfähigkeit und stimulieren Nervensystem\, Muskeln\, Sehnen und Gelenke auf äußerst dynamische Art und Weise.\nNach den Sommerferien geht’s weiter — die perfekte Möglichkeit für dich\, um einzusteigen!\nMACH MIT! AB 13. SEPTEMBER 2023\, 18.15 – 19.30 UHR\nTrainer:\nPascal Mele\, 5. Dan TKD & Isabell Schäfer\, 3. Dan TKD\nBeginn:\nMittwoch 13. September 2023\, je 18.15 – 19.30 Uhr\nAblauf:\nKontinuierlich laufender Kurs\, Einstieg jederzeit möglich\nKursgebühr:\n8\,00 € pro Trainingseinheit + Mitgliedschaft bei den Landfrauen Jagstheim\nOrt:\nJagstauenhalle\, Jagstheimer Hauptstraße 157\, 74564 Crailsheim\nMitzubringen:\nBequeme Sportkleidung\, Getränk\nVerbindliche Anmeldung:\nBei Kathrin Lenz (0176.426 01912) \n 
URL:https://jagstheim.de/event/kick-4-fit-ist-ein-fitmachprogramm/2025-12-24/
LOCATION:Jagstauenhalle\, Jagstheimer Hauptstraße 157\, Crailsheim\, Baden-Württemberg\, 74564\, Deutschland
CATEGORIES:Landfrauen,Sportliches,Verein
END:VEVENT
BEGIN:VEVENT
DTSTART;TZID=Europe/Helsinki:20251231T181500
DTEND;TZID=Europe/Helsinki:20251231T193000
DTSTAMP:20260420T044403
CREATED:20230825T194007Z
LAST-MODIFIED:20240107T123230Z
UID:10000922-1767204900-1767209400@jagstheim.de
SUMMARY:KICK 4 Fit ist ein Fitmachprogramm
DESCRIPTION:KICK 4 Fit ist ein Fitmachprogramm mit dynamischen Elementen aus der Kampfsportart Taekwondo.\nVöllig gewaltfrei trainieren wir mit Jung und Alt unsere Schnelligkeit\, Ausdauer\, Kraft und Koordination.\nWir verbessern unsere Reaktions- und Leistungsfähigkeit und stimulieren Nervensystem\, Muskeln\, Sehnen und Gelenke auf äußerst dynamische Art und Weise.\nNach den Sommerferien geht’s weiter — die perfekte Möglichkeit für dich\, um einzusteigen!\nMACH MIT! AB 13. SEPTEMBER 2023\, 18.15 – 19.30 UHR\nTrainer:\nPascal Mele\, 5. Dan TKD & Isabell Schäfer\, 3. Dan TKD\nBeginn:\nMittwoch 13. September 2023\, je 18.15 – 19.30 Uhr\nAblauf:\nKontinuierlich laufender Kurs\, Einstieg jederzeit möglich\nKursgebühr:\n8\,00 € pro Trainingseinheit + Mitgliedschaft bei den Landfrauen Jagstheim\nOrt:\nJagstauenhalle\, Jagstheimer Hauptstraße 157\, 74564 Crailsheim\nMitzubringen:\nBequeme Sportkleidung\, Getränk\nVerbindliche Anmeldung:\nBei Kathrin Lenz (0176.426 01912) \n 
URL:https://jagstheim.de/event/kick-4-fit-ist-ein-fitmachprogramm/2025-12-31/
LOCATION:Jagstauenhalle\, Jagstheimer Hauptstraße 157\, Crailsheim\, Baden-Württemberg\, 74564\, Deutschland
CATEGORIES:Landfrauen,Sportliches,Verein
END:VEVENT
END:VCALENDAR