BEGIN:VCALENDAR
VERSION:2.0
PRODID:-//Jagstheim - ECPv6.15.20//NONSGML v1.0//EN
CALSCALE:GREGORIAN
METHOD:PUBLISH
X-WR-CALNAME:Jagstheim
X-ORIGINAL-URL:https://jagstheim.de
X-WR-CALDESC:Veranstaltungen für Jagstheim
REFRESH-INTERVAL;VALUE=DURATION:PT1H
X-Robots-Tag:noindex
X-PUBLISHED-TTL:PT1H
BEGIN:VTIMEZONE
TZID:Europe/Helsinki
BEGIN:DAYLIGHT
TZOFFSETFROM:+0200
TZOFFSETTO:+0300
TZNAME:EEST
DTSTART:20220327T010000
END:DAYLIGHT
BEGIN:STANDARD
TZOFFSETFROM:+0300
TZOFFSETTO:+0200
TZNAME:EET
DTSTART:20221030T010000
END:STANDARD
BEGIN:DAYLIGHT
TZOFFSETFROM:+0200
TZOFFSETTO:+0300
TZNAME:EEST
DTSTART:20230326T010000
END:DAYLIGHT
BEGIN:STANDARD
TZOFFSETFROM:+0300
TZOFFSETTO:+0200
TZNAME:EET
DTSTART:20231029T010000
END:STANDARD
BEGIN:DAYLIGHT
TZOFFSETFROM:+0200
TZOFFSETTO:+0300
TZNAME:EEST
DTSTART:20240331T010000
END:DAYLIGHT
BEGIN:STANDARD
TZOFFSETFROM:+0300
TZOFFSETTO:+0200
TZNAME:EET
DTSTART:20241027T010000
END:STANDARD
BEGIN:DAYLIGHT
TZOFFSETFROM:+0200
TZOFFSETTO:+0300
TZNAME:EEST
DTSTART:20250330T010000
END:DAYLIGHT
BEGIN:STANDARD
TZOFFSETFROM:+0300
TZOFFSETTO:+0200
TZNAME:EET
DTSTART:20251026T010000
END:STANDARD
END:VTIMEZONE
BEGIN:VEVENT
DTSTART;VALUE=DATE:20230901
DTEND;VALUE=DATE:20230902
DTSTAMP:20260425T193711
CREATED:20230525T180315Z
LAST-MODIFIED:20230711T143112Z
UID:10000017-1693526400-1693612799@jagstheim.de
SUMMARY:Gelber Sack und Papiertonne
DESCRIPTION:Crailsheim – Bezirk 4 \nLandkreis Schwäbisch Hall | Abfallkalender | (lrasha.de) \n 
URL:https://jagstheim.de/event/gelber-sack-und-papiertonne-4/
CATEGORIES:Müllentsorgung
ATTACH;FMTTYPE=image/webp:https://jagstheim.de/wp-content/uploads/2023/07/GelbPapier.webp
END:VEVENT
BEGIN:VEVENT
DTSTART;VALUE=DATE:20230905
DTEND;VALUE=DATE:20230906
DTSTAMP:20260425T193711
CREATED:20230525T180315Z
LAST-MODIFIED:20230711T143858Z
UID:10000018-1693872000-1693958399@jagstheim.de
SUMMARY:Biomüll und Restmüll
DESCRIPTION:Crailsheim – Bezirk 4 \nLandkreis Schwäbisch Hall | Abfallkalender | (lrasha.de) \n 
URL:https://jagstheim.de/event/biomuell-und-restmuell-8/
CATEGORIES:Müllentsorgung
ATTACH;FMTTYPE=image/webp:https://jagstheim.de/wp-content/uploads/2023/07/BioRest.webp
END:VEVENT
BEGIN:VEVENT
DTSTART;VALUE=DATE:20230919
DTEND;VALUE=DATE:20230920
DTSTAMP:20260425T193711
CREATED:20230526T080951Z
LAST-MODIFIED:20230711T143835Z
UID:10000031-1695081600-1695167999@jagstheim.de
SUMMARY:Biomüll und Restmüll
DESCRIPTION:Crailsheim – Bezirk 4 \nLandkreis Schwäbisch Hall | Abfallkalender | (lrasha.de) \n 
URL:https://jagstheim.de/event/biomuell-und-restmuell-9/
CATEGORIES:Müllentsorgung
ATTACH;FMTTYPE=image/webp:https://jagstheim.de/wp-content/uploads/2023/07/BioRest.webp
END:VEVENT
BEGIN:VEVENT
DTSTART;VALUE=DATE:20230929
DTEND;VALUE=DATE:20230930
DTSTAMP:20260425T193711
CREATED:20230526T080952Z
LAST-MODIFIED:20230711T143217Z
UID:10000032-1695945600-1696031999@jagstheim.de
SUMMARY:Gelber Sack und Papiertonne
DESCRIPTION:Crailsheim – Bezirk 4 \nLandkreis Schwäbisch Hall | Abfallkalender | (lrasha.de) \n 
URL:https://jagstheim.de/event/gelber-sack-und-papiertonne-5/
CATEGORIES:Müllentsorgung
ATTACH;FMTTYPE=image/webp:https://jagstheim.de/wp-content/uploads/2023/07/GelbPapier.webp
END:VEVENT
BEGIN:VEVENT
DTSTART;VALUE=DATE:20230930
DTEND;VALUE=DATE:20231001
DTSTAMP:20260425T193711
CREATED:20230526T080952Z
LAST-MODIFIED:20230711T143816Z
UID:10000033-1696032000-1696118399@jagstheim.de
SUMMARY:Biomüll und Restmüll
DESCRIPTION:Crailsheim – Bezirk 4 \nLandkreis Schwäbisch Hall | Abfallkalender | (lrasha.de) \n 
URL:https://jagstheim.de/event/biomuell-und-restmuell-10/
CATEGORIES:Müllentsorgung
ATTACH;FMTTYPE=image/webp:https://jagstheim.de/wp-content/uploads/2023/07/BioRest.webp
END:VEVENT
BEGIN:VEVENT
DTSTART;VALUE=DATE:20231017
DTEND;VALUE=DATE:20231018
DTSTAMP:20260425T193711
CREATED:20230526T080953Z
LAST-MODIFIED:20230711T143756Z
UID:10000034-1697500800-1697587199@jagstheim.de
SUMMARY:Biomüll und Restmüll
DESCRIPTION:Crailsheim – Bezirk 4 \nLandkreis Schwäbisch Hall | Abfallkalender | (lrasha.de) \n 
URL:https://jagstheim.de/event/biomuell-und-restmuell-11/
CATEGORIES:Müllentsorgung
ATTACH;FMTTYPE=image/webp:https://jagstheim.de/wp-content/uploads/2023/07/BioRest.webp
END:VEVENT
BEGIN:VEVENT
DTSTART;VALUE=DATE:20231027
DTEND;VALUE=DATE:20231028
DTSTAMP:20260425T193711
CREATED:20230526T080953Z
LAST-MODIFIED:20230711T143345Z
UID:10000035-1698364800-1698451199@jagstheim.de
SUMMARY:Gelber Sack und Papiertonne
DESCRIPTION:Crailsheim – Bezirk 4 \nLandkreis Schwäbisch Hall | Abfallkalender | (lrasha.de) \n 
URL:https://jagstheim.de/event/gelber-sack-und-papiertonne-6/
CATEGORIES:Müllentsorgung
ATTACH;FMTTYPE=image/webp:https://jagstheim.de/wp-content/uploads/2023/07/GelbPapier.webp
END:VEVENT
BEGIN:VEVENT
DTSTART;VALUE=DATE:20231031
DTEND;VALUE=DATE:20231101
DTSTAMP:20260425T193711
CREATED:20230526T080956Z
LAST-MODIFIED:20230711T143735Z
UID:10000036-1698710400-1698796799@jagstheim.de
SUMMARY:Biomüll und Restmüll
DESCRIPTION:Crailsheim – Bezirk 4 \nLandkreis Schwäbisch Hall | Abfallkalender | (lrasha.de) \n 
URL:https://jagstheim.de/event/biomuell-und-restmuell-12/
CATEGORIES:Müllentsorgung
ATTACH;FMTTYPE=image/webp:https://jagstheim.de/wp-content/uploads/2023/07/BioRest.webp
END:VEVENT
BEGIN:VEVENT
DTSTART;VALUE=DATE:20231114
DTEND;VALUE=DATE:20231115
DTSTAMP:20260425T193711
CREATED:20230526T080957Z
LAST-MODIFIED:20230711T143715Z
UID:10000037-1699920000-1700006399@jagstheim.de
SUMMARY:Biomüll und Restmüll
DESCRIPTION:Crailsheim – Bezirk 4 \nLandkreis Schwäbisch Hall | Abfallkalender | (lrasha.de) \n 
URL:https://jagstheim.de/event/biomuell-und-restmuell-13/
CATEGORIES:Müllentsorgung
ATTACH;FMTTYPE=image/webp:https://jagstheim.de/wp-content/uploads/2023/07/BioRest.webp
END:VEVENT
BEGIN:VEVENT
DTSTART;VALUE=DATE:20231124
DTEND;VALUE=DATE:20231125
DTSTAMP:20260425T193711
CREATED:20230526T080957Z
LAST-MODIFIED:20230711T141832Z
UID:10000038-1700784000-1700870399@jagstheim.de
SUMMARY:Gelber Sack und Papiertonne
DESCRIPTION:Crailsheim – Bezirk 4 \nLandkreis Schwäbisch Hall | Abfallkalender | (lrasha.de) \n 
URL:https://jagstheim.de/event/gelber-sack-und-papiertonne-7/
CATEGORIES:Müllentsorgung
ATTACH;FMTTYPE=image/webp:https://jagstheim.de/wp-content/uploads/2023/07/GelbPapier.webp
END:VEVENT
BEGIN:VEVENT
DTSTART;VALUE=DATE:20231128
DTEND;VALUE=DATE:20231129
DTSTAMP:20260425T193711
CREATED:20230526T080958Z
LAST-MODIFIED:20230711T143657Z
UID:10000039-1701129600-1701215999@jagstheim.de
SUMMARY:Biomüll und Restmüll
DESCRIPTION:Crailsheim – Bezirk 4 \nLandkreis Schwäbisch Hall | Abfallkalender | (lrasha.de) \n 
URL:https://jagstheim.de/event/biomuell-und-restmuell-14/
CATEGORIES:Müllentsorgung
ATTACH;FMTTYPE=image/webp:https://jagstheim.de/wp-content/uploads/2023/07/BioRest.webp
END:VEVENT
BEGIN:VEVENT
DTSTART;VALUE=DATE:20231212
DTEND;VALUE=DATE:20231213
DTSTAMP:20260425T193711
CREATED:20230526T080958Z
LAST-MODIFIED:20230711T143629Z
UID:10000040-1702339200-1702425599@jagstheim.de
SUMMARY:Biomüll und Restmüll
DESCRIPTION:Crailsheim – Bezirk 4 \nLandkreis Schwäbisch Hall | Abfallkalender | (lrasha.de) \n 
URL:https://jagstheim.de/event/biomuell-und-restmuell-15/
CATEGORIES:Müllentsorgung
ATTACH;FMTTYPE=image/webp:https://jagstheim.de/wp-content/uploads/2023/07/BioRest.webp
END:VEVENT
BEGIN:VEVENT
DTSTART;VALUE=DATE:20231222
DTEND;VALUE=DATE:20231223
DTSTAMP:20260425T193711
CREATED:20230526T081659Z
LAST-MODIFIED:20230710T125741Z
UID:10000043-1703203200-1703289599@jagstheim.de
SUMMARY:Gelber Sack und Papiertonne
DESCRIPTION:Crailsheim – Bezirk 4 \nLandkreis Schwäbisch Hall | Abfallkalender | (lrasha.de) \n 
URL:https://jagstheim.de/event/gelber-sack-und-papiertonne-8/
CATEGORIES:Müllentsorgung
ATTACH;FMTTYPE=image/webp:https://jagstheim.de/wp-content/uploads/2023/07/GelbPapier.webp
END:VEVENT
BEGIN:VEVENT
DTSTART;VALUE=DATE:20231228
DTEND;VALUE=DATE:20231229
DTSTAMP:20260425T193711
CREATED:20230526T081700Z
LAST-MODIFIED:20230711T143607Z
UID:10000044-1703721600-1703807999@jagstheim.de
SUMMARY:Biomüll und Restmüll
DESCRIPTION:Crailsheim – Bezirk 4 \nLandkreis Schwäbisch Hall | Abfallkalender | (lrasha.de) \n 
URL:https://jagstheim.de/event/biomuell-und-restmuell-16/
CATEGORIES:Müllentsorgung
ATTACH;FMTTYPE=image/webp:https://jagstheim.de/wp-content/uploads/2023/07/BioRest.webp
END:VEVENT
BEGIN:VEVENT
DTSTART;VALUE=DATE:20240109
DTEND;VALUE=DATE:20240110
DTSTAMP:20260425T193711
CREATED:20231210T173700Z
LAST-MODIFIED:20250205T062356Z
UID:10003685-1704758400-1704844799@jagstheim.de
SUMMARY:Biomüll und Restmüll
DESCRIPTION:Crailsheim – Bezirk 4 \nAbfuhrtermine: Landkreis Schwäbisch Hall \n  \n 
URL:https://jagstheim.de/event/biomuell-und-restmuell-17/2024-01-09/
CATEGORIES:Müllentsorgung
ATTACH;FMTTYPE=image/webp:https://jagstheim.de/wp-content/uploads/2023/07/BioRest.webp
END:VEVENT
BEGIN:VEVENT
DTSTART;VALUE=DATE:20240119
DTEND;VALUE=DATE:20240120
DTSTAMP:20260425T193711
CREATED:20231210T174342Z
LAST-MODIFIED:20250205T062355Z
UID:10003971-1705622400-1705708799@jagstheim.de
SUMMARY:Gelber Sack und Papiertonne
DESCRIPTION:Crailsheim – Bezirk 4 \nLandkreis Schwäbisch Hall | Abfallkalender | (lrasha.de) \n 
URL:https://jagstheim.de/event/gelber-sack-und-papiertonne-9/2024-01-19/
CATEGORIES:Müllentsorgung
ATTACH;FMTTYPE=image/webp:https://jagstheim.de/wp-content/uploads/2023/07/GelbPapier.webp
END:VEVENT
BEGIN:VEVENT
DTSTART;VALUE=DATE:20240123
DTEND;VALUE=DATE:20240124
DTSTAMP:20260425T193711
CREATED:20231210T173700Z
LAST-MODIFIED:20250205T062356Z
UID:10003686-1705968000-1706054399@jagstheim.de
SUMMARY:Biomüll und Restmüll
DESCRIPTION:Crailsheim – Bezirk 4 \nAbfuhrtermine: Landkreis Schwäbisch Hall \n  \n 
URL:https://jagstheim.de/event/biomuell-und-restmuell-17/2024-01-23/
CATEGORIES:Müllentsorgung
ATTACH;FMTTYPE=image/webp:https://jagstheim.de/wp-content/uploads/2023/07/BioRest.webp
END:VEVENT
BEGIN:VEVENT
DTSTART;VALUE=DATE:20240206
DTEND;VALUE=DATE:20240207
DTSTAMP:20260425T193711
CREATED:20231210T173700Z
LAST-MODIFIED:20250205T062356Z
UID:10003687-1707177600-1707263999@jagstheim.de
SUMMARY:Biomüll und Restmüll
DESCRIPTION:Crailsheim – Bezirk 4 \nAbfuhrtermine: Landkreis Schwäbisch Hall \n  \n 
URL:https://jagstheim.de/event/biomuell-und-restmuell-17/2024-02-06/
CATEGORIES:Müllentsorgung
ATTACH;FMTTYPE=image/webp:https://jagstheim.de/wp-content/uploads/2023/07/BioRest.webp
END:VEVENT
BEGIN:VEVENT
DTSTART;VALUE=DATE:20240216
DTEND;VALUE=DATE:20240217
DTSTAMP:20260425T193711
CREATED:20231210T174342Z
LAST-MODIFIED:20250205T062355Z
UID:10003972-1708041600-1708127999@jagstheim.de
SUMMARY:Gelber Sack und Papiertonne
DESCRIPTION:Crailsheim – Bezirk 4 \nLandkreis Schwäbisch Hall | Abfallkalender | (lrasha.de) \n 
URL:https://jagstheim.de/event/gelber-sack-und-papiertonne-9/2024-02-16/
CATEGORIES:Müllentsorgung
ATTACH;FMTTYPE=image/webp:https://jagstheim.de/wp-content/uploads/2023/07/GelbPapier.webp
END:VEVENT
BEGIN:VEVENT
DTSTART;VALUE=DATE:20240220
DTEND;VALUE=DATE:20240221
DTSTAMP:20260425T193711
CREATED:20231210T173700Z
LAST-MODIFIED:20250205T062356Z
UID:10003688-1708387200-1708473599@jagstheim.de
SUMMARY:Biomüll und Restmüll
DESCRIPTION:Crailsheim – Bezirk 4 \nAbfuhrtermine: Landkreis Schwäbisch Hall \n  \n 
URL:https://jagstheim.de/event/biomuell-und-restmuell-17/2024-02-20/
CATEGORIES:Müllentsorgung
ATTACH;FMTTYPE=image/webp:https://jagstheim.de/wp-content/uploads/2023/07/BioRest.webp
END:VEVENT
BEGIN:VEVENT
DTSTART;VALUE=DATE:20240305
DTEND;VALUE=DATE:20240306
DTSTAMP:20260425T193711
CREATED:20231210T173700Z
LAST-MODIFIED:20250205T062356Z
UID:10003689-1709596800-1709683199@jagstheim.de
SUMMARY:Biomüll und Restmüll
DESCRIPTION:Crailsheim – Bezirk 4 \nAbfuhrtermine: Landkreis Schwäbisch Hall \n  \n 
URL:https://jagstheim.de/event/biomuell-und-restmuell-17/2024-03-05/
CATEGORIES:Müllentsorgung
ATTACH;FMTTYPE=image/webp:https://jagstheim.de/wp-content/uploads/2023/07/BioRest.webp
END:VEVENT
BEGIN:VEVENT
DTSTART;VALUE=DATE:20240315
DTEND;VALUE=DATE:20240316
DTSTAMP:20260425T193711
CREATED:20231210T174342Z
LAST-MODIFIED:20250205T062355Z
UID:10003973-1710460800-1710547199@jagstheim.de
SUMMARY:Gelber Sack und Papiertonne
DESCRIPTION:Crailsheim – Bezirk 4 \nLandkreis Schwäbisch Hall | Abfallkalender | (lrasha.de) \n 
URL:https://jagstheim.de/event/gelber-sack-und-papiertonne-9/2024-03-15/
CATEGORIES:Müllentsorgung
ATTACH;FMTTYPE=image/webp:https://jagstheim.de/wp-content/uploads/2023/07/GelbPapier.webp
END:VEVENT
BEGIN:VEVENT
DTSTART;VALUE=DATE:20240319
DTEND;VALUE=DATE:20240320
DTSTAMP:20260425T193711
CREATED:20231210T173700Z
LAST-MODIFIED:20250205T062356Z
UID:10003690-1710806400-1710892799@jagstheim.de
SUMMARY:Biomüll und Restmüll
DESCRIPTION:Crailsheim – Bezirk 4 \nAbfuhrtermine: Landkreis Schwäbisch Hall \n  \n 
URL:https://jagstheim.de/event/biomuell-und-restmuell-17/2024-03-19/
CATEGORIES:Müllentsorgung
ATTACH;FMTTYPE=image/webp:https://jagstheim.de/wp-content/uploads/2023/07/BioRest.webp
END:VEVENT
BEGIN:VEVENT
DTSTART;VALUE=DATE:20240402
DTEND;VALUE=DATE:20240403
DTSTAMP:20260425T193711
CREATED:20231210T173700Z
LAST-MODIFIED:20250205T062356Z
UID:10003691-1712016000-1712102399@jagstheim.de
SUMMARY:Biomüll und Restmüll
DESCRIPTION:Crailsheim – Bezirk 4 \nAbfuhrtermine: Landkreis Schwäbisch Hall \n  \n 
URL:https://jagstheim.de/event/biomuell-und-restmuell-17/2024-04-02/
CATEGORIES:Müllentsorgung
ATTACH;FMTTYPE=image/webp:https://jagstheim.de/wp-content/uploads/2023/07/BioRest.webp
END:VEVENT
BEGIN:VEVENT
DTSTART;VALUE=DATE:20240412
DTEND;VALUE=DATE:20240413
DTSTAMP:20260425T193711
CREATED:20231210T174342Z
LAST-MODIFIED:20250205T062355Z
UID:10003974-1712880000-1712966399@jagstheim.de
SUMMARY:Gelber Sack und Papiertonne
DESCRIPTION:Crailsheim – Bezirk 4 \nLandkreis Schwäbisch Hall | Abfallkalender | (lrasha.de) \n 
URL:https://jagstheim.de/event/gelber-sack-und-papiertonne-9/2024-04-12/
CATEGORIES:Müllentsorgung
ATTACH;FMTTYPE=image/webp:https://jagstheim.de/wp-content/uploads/2023/07/GelbPapier.webp
END:VEVENT
BEGIN:VEVENT
DTSTART;VALUE=DATE:20240416
DTEND;VALUE=DATE:20240417
DTSTAMP:20260425T193711
CREATED:20231210T173700Z
LAST-MODIFIED:20250205T062356Z
UID:10003692-1713225600-1713311999@jagstheim.de
SUMMARY:Biomüll und Restmüll
DESCRIPTION:Crailsheim – Bezirk 4 \nAbfuhrtermine: Landkreis Schwäbisch Hall \n  \n 
URL:https://jagstheim.de/event/biomuell-und-restmuell-17/2024-04-16/
CATEGORIES:Müllentsorgung
ATTACH;FMTTYPE=image/webp:https://jagstheim.de/wp-content/uploads/2023/07/BioRest.webp
END:VEVENT
BEGIN:VEVENT
DTSTART;VALUE=DATE:20240430
DTEND;VALUE=DATE:20240501
DTSTAMP:20260425T193711
CREATED:20231210T173700Z
LAST-MODIFIED:20250205T062356Z
UID:10003693-1714435200-1714521599@jagstheim.de
SUMMARY:Biomüll und Restmüll
DESCRIPTION:Crailsheim – Bezirk 4 \nAbfuhrtermine: Landkreis Schwäbisch Hall \n  \n 
URL:https://jagstheim.de/event/biomuell-und-restmuell-17/2024-04-30/
CATEGORIES:Müllentsorgung
ATTACH;FMTTYPE=image/webp:https://jagstheim.de/wp-content/uploads/2023/07/BioRest.webp
END:VEVENT
BEGIN:VEVENT
DTSTART;VALUE=DATE:20240510
DTEND;VALUE=DATE:20240511
DTSTAMP:20260425T193711
CREATED:20231210T174342Z
LAST-MODIFIED:20250205T062355Z
UID:10003975-1715299200-1715385599@jagstheim.de
SUMMARY:Gelber Sack und Papiertonne
DESCRIPTION:Crailsheim – Bezirk 4 \nLandkreis Schwäbisch Hall | Abfallkalender | (lrasha.de) \n 
URL:https://jagstheim.de/event/gelber-sack-und-papiertonne-9/2024-05-10/
CATEGORIES:Müllentsorgung
ATTACH;FMTTYPE=image/webp:https://jagstheim.de/wp-content/uploads/2023/07/GelbPapier.webp
END:VEVENT
BEGIN:VEVENT
DTSTART;VALUE=DATE:20240514
DTEND;VALUE=DATE:20240515
DTSTAMP:20260425T193711
CREATED:20231210T173700Z
LAST-MODIFIED:20250205T062356Z
UID:10003694-1715644800-1715731199@jagstheim.de
SUMMARY:Biomüll und Restmüll
DESCRIPTION:Crailsheim – Bezirk 4 \nAbfuhrtermine: Landkreis Schwäbisch Hall \n  \n 
URL:https://jagstheim.de/event/biomuell-und-restmuell-17/2024-05-14/
CATEGORIES:Müllentsorgung
ATTACH;FMTTYPE=image/webp:https://jagstheim.de/wp-content/uploads/2023/07/BioRest.webp
END:VEVENT
BEGIN:VEVENT
DTSTART;VALUE=DATE:20240528
DTEND;VALUE=DATE:20240529
DTSTAMP:20260425T193711
CREATED:20231210T173700Z
LAST-MODIFIED:20250205T062356Z
UID:10003695-1716854400-1716940799@jagstheim.de
SUMMARY:Biomüll und Restmüll
DESCRIPTION:Crailsheim – Bezirk 4 \nAbfuhrtermine: Landkreis Schwäbisch Hall \n  \n 
URL:https://jagstheim.de/event/biomuell-und-restmuell-17/2024-05-28/
CATEGORIES:Müllentsorgung
ATTACH;FMTTYPE=image/webp:https://jagstheim.de/wp-content/uploads/2023/07/BioRest.webp
END:VEVENT
END:VCALENDAR