BEGIN:VCALENDAR
VERSION:2.0
PRODID:-//Jagstheim - ECPv6.15.20//NONSGML v1.0//EN
CALSCALE:GREGORIAN
METHOD:PUBLISH
X-WR-CALNAME:Jagstheim
X-ORIGINAL-URL:https://jagstheim.de
X-WR-CALDESC:Veranstaltungen für Jagstheim
REFRESH-INTERVAL;VALUE=DURATION:PT1H
X-Robots-Tag:noindex
X-PUBLISHED-TTL:PT1H
BEGIN:VTIMEZONE
TZID:Europe/Helsinki
BEGIN:DAYLIGHT
TZOFFSETFROM:+0200
TZOFFSETTO:+0300
TZNAME:EEST
DTSTART:20270328T010000
END:DAYLIGHT
BEGIN:STANDARD
TZOFFSETFROM:+0300
TZOFFSETTO:+0200
TZNAME:EET
DTSTART:20271031T010000
END:STANDARD
BEGIN:DAYLIGHT
TZOFFSETFROM:+0200
TZOFFSETTO:+0300
TZNAME:EEST
DTSTART:20280326T010000
END:DAYLIGHT
BEGIN:STANDARD
TZOFFSETFROM:+0300
TZOFFSETTO:+0200
TZNAME:EET
DTSTART:20281029T010000
END:STANDARD
BEGIN:DAYLIGHT
TZOFFSETFROM:+0200
TZOFFSETTO:+0300
TZNAME:EEST
DTSTART:20290325T010000
END:DAYLIGHT
BEGIN:STANDARD
TZOFFSETFROM:+0300
TZOFFSETTO:+0200
TZNAME:EET
DTSTART:20291028T010000
END:STANDARD
END:VTIMEZONE
BEGIN:VEVENT
DTSTART;VALUE=DATE:20280601
DTEND;VALUE=DATE:20280602
DTSTAMP:20260425T143403
CREATED:20260308T105021Z
LAST-MODIFIED:20260308T105022Z
UID:10007878-1843430400-1843516799@jagstheim.de
SUMMARY:Gelber Sack und Papiertonne
DESCRIPTION:Crailsheim – Bezirk 4 \nAbfuhrtermine: Landkreis Schwäbisch Hall \n  \n 
URL:https://jagstheim.de/event/gelber-sack-und-papiertonne-10-2/2028-06-01/
CATEGORIES:Müllentsorgung
ATTACH;FMTTYPE=image/webp:https://jagstheim.de/wp-content/uploads/2023/07/GelbPapier.webp
END:VEVENT
BEGIN:VEVENT
DTSTART;VALUE=DATE:20280606
DTEND;VALUE=DATE:20280607
DTSTAMP:20260425T143403
CREATED:20250102T070320Z
LAST-MODIFIED:20250205T062354Z
UID:10005222-1843862400-1843948799@jagstheim.de
SUMMARY:Biomüll und Restmüll
DESCRIPTION:Crailsheim – Bezirk 4 \nAbfuhrtermine: Landkreis Schwäbisch Hall \n  \n 
URL:https://jagstheim.de/event/biomuell-und-restmuell-18/2028-06-06/
CATEGORIES:Müllentsorgung
ATTACH;FMTTYPE=image/webp:https://jagstheim.de/wp-content/uploads/2023/07/BioRest.webp
END:VEVENT
BEGIN:VEVENT
DTSTART;VALUE=DATE:20280620
DTEND;VALUE=DATE:20280621
DTSTAMP:20260425T143403
CREATED:20250102T070320Z
LAST-MODIFIED:20250205T062354Z
UID:10005223-1845072000-1845158399@jagstheim.de
SUMMARY:Biomüll und Restmüll
DESCRIPTION:Crailsheim – Bezirk 4 \nAbfuhrtermine: Landkreis Schwäbisch Hall \n  \n 
URL:https://jagstheim.de/event/biomuell-und-restmuell-18/2028-06-20/
CATEGORIES:Müllentsorgung
ATTACH;FMTTYPE=image/webp:https://jagstheim.de/wp-content/uploads/2023/07/BioRest.webp
END:VEVENT
BEGIN:VEVENT
DTSTART;VALUE=DATE:20280629
DTEND;VALUE=DATE:20280630
DTSTAMP:20260425T143403
CREATED:20260308T105021Z
LAST-MODIFIED:20260308T105022Z
UID:10007879-1845849600-1845935999@jagstheim.de
SUMMARY:Gelber Sack und Papiertonne
DESCRIPTION:Crailsheim – Bezirk 4 \nAbfuhrtermine: Landkreis Schwäbisch Hall \n  \n 
URL:https://jagstheim.de/event/gelber-sack-und-papiertonne-10-2/2028-06-29/
CATEGORIES:Müllentsorgung
ATTACH;FMTTYPE=image/webp:https://jagstheim.de/wp-content/uploads/2023/07/GelbPapier.webp
END:VEVENT
END:VCALENDAR