BEGIN:VCALENDAR
VERSION:2.0
PRODID:-//Jagstheim - ECPv6.15.20//NONSGML v1.0//EN
CALSCALE:GREGORIAN
METHOD:PUBLISH
X-ORIGINAL-URL:https://jagstheim.de
X-WR-CALDESC:Veranstaltungen für Jagstheim
REFRESH-INTERVAL;VALUE=DURATION:PT1H
X-Robots-Tag:noindex
X-PUBLISHED-TTL:PT1H
BEGIN:VTIMEZONE
TZID:Europe/Helsinki
BEGIN:DAYLIGHT
TZOFFSETFROM:+0200
TZOFFSETTO:+0300
TZNAME:EEST
DTSTART:20220327T010000
END:DAYLIGHT
BEGIN:STANDARD
TZOFFSETFROM:+0300
TZOFFSETTO:+0200
TZNAME:EET
DTSTART:20221030T010000
END:STANDARD
BEGIN:DAYLIGHT
TZOFFSETFROM:+0200
TZOFFSETTO:+0300
TZNAME:EEST
DTSTART:20230326T010000
END:DAYLIGHT
BEGIN:STANDARD
TZOFFSETFROM:+0300
TZOFFSETTO:+0200
TZNAME:EET
DTSTART:20231029T010000
END:STANDARD
BEGIN:DAYLIGHT
TZOFFSETFROM:+0200
TZOFFSETTO:+0300
TZNAME:EEST
DTSTART:20240331T010000
END:DAYLIGHT
BEGIN:STANDARD
TZOFFSETFROM:+0300
TZOFFSETTO:+0200
TZNAME:EET
DTSTART:20241027T010000
END:STANDARD
END:VTIMEZONE
BEGIN:VEVENT
DTSTART;VALUE=DATE:20231212
DTEND;VALUE=DATE:20231213
DTSTAMP:20260424T065544
CREATED:20230526T080958Z
LAST-MODIFIED:20230711T143629Z
UID:10000040-1702339200-1702425599@jagstheim.de
SUMMARY:Biomüll und Restmüll
DESCRIPTION:Crailsheim – Bezirk 4 \nLandkreis Schwäbisch Hall | Abfallkalender | (lrasha.de) \n 
URL:https://jagstheim.de/event/biomuell-und-restmuell-15/
CATEGORIES:Müllentsorgung
ATTACH;FMTTYPE=image/webp:https://jagstheim.de/wp-content/uploads/2023/07/BioRest.webp
END:VEVENT
BEGIN:VEVENT
DTSTART;VALUE=DATE:20231222
DTEND;VALUE=DATE:20231223
DTSTAMP:20260424T065544
CREATED:20230526T081659Z
LAST-MODIFIED:20230710T125741Z
UID:10000043-1703203200-1703289599@jagstheim.de
SUMMARY:Gelber Sack und Papiertonne
DESCRIPTION:Crailsheim – Bezirk 4 \nLandkreis Schwäbisch Hall | Abfallkalender | (lrasha.de) \n 
URL:https://jagstheim.de/event/gelber-sack-und-papiertonne-8/
CATEGORIES:Müllentsorgung
ATTACH;FMTTYPE=image/webp:https://jagstheim.de/wp-content/uploads/2023/07/GelbPapier.webp
END:VEVENT
BEGIN:VEVENT
DTSTART;VALUE=DATE:20231228
DTEND;VALUE=DATE:20231229
DTSTAMP:20260424T065544
CREATED:20230526T081700Z
LAST-MODIFIED:20230711T143607Z
UID:10000044-1703721600-1703807999@jagstheim.de
SUMMARY:Biomüll und Restmüll
DESCRIPTION:Crailsheim – Bezirk 4 \nLandkreis Schwäbisch Hall | Abfallkalender | (lrasha.de) \n 
URL:https://jagstheim.de/event/biomuell-und-restmuell-16/
CATEGORIES:Müllentsorgung
ATTACH;FMTTYPE=image/webp:https://jagstheim.de/wp-content/uploads/2023/07/BioRest.webp
END:VEVENT
END:VCALENDAR