BEGIN:VCALENDAR
VERSION:2.0
PRODID:-//Jagstheim - ECPv6.15.20//NONSGML v1.0//EN
CALSCALE:GREGORIAN
METHOD:PUBLISH
X-WR-CALNAME:Jagstheim
X-ORIGINAL-URL:https://jagstheim.de
X-WR-CALDESC:Veranstaltungen für Jagstheim
REFRESH-INTERVAL;VALUE=DURATION:PT1H
X-Robots-Tag:noindex
X-PUBLISHED-TTL:PT1H
BEGIN:VTIMEZONE
TZID:Europe/Helsinki
BEGIN:DAYLIGHT
TZOFFSETFROM:+0200
TZOFFSETTO:+0300
TZNAME:EEST
DTSTART:20220327T010000
END:DAYLIGHT
BEGIN:STANDARD
TZOFFSETFROM:+0300
TZOFFSETTO:+0200
TZNAME:EET
DTSTART:20221030T010000
END:STANDARD
BEGIN:DAYLIGHT
TZOFFSETFROM:+0200
TZOFFSETTO:+0300
TZNAME:EEST
DTSTART:20230326T010000
END:DAYLIGHT
BEGIN:STANDARD
TZOFFSETFROM:+0300
TZOFFSETTO:+0200
TZNAME:EET
DTSTART:20231029T010000
END:STANDARD
BEGIN:DAYLIGHT
TZOFFSETFROM:+0200
TZOFFSETTO:+0300
TZNAME:EEST
DTSTART:20240331T010000
END:DAYLIGHT
BEGIN:STANDARD
TZOFFSETFROM:+0300
TZOFFSETTO:+0200
TZNAME:EET
DTSTART:20241027T010000
END:STANDARD
END:VTIMEZONE
BEGIN:VEVENT
DTSTART;TZID=Europe/Helsinki:20230827T103000
DTEND;TZID=Europe/Helsinki:20230827T113000
DTSTAMP:20260424T232706
CREATED:20230706T080852Z
LAST-MODIFIED:20230706T080852Z
UID:10000247-1693132200-1693135800@jagstheim.de
SUMMARY:ev. Kirchengemeinde
DESCRIPTION:Gottesdienst \n 
URL:https://jagstheim.de/event/ev-kirchengemeinde-2/
LOCATION:Feuerwehrgerätehaus\, Feuerwehr u. LF / LK-Vereinsheim\, Crailsheim\, Baden-Württemberg\, 74564\, Deutschland
CATEGORIES:Kirche
ATTACH;FMTTYPE=image/jpeg:https://jagstheim.de/wp-content/uploads/2023/07/bible-5255924_640.jpg
END:VEVENT
BEGIN:VEVENT
DTSTART;TZID=Europe/Helsinki:20230725T200000
DTEND;TZID=Europe/Helsinki:20230725T213000
DTSTAMP:20260424T232706
CREATED:20230706T063826Z
LAST-MODIFIED:20250205T062357Z
UID:10000232-1690315200-1690320600@jagstheim.de
SUMMARY:ev. Kirchengemeinde
DESCRIPTION:Hagelfeiertag \n 
URL:https://jagstheim.de/event/ev-kirchengemeinde/
LOCATION:ev. Nikolauskirche\, Stauseestraße 3\, Crailsheim\, Baden-Württemberg\, 74564\, Deutschland
CATEGORIES:Kirche
ATTACH;FMTTYPE=image/jpeg:https://jagstheim.de/wp-content/uploads/2023/07/cruz-2536209_640.jpg
END:VEVENT
END:VCALENDAR