BEGIN:VCALENDAR
VERSION:2.0
PRODID:-//Jagstheim - ECPv6.15.20//NONSGML v1.0//EN
CALSCALE:GREGORIAN
METHOD:PUBLISH
X-ORIGINAL-URL:https://jagstheim.de
X-WR-CALDESC:Veranstaltungen für Jagstheim
REFRESH-INTERVAL;VALUE=DURATION:PT1H
X-Robots-Tag:noindex
X-PUBLISHED-TTL:PT1H
BEGIN:VTIMEZONE
TZID:Europe/Helsinki
BEGIN:DAYLIGHT
TZOFFSETFROM:+0200
TZOFFSETTO:+0300
TZNAME:EEST
DTSTART:20230326T010000
END:DAYLIGHT
BEGIN:STANDARD
TZOFFSETFROM:+0300
TZOFFSETTO:+0200
TZNAME:EET
DTSTART:20231029T010000
END:STANDARD
BEGIN:DAYLIGHT
TZOFFSETFROM:+0200
TZOFFSETTO:+0300
TZNAME:EEST
DTSTART:20240331T010000
END:DAYLIGHT
BEGIN:STANDARD
TZOFFSETFROM:+0300
TZOFFSETTO:+0200
TZNAME:EET
DTSTART:20241027T010000
END:STANDARD
BEGIN:DAYLIGHT
TZOFFSETFROM:+0200
TZOFFSETTO:+0300
TZNAME:EEST
DTSTART:20250330T010000
END:DAYLIGHT
BEGIN:STANDARD
TZOFFSETFROM:+0300
TZOFFSETTO:+0200
TZNAME:EET
DTSTART:20251026T010000
END:STANDARD
END:VTIMEZONE
BEGIN:VEVENT
DTSTART;TZID=Europe/Helsinki:20241111T173000
DTEND;TZID=Europe/Helsinki:20241111T180000
DTSTAMP:20260420T125342
CREATED:20240107T121032Z
LAST-MODIFIED:20240107T121032Z
UID:10004928-1731346200-1731348000@jagstheim.de
SUMMARY:Martinsandacht
DESCRIPTION: 
URL:https://jagstheim.de/event/martinsandacht/
LOCATION:ev. Nikolauskirche\, Stauseestraße 3\, Crailsheim\, Baden-Württemberg\, 74564\, Deutschland
CATEGORIES:evangelisch,Kirche
END:VEVENT
BEGIN:VEVENT
DTSTART;TZID=Europe/Helsinki:20241106T140000
DTEND;TZID=Europe/Helsinki:20241106T160000
DTSTAMP:20260420T125342
CREATED:20240107T115938Z
LAST-MODIFIED:20240107T122934Z
UID:10004841-1730901600-1730908800@jagstheim.de
SUMMARY:Altenclub
DESCRIPTION: 
URL:https://jagstheim.de/event/altenclub-10/
LOCATION:kath. Gemeindehaus\, Eichwaldstraße 16\, Crailsheim\, Baden-Württemberg\, 74564\, Deutschland
CATEGORIES:katholisch,Kirche
END:VEVENT
BEGIN:VEVENT
DTSTART;TZID=Europe/Helsinki:20241008T143000
DTEND;TZID=Europe/Helsinki:20241008T163000
DTSTAMP:20260420T125342
CREATED:20240107T120516Z
LAST-MODIFIED:20240107T120516Z
UID:10004895-1728397800-1728405000@jagstheim.de
SUMMARY:Seniorennachmittag
DESCRIPTION: 
URL:https://jagstheim.de/event/seniorennachmittag-5/
LOCATION:ev. Gemeindehaus Jagstheim\, Stauseestraße 5\, Crailsheim\, 74564
CATEGORIES:evangelisch,Kirche
END:VEVENT
BEGIN:VEVENT
DTSTART;TZID=Europe/Helsinki:20241006T100000
DTEND;TZID=Europe/Helsinki:20241006T110000
DTSTAMP:20260420T125342
CREATED:20240107T120231Z
LAST-MODIFIED:20240107T120231Z
UID:10004873-1728208800-1728212400@jagstheim.de
SUMMARY:Erntedankfest
DESCRIPTION: 
URL:https://jagstheim.de/event/erntedankfest/
LOCATION:ev. Nikolauskirche\, Stauseestraße 3\, Crailsheim\, Baden-Württemberg\, 74564\, Deutschland
CATEGORIES:evangelisch,Kirche
END:VEVENT
BEGIN:VEVENT
DTSTART;TZID=Europe/Helsinki:20241006T091500
DTEND;TZID=Europe/Helsinki:20241006T120000
DTSTAMP:20260420T125342
CREATED:20240107T120401Z
LAST-MODIFIED:20240107T120401Z
UID:10004884-1728206100-1728216000@jagstheim.de
SUMMARY:Erntedankgottesdienst mit anschl. Frühstück im Gemeindehaus
DESCRIPTION: 
URL:https://jagstheim.de/event/erntedankgottesdienst-mit-anschl-fruehstueck-im-gemeindehaus/
LOCATION:kath. Kirchengemeinde Peter und Paul\, Eichwaldstraße 16\, Crailsheim\, 74564\, Deutschland
CATEGORIES:katholisch,Kirche
END:VEVENT
BEGIN:VEVENT
DTSTART;TZID=Europe/Helsinki:20241002T140000
DTEND;TZID=Europe/Helsinki:20241002T160000
DTSTAMP:20260420T125342
CREATED:20240107T115830Z
LAST-MODIFIED:20240107T122949Z
UID:10004830-1727877600-1727884800@jagstheim.de
SUMMARY:Altenclub
DESCRIPTION: 
URL:https://jagstheim.de/event/altenclub-9/
LOCATION:kath. Gemeindehaus\, Eichwaldstraße 16\, Crailsheim\, Baden-Württemberg\, 74564\, Deutschland
CATEGORIES:katholisch,Kirche
END:VEVENT
BEGIN:VEVENT
DTSTART;TZID=Europe/Helsinki:20240904T140000
DTEND;TZID=Europe/Helsinki:20240904T160000
DTSTAMP:20260420T125342
CREATED:20240107T115703Z
LAST-MODIFIED:20240107T115703Z
UID:10004829-1725458400-1725465600@jagstheim.de
SUMMARY:Altenclub
DESCRIPTION: 
URL:https://jagstheim.de/event/altenclub-8/
LOCATION:kath. Gemeindehaus\, Eichwaldstraße 16\, Crailsheim\, Baden-Württemberg\, 74564\, Deutschland
CATEGORIES:katholisch,Kirche
END:VEVENT
BEGIN:VEVENT
DTSTART;TZID=Europe/Helsinki:20240725T200000
DTEND;TZID=Europe/Helsinki:20240725T210000
DTSTAMP:20260420T125342
CREATED:20240107T115318Z
LAST-MODIFIED:20240130T081219Z
UID:10004796-1721937600-1721941200@jagstheim.de
SUMMARY:Hagelfeiertag
DESCRIPTION: 
URL:https://jagstheim.de/event/hagelfeiertag/
LOCATION:ev. Nikolauskirche\, Stauseestraße 3\, Crailsheim\, Baden-Württemberg\, 74564\, Deutschland
CATEGORIES:evangelisch,Kirche
END:VEVENT
BEGIN:VEVENT
DTSTART;TZID=Europe/Helsinki:20240629T180000
DTEND;TZID=Europe/Helsinki:20240629T200000
DTSTAMP:20260420T125343
CREATED:20240107T114026Z
LAST-MODIFIED:20240107T114026Z
UID:10004730-1719684000-1719691200@jagstheim.de
SUMMARY:Peter- und Paul-Fest
DESCRIPTION: 
URL:https://jagstheim.de/event/peter-und-paul-fest/
LOCATION:kath. Kirchengemeinde Peter und Paul\, Eichwaldstraße 16\, Crailsheim\, 74564\, Deutschland
CATEGORIES:katholisch,Kirche
END:VEVENT
BEGIN:VEVENT
DTSTART;TZID=Europe/Helsinki:20240629T100000
DTEND;TZID=Europe/Helsinki:20240629T110000
DTSTAMP:20260420T125343
CREATED:20240107T113647Z
LAST-MODIFIED:20240107T113716Z
UID:10004719-1719655200-1719658800@jagstheim.de
SUMMARY:Bezirksmissionsgottesdienst der APIS
DESCRIPTION: 
URL:https://jagstheim.de/event/bezirksmissionsgottesdienst-der-apis/
LOCATION:ev. Gemeindehaus Jagstheim\, Stauseestraße 5\, Crailsheim\, 74564
CATEGORIES:evangelisch,Kirche
END:VEVENT
BEGIN:VEVENT
DTSTART;VALUE=DATE:20240627
DTEND;VALUE=DATE:20240630
DTSTAMP:20260420T125343
CREATED:20240107T113523Z
LAST-MODIFIED:20240107T113523Z
UID:10004708-1719446400-1719705599@jagstheim.de
SUMMARY:Konficamp in Matzenbach
DESCRIPTION: 
URL:https://jagstheim.de/event/konficamp-in-matzenbach/
CATEGORIES:evangelisch,Kirche
END:VEVENT
BEGIN:VEVENT
DTSTART;TZID=Europe/Helsinki:20240605T140000
DTEND;TZID=Europe/Helsinki:20240605T160000
DTSTAMP:20260420T125343
CREATED:20240107T112856Z
LAST-MODIFIED:20240107T112856Z
UID:10004653-1717596000-1717603200@jagstheim.de
SUMMARY:Altenclub
DESCRIPTION: 
URL:https://jagstheim.de/event/altenclub-6/
LOCATION:kath. Gemeindehaus\, Eichwaldstraße 16\, Crailsheim\, Baden-Württemberg\, 74564\, Deutschland
CATEGORIES:katholisch,Kirche
END:VEVENT
BEGIN:VEVENT
DTSTART;TZID=Europe/Helsinki:20240519T100000
DTEND;TZID=Europe/Helsinki:20240519T110000
DTSTAMP:20260420T125343
CREATED:20240107T112740Z
LAST-MODIFIED:20240107T112740Z
UID:10004642-1716112800-1716116400@jagstheim.de
SUMMARY:Distriktgottesdienst in Altenmünster
DESCRIPTION: 
URL:https://jagstheim.de/event/distriktgottesdienst-in-altenmuenster/
CATEGORIES:evangelisch,Kirche
END:VEVENT
BEGIN:VEVENT
DTSTART;TZID=Europe/Helsinki:20240508T140000
DTEND;TZID=Europe/Helsinki:20240508T160000
DTSTAMP:20260420T125343
CREATED:20240107T112508Z
LAST-MODIFIED:20240107T112508Z
UID:10004620-1715176800-1715184000@jagstheim.de
SUMMARY:Altenclub
DESCRIPTION: 
URL:https://jagstheim.de/event/altenclub-5/
LOCATION:kath. Gemeindehaus\, Eichwaldstraße 16\, Crailsheim\, Baden-Württemberg\, 74564\, Deutschland
CATEGORIES:katholisch,Kirche
END:VEVENT
BEGIN:VEVENT
DTSTART;TZID=Europe/Helsinki:20240428T100000
DTEND;TZID=Europe/Helsinki:20240428T120000
DTSTAMP:20260420T125343
CREATED:20240107T111834Z
LAST-MODIFIED:20240107T111834Z
UID:10004576-1714298400-1714305600@jagstheim.de
SUMMARY:Konfirmationsgottesdienst
DESCRIPTION: 
URL:https://jagstheim.de/event/konfirmationsgottesdienst/
LOCATION:ev. Nikolauskirche\, Stauseestraße 3\, Crailsheim\, Baden-Württemberg\, 74564\, Deutschland
CATEGORIES:evangelisch,Kirche
END:VEVENT
BEGIN:VEVENT
DTSTART;TZID=Europe/Helsinki:20240410T140000
DTEND;TZID=Europe/Helsinki:20240410T160000
DTSTAMP:20260420T125343
CREATED:20240107T111210Z
LAST-MODIFIED:20240107T111210Z
UID:10004521-1712757600-1712764800@jagstheim.de
SUMMARY:Altenclub
DESCRIPTION: 
URL:https://jagstheim.de/event/altenclub-4/
LOCATION:kath. Gemeindehaus\, Eichwaldstraße 16\, Crailsheim\, Baden-Württemberg\, 74564\, Deutschland
CATEGORIES:katholisch,Kirche
END:VEVENT
BEGIN:VEVENT
DTSTART;TZID=Europe/Helsinki:20240409T143000
DTEND;TZID=Europe/Helsinki:20240409T163000
DTSTAMP:20260420T125343
CREATED:20240107T111050Z
LAST-MODIFIED:20240107T111050Z
UID:10004510-1712673000-1712680200@jagstheim.de
SUMMARY:Seniorennachmittag
DESCRIPTION: 
URL:https://jagstheim.de/event/seniorennachmittag-4/
LOCATION:ev. Gemeindehaus Jagstheim\, Stauseestraße 5\, Crailsheim\, 74564
CATEGORIES:evangelisch,Kirche
END:VEVENT
BEGIN:VEVENT
DTSTART;TZID=Europe/Helsinki:20240401T103000
DTEND;TZID=Europe/Helsinki:20240401T113000
DTSTAMP:20260420T125343
CREATED:20240107T110732Z
LAST-MODIFIED:20240107T110807Z
UID:10004488-1711967400-1711971000@jagstheim.de
SUMMARY:Osterminikirche
DESCRIPTION: 
URL:https://jagstheim.de/event/osterminikirche/
LOCATION:ev. Gemeindehaus Jagstheim\, Stauseestraße 5\, Crailsheim\, 74564
CATEGORIES:evangelisch,Kirche
END:VEVENT
BEGIN:VEVENT
DTSTART;TZID=Europe/Helsinki:20240331T100000
DTEND;TZID=Europe/Helsinki:20240331T110000
DTSTAMP:20260420T125343
CREATED:20240107T110601Z
LAST-MODIFIED:20240107T110601Z
UID:10004477-1711879200-1711882800@jagstheim.de
SUMMARY:Gottesdienst mit Posaunenchor
DESCRIPTION: 
URL:https://jagstheim.de/event/gottesdienst-mit-posaunenchor/
LOCATION:ev. Nikolauskirche\, Stauseestraße 3\, Crailsheim\, Baden-Württemberg\, 74564\, Deutschland
CATEGORIES:evangelisch,Kirche
END:VEVENT
BEGIN:VEVENT
DTSTART;TZID=Europe/Helsinki:20240329T150000
DTEND;TZID=Europe/Helsinki:20240329T160000
DTSTAMP:20260420T125343
CREATED:20240107T110441Z
LAST-MODIFIED:20250205T062354Z
UID:10004466-1711724400-1711728000@jagstheim.de
SUMMARY:Gottesdienst mit Abendmahl
DESCRIPTION: 
URL:https://jagstheim.de/event/gottesdienst-mit-abendmahl-2/
LOCATION:ev. Gemeindehaus Jagstheim\, Stauseestraße 5\, Crailsheim\, 74564
CATEGORIES:evangelisch,Kirche
END:VEVENT
BEGIN:VEVENT
DTSTART;TZID=Europe/Helsinki:20240328T193000
DTEND;TZID=Europe/Helsinki:20240328T203000
DTSTAMP:20260420T125343
CREATED:20240107T110314Z
LAST-MODIFIED:20240107T110314Z
UID:10004455-1711654200-1711657800@jagstheim.de
SUMMARY:Gottesdienst mit Abendmahl
DESCRIPTION: 
URL:https://jagstheim.de/event/gottesdienst-mit-abendmahl/
LOCATION:ev. Nikolauskirche\, Stauseestraße 3\, Crailsheim\, Baden-Württemberg\, 74564\, Deutschland
CATEGORIES:evangelisch,Kirche
END:VEVENT
BEGIN:VEVENT
DTSTART;VALUE=DATE:20240317
DTEND;VALUE=DATE:20240318
DTSTAMP:20260420T125343
CREATED:20240125T063318Z
LAST-MODIFIED:20240125T063318Z
UID:10005089-1710633600-1710719999@jagstheim.de
SUMMARY:Diakoniegottesdienst mit Posaunenchor
DESCRIPTION: 
URL:https://jagstheim.de/event/diakoniegottesdienst-mit-posaunenchor/
LOCATION:Jagstauenhalle\, Jagstheimer Hauptstraße 157\, Crailsheim\, Baden-Württemberg\, 74564\, Deutschland
CATEGORIES:evangelisch,Kirche
END:VEVENT
BEGIN:VEVENT
DTSTART;TZID=Europe/Helsinki:20240312T143000
DTEND;TZID=Europe/Helsinki:20240312T163000
DTSTAMP:20260420T125343
CREATED:20240107T105537Z
LAST-MODIFIED:20240107T105537Z
UID:10004400-1710253800-1710261000@jagstheim.de
SUMMARY:Seniorennachmittag
DESCRIPTION: 
URL:https://jagstheim.de/event/seniorennachmittag-3/
LOCATION:ev. Gemeindehaus Jagstheim\, Stauseestraße 5\, Crailsheim\, 74564
CATEGORIES:evangelisch,Kirche
END:VEVENT
BEGIN:VEVENT
DTSTART;TZID=Europe/Helsinki:20240306T140000
DTEND;TZID=Europe/Helsinki:20240306T160000
DTSTAMP:20260420T125343
CREATED:20240107T103524Z
LAST-MODIFIED:20240107T103524Z
UID:10004367-1709733600-1709740800@jagstheim.de
SUMMARY:Altenclub
DESCRIPTION: 
URL:https://jagstheim.de/event/altenclub-3/
LOCATION:kath. Gemeindehaus\, Eichwaldstraße 16\, Crailsheim\, Baden-Württemberg\, 74564\, Deutschland
CATEGORIES:katholisch,Kirche
END:VEVENT
BEGIN:VEVENT
DTSTART;TZID=Europe/Helsinki:20240301T190000
DTEND;TZID=Europe/Helsinki:20240301T200000
DTSTAMP:20260420T125343
CREATED:20240107T103315Z
LAST-MODIFIED:20240107T103315Z
UID:10004356-1709319600-1709323200@jagstheim.de
SUMMARY:ökum. Weltgebetstag
DESCRIPTION: 
URL:https://jagstheim.de/event/oekum-weltgebetstag/
LOCATION:ev. Gemeindehaus Jagstheim\, Stauseestraße 5\, Crailsheim\, 74564
CATEGORIES:katholisch,Kirche
ATTACH;FMTTYPE=image/jpeg:https://jagstheim.de/wp-content/uploads/2023/07/cruz-2536209_640.jpg
END:VEVENT
BEGIN:VEVENT
DTSTART;TZID=Europe/Helsinki:20240213T143000
DTEND;TZID=Europe/Helsinki:20240213T163000
DTSTAMP:20260420T125343
CREATED:20240107T101713Z
LAST-MODIFIED:20240107T101713Z
UID:10004279-1707834600-1707841800@jagstheim.de
SUMMARY:Seniorennachmittag
DESCRIPTION: 
URL:https://jagstheim.de/event/seniorennachmittag-2/
LOCATION:ev. Gemeindehaus Jagstheim\, Stauseestraße 5\, Crailsheim\, 74564
CATEGORIES:katholisch,Kirche
ATTACH;FMTTYPE=image/jpeg:https://jagstheim.de/wp-content/uploads/2023/07/coffee-shop-3699340-scaled.jpg
END:VEVENT
BEGIN:VEVENT
DTSTART;TZID=Europe/Helsinki:20240207T140000
DTEND;TZID=Europe/Helsinki:20240207T160000
DTSTAMP:20260420T125343
CREATED:20240107T100625Z
LAST-MODIFIED:20240107T100625Z
UID:10004257-1707314400-1707321600@jagstheim.de
SUMMARY:Altenclub
DESCRIPTION: 
URL:https://jagstheim.de/event/altenclub-2/
LOCATION:kath. Gemeindehaus\, Eichwaldstraße 16\, Crailsheim\, Baden-Württemberg\, 74564\, Deutschland
CATEGORIES:katholisch,Kirche
ATTACH;FMTTYPE=image/jpeg:https://jagstheim.de/wp-content/uploads/2023/07/sports-2863541_640.jpg
END:VEVENT
BEGIN:VEVENT
DTSTART;TZID=Europe/Helsinki:20240114T103000
DTEND;TZID=Europe/Helsinki:20240114T113000
DTSTAMP:20260420T125343
CREATED:20240107T090758Z
LAST-MODIFIED:20240107T090758Z
UID:10004158-1705228200-1705231800@jagstheim.de
SUMMARY:Fusionsgottesdienst\, Johanneskirche
DESCRIPTION:Fusionsgottesdienst der ev. Dekanate Crailsheim und Blaufelden\, 10:30 Uhr \n 
URL:https://jagstheim.de/event/fusionsgottesdienst-johanneskirche/
CATEGORIES:evangelisch,Kirche
ATTACH;FMTTYPE=image/jpeg:https://jagstheim.de/wp-content/uploads/2023/07/cruz-2536209_640.jpg
END:VEVENT
BEGIN:VEVENT
DTSTART;TZID=Europe/Helsinki:20240110T140000
DTEND;TZID=Europe/Helsinki:20240110T160000
DTSTAMP:20260420T125343
CREATED:20240107T090140Z
LAST-MODIFIED:20240107T090221Z
UID:10004136-1704895200-1704902400@jagstheim.de
SUMMARY:Altenclub
DESCRIPTION: 
URL:https://jagstheim.de/event/altenclub/
LOCATION:kath. Gemeindehaus\, Eichwaldstraße 16\, Crailsheim\, Baden-Württemberg\, 74564\, Deutschland
CATEGORIES:katholisch,Kirche
ATTACH;FMTTYPE=image/jpeg:https://jagstheim.de/wp-content/uploads/2023/07/sports-2863541_640.jpg
END:VEVENT
BEGIN:VEVENT
DTSTART;TZID=Europe/Helsinki:20240109T143000
DTEND;TZID=Europe/Helsinki:20240109T163000
DTSTAMP:20260420T125343
CREATED:20240107T085950Z
LAST-MODIFIED:20240107T085950Z
UID:10004125-1704810600-1704817800@jagstheim.de
SUMMARY:Seniorennachmittag
DESCRIPTION: 
URL:https://jagstheim.de/event/seniorennachmittag/
LOCATION:ev. Gemeindehaus Jagstheim\, Stauseestraße 5\, Crailsheim\, 74564
CATEGORIES:evangelisch,Kirche
ATTACH;FMTTYPE=image/jpeg:https://jagstheim.de/wp-content/uploads/2023/07/coffee-shop-3699340-scaled.jpg
END:VEVENT
END:VCALENDAR