BEGIN:VCALENDAR
VERSION:2.0
PRODID:-//Jagstheim - ECPv6.15.20//NONSGML v1.0//EN
CALSCALE:GREGORIAN
METHOD:PUBLISH
X-ORIGINAL-URL:https://jagstheim.de
X-WR-CALDESC:Veranstaltungen für Jagstheim
REFRESH-INTERVAL;VALUE=DURATION:PT1H
X-Robots-Tag:noindex
X-PUBLISHED-TTL:PT1H
BEGIN:VTIMEZONE
TZID:Europe/Helsinki
BEGIN:DAYLIGHT
TZOFFSETFROM:+0200
TZOFFSETTO:+0300
TZNAME:EEST
DTSTART:20280326T010000
END:DAYLIGHT
BEGIN:STANDARD
TZOFFSETFROM:+0300
TZOFFSETTO:+0200
TZNAME:EET
DTSTART:20281029T010000
END:STANDARD
BEGIN:DAYLIGHT
TZOFFSETFROM:+0200
TZOFFSETTO:+0300
TZNAME:EEST
DTSTART:20290325T010000
END:DAYLIGHT
BEGIN:STANDARD
TZOFFSETFROM:+0300
TZOFFSETTO:+0200
TZNAME:EET
DTSTART:20291028T010000
END:STANDARD
BEGIN:DAYLIGHT
TZOFFSETFROM:+0200
TZOFFSETTO:+0300
TZNAME:EEST
DTSTART:20300331T010000
END:DAYLIGHT
BEGIN:STANDARD
TZOFFSETFROM:+0300
TZOFFSETTO:+0200
TZNAME:EET
DTSTART:20301027T010000
END:STANDARD
END:VTIMEZONE
BEGIN:VEVENT
DTSTART;VALUE=DATE:20290503
DTEND;VALUE=DATE:20290504
DTSTAMP:20260422T191401
CREATED:20260308T105021Z
LAST-MODIFIED:20260308T105022Z
UID:10007890-1872460800-1872547199@jagstheim.de
SUMMARY:Gelber Sack und Papiertonne
DESCRIPTION:Crailsheim – Bezirk 4 \nAbfuhrtermine: Landkreis Schwäbisch Hall \n  \n 
URL:https://jagstheim.de/event/gelber-sack-und-papiertonne-10-2/2029-05-03/
CATEGORIES:Müllentsorgung
ATTACH;FMTTYPE=image/webp:https://jagstheim.de/wp-content/uploads/2023/07/GelbPapier.webp
END:VEVENT
BEGIN:VEVENT
DTSTART;VALUE=DATE:20290508
DTEND;VALUE=DATE:20290509
DTSTAMP:20260422T191401
CREATED:20250102T070320Z
LAST-MODIFIED:20250205T062354Z
UID:10005246-1872892800-1872979199@jagstheim.de
SUMMARY:Biomüll und Restmüll
DESCRIPTION:Crailsheim – Bezirk 4 \nAbfuhrtermine: Landkreis Schwäbisch Hall \n  \n 
URL:https://jagstheim.de/event/biomuell-und-restmuell-18/2029-05-08/
CATEGORIES:Müllentsorgung
ATTACH;FMTTYPE=image/webp:https://jagstheim.de/wp-content/uploads/2023/07/BioRest.webp
END:VEVENT
BEGIN:VEVENT
DTSTART;VALUE=DATE:20290522
DTEND;VALUE=DATE:20290523
DTSTAMP:20260422T191401
CREATED:20250102T070320Z
LAST-MODIFIED:20250205T062354Z
UID:10005247-1874102400-1874188799@jagstheim.de
SUMMARY:Biomüll und Restmüll
DESCRIPTION:Crailsheim – Bezirk 4 \nAbfuhrtermine: Landkreis Schwäbisch Hall \n  \n 
URL:https://jagstheim.de/event/biomuell-und-restmuell-18/2029-05-22/
CATEGORIES:Müllentsorgung
ATTACH;FMTTYPE=image/webp:https://jagstheim.de/wp-content/uploads/2023/07/BioRest.webp
END:VEVENT
BEGIN:VEVENT
DTSTART;VALUE=DATE:20290531
DTEND;VALUE=DATE:20290601
DTSTAMP:20260422T191401
CREATED:20260308T105021Z
LAST-MODIFIED:20260308T105022Z
UID:10007891-1874880000-1874966399@jagstheim.de
SUMMARY:Gelber Sack und Papiertonne
DESCRIPTION:Crailsheim – Bezirk 4 \nAbfuhrtermine: Landkreis Schwäbisch Hall \n  \n 
URL:https://jagstheim.de/event/gelber-sack-und-papiertonne-10-2/2029-05-31/
CATEGORIES:Müllentsorgung
ATTACH;FMTTYPE=image/webp:https://jagstheim.de/wp-content/uploads/2023/07/GelbPapier.webp
END:VEVENT
END:VCALENDAR