BEGIN:VCALENDAR
VERSION:2.0
PRODID:-//Jagstheim - ECPv6.15.20//NONSGML v1.0//EN
CALSCALE:GREGORIAN
METHOD:PUBLISH
X-ORIGINAL-URL:https://jagstheim.de
X-WR-CALDESC:Veranstaltungen für Jagstheim
REFRESH-INTERVAL;VALUE=DURATION:PT1H
X-Robots-Tag:noindex
X-PUBLISHED-TTL:PT1H
BEGIN:VTIMEZONE
TZID:Europe/Helsinki
BEGIN:DAYLIGHT
TZOFFSETFROM:+0200
TZOFFSETTO:+0300
TZNAME:EEST
DTSTART:20270328T010000
END:DAYLIGHT
BEGIN:STANDARD
TZOFFSETFROM:+0300
TZOFFSETTO:+0200
TZNAME:EET
DTSTART:20271031T010000
END:STANDARD
BEGIN:DAYLIGHT
TZOFFSETFROM:+0200
TZOFFSETTO:+0300
TZNAME:EEST
DTSTART:20280326T010000
END:DAYLIGHT
BEGIN:STANDARD
TZOFFSETFROM:+0300
TZOFFSETTO:+0200
TZNAME:EET
DTSTART:20281029T010000
END:STANDARD
BEGIN:DAYLIGHT
TZOFFSETFROM:+0200
TZOFFSETTO:+0300
TZNAME:EEST
DTSTART:20290325T010000
END:DAYLIGHT
BEGIN:STANDARD
TZOFFSETFROM:+0300
TZOFFSETTO:+0200
TZNAME:EET
DTSTART:20291028T010000
END:STANDARD
END:VTIMEZONE
BEGIN:VEVENT
DTSTART;VALUE=DATE:20280801
DTEND;VALUE=DATE:20280802
DTSTAMP:20260422T191337
CREATED:20250102T070320Z
LAST-MODIFIED:20250205T062354Z
UID:10005226-1848700800-1848787199@jagstheim.de
SUMMARY:Biomüll und Restmüll
DESCRIPTION:Crailsheim – Bezirk 4 \nAbfuhrtermine: Landkreis Schwäbisch Hall \n  \n 
URL:https://jagstheim.de/event/biomuell-und-restmuell-18/2028-08-01/
CATEGORIES:Müllentsorgung
ATTACH;FMTTYPE=image/webp:https://jagstheim.de/wp-content/uploads/2023/07/BioRest.webp
END:VEVENT
BEGIN:VEVENT
DTSTART;TZID=Europe/Helsinki:20280802T181500
DTEND;TZID=Europe/Helsinki:20280802T193000
DTSTAMP:20260422T191337
CREATED:20230825T194007Z
LAST-MODIFIED:20240107T123230Z
UID:10001057-1848852900-1848857400@jagstheim.de
SUMMARY:KICK 4 Fit ist ein Fitmachprogramm
DESCRIPTION:KICK 4 Fit ist ein Fitmachprogramm mit dynamischen Elementen aus der Kampfsportart Taekwondo.\nVöllig gewaltfrei trainieren wir mit Jung und Alt unsere Schnelligkeit\, Ausdauer\, Kraft und Koordination.\nWir verbessern unsere Reaktions- und Leistungsfähigkeit und stimulieren Nervensystem\, Muskeln\, Sehnen und Gelenke auf äußerst dynamische Art und Weise.\nNach den Sommerferien geht’s weiter — die perfekte Möglichkeit für dich\, um einzusteigen!\nMACH MIT! AB 13. SEPTEMBER 2023\, 18.15 – 19.30 UHR\nTrainer:\nPascal Mele\, 5. Dan TKD & Isabell Schäfer\, 3. Dan TKD\nBeginn:\nMittwoch 13. September 2023\, je 18.15 – 19.30 Uhr\nAblauf:\nKontinuierlich laufender Kurs\, Einstieg jederzeit möglich\nKursgebühr:\n8\,00 € pro Trainingseinheit + Mitgliedschaft bei den Landfrauen Jagstheim\nOrt:\nJagstauenhalle\, Jagstheimer Hauptstraße 157\, 74564 Crailsheim\nMitzubringen:\nBequeme Sportkleidung\, Getränk\nVerbindliche Anmeldung:\nBei Kathrin Lenz (0176.426 01912) \n 
URL:https://jagstheim.de/event/kick-4-fit-ist-ein-fitmachprogramm/2028-08-02/
LOCATION:Jagstauenhalle\, Jagstheimer Hauptstraße 157\, Crailsheim\, Baden-Württemberg\, 74564\, Deutschland
CATEGORIES:Landfrauen,Sportliches,Verein
END:VEVENT
BEGIN:VEVENT
DTSTART;TZID=Europe/Helsinki:20280809T181500
DTEND;TZID=Europe/Helsinki:20280809T193000
DTSTAMP:20260422T191338
CREATED:20230825T194007Z
LAST-MODIFIED:20240107T123230Z
UID:10001058-1849457700-1849462200@jagstheim.de
SUMMARY:KICK 4 Fit ist ein Fitmachprogramm
DESCRIPTION:KICK 4 Fit ist ein Fitmachprogramm mit dynamischen Elementen aus der Kampfsportart Taekwondo.\nVöllig gewaltfrei trainieren wir mit Jung und Alt unsere Schnelligkeit\, Ausdauer\, Kraft und Koordination.\nWir verbessern unsere Reaktions- und Leistungsfähigkeit und stimulieren Nervensystem\, Muskeln\, Sehnen und Gelenke auf äußerst dynamische Art und Weise.\nNach den Sommerferien geht’s weiter — die perfekte Möglichkeit für dich\, um einzusteigen!\nMACH MIT! AB 13. SEPTEMBER 2023\, 18.15 – 19.30 UHR\nTrainer:\nPascal Mele\, 5. Dan TKD & Isabell Schäfer\, 3. Dan TKD\nBeginn:\nMittwoch 13. September 2023\, je 18.15 – 19.30 Uhr\nAblauf:\nKontinuierlich laufender Kurs\, Einstieg jederzeit möglich\nKursgebühr:\n8\,00 € pro Trainingseinheit + Mitgliedschaft bei den Landfrauen Jagstheim\nOrt:\nJagstauenhalle\, Jagstheimer Hauptstraße 157\, 74564 Crailsheim\nMitzubringen:\nBequeme Sportkleidung\, Getränk\nVerbindliche Anmeldung:\nBei Kathrin Lenz (0176.426 01912) \n 
URL:https://jagstheim.de/event/kick-4-fit-ist-ein-fitmachprogramm/2028-08-09/
LOCATION:Jagstauenhalle\, Jagstheimer Hauptstraße 157\, Crailsheim\, Baden-Württemberg\, 74564\, Deutschland
CATEGORIES:Landfrauen,Sportliches,Verein
END:VEVENT
BEGIN:VEVENT
DTSTART;VALUE=DATE:20280815
DTEND;VALUE=DATE:20280816
DTSTAMP:20260422T191338
CREATED:20250102T070320Z
LAST-MODIFIED:20250205T062354Z
UID:10005227-1849910400-1849996799@jagstheim.de
SUMMARY:Biomüll und Restmüll
DESCRIPTION:Crailsheim – Bezirk 4 \nAbfuhrtermine: Landkreis Schwäbisch Hall \n  \n 
URL:https://jagstheim.de/event/biomuell-und-restmuell-18/2028-08-15/
CATEGORIES:Müllentsorgung
ATTACH;FMTTYPE=image/webp:https://jagstheim.de/wp-content/uploads/2023/07/BioRest.webp
END:VEVENT
BEGIN:VEVENT
DTSTART;TZID=Europe/Helsinki:20280816T181500
DTEND;TZID=Europe/Helsinki:20280816T193000
DTSTAMP:20260422T191338
CREATED:20230825T194007Z
LAST-MODIFIED:20240107T123230Z
UID:10001059-1850062500-1850067000@jagstheim.de
SUMMARY:KICK 4 Fit ist ein Fitmachprogramm
DESCRIPTION:KICK 4 Fit ist ein Fitmachprogramm mit dynamischen Elementen aus der Kampfsportart Taekwondo.\nVöllig gewaltfrei trainieren wir mit Jung und Alt unsere Schnelligkeit\, Ausdauer\, Kraft und Koordination.\nWir verbessern unsere Reaktions- und Leistungsfähigkeit und stimulieren Nervensystem\, Muskeln\, Sehnen und Gelenke auf äußerst dynamische Art und Weise.\nNach den Sommerferien geht’s weiter — die perfekte Möglichkeit für dich\, um einzusteigen!\nMACH MIT! AB 13. SEPTEMBER 2023\, 18.15 – 19.30 UHR\nTrainer:\nPascal Mele\, 5. Dan TKD & Isabell Schäfer\, 3. Dan TKD\nBeginn:\nMittwoch 13. September 2023\, je 18.15 – 19.30 Uhr\nAblauf:\nKontinuierlich laufender Kurs\, Einstieg jederzeit möglich\nKursgebühr:\n8\,00 € pro Trainingseinheit + Mitgliedschaft bei den Landfrauen Jagstheim\nOrt:\nJagstauenhalle\, Jagstheimer Hauptstraße 157\, 74564 Crailsheim\nMitzubringen:\nBequeme Sportkleidung\, Getränk\nVerbindliche Anmeldung:\nBei Kathrin Lenz (0176.426 01912) \n 
URL:https://jagstheim.de/event/kick-4-fit-ist-ein-fitmachprogramm/2028-08-16/
LOCATION:Jagstauenhalle\, Jagstheimer Hauptstraße 157\, Crailsheim\, Baden-Württemberg\, 74564\, Deutschland
CATEGORIES:Landfrauen,Sportliches,Verein
END:VEVENT
BEGIN:VEVENT
DTSTART;TZID=Europe/Helsinki:20280823T181500
DTEND;TZID=Europe/Helsinki:20280823T193000
DTSTAMP:20260422T191338
CREATED:20230825T194007Z
LAST-MODIFIED:20240107T123230Z
UID:10001060-1850667300-1850671800@jagstheim.de
SUMMARY:KICK 4 Fit ist ein Fitmachprogramm
DESCRIPTION:KICK 4 Fit ist ein Fitmachprogramm mit dynamischen Elementen aus der Kampfsportart Taekwondo.\nVöllig gewaltfrei trainieren wir mit Jung und Alt unsere Schnelligkeit\, Ausdauer\, Kraft und Koordination.\nWir verbessern unsere Reaktions- und Leistungsfähigkeit und stimulieren Nervensystem\, Muskeln\, Sehnen und Gelenke auf äußerst dynamische Art und Weise.\nNach den Sommerferien geht’s weiter — die perfekte Möglichkeit für dich\, um einzusteigen!\nMACH MIT! AB 13. SEPTEMBER 2023\, 18.15 – 19.30 UHR\nTrainer:\nPascal Mele\, 5. Dan TKD & Isabell Schäfer\, 3. Dan TKD\nBeginn:\nMittwoch 13. September 2023\, je 18.15 – 19.30 Uhr\nAblauf:\nKontinuierlich laufender Kurs\, Einstieg jederzeit möglich\nKursgebühr:\n8\,00 € pro Trainingseinheit + Mitgliedschaft bei den Landfrauen Jagstheim\nOrt:\nJagstauenhalle\, Jagstheimer Hauptstraße 157\, 74564 Crailsheim\nMitzubringen:\nBequeme Sportkleidung\, Getränk\nVerbindliche Anmeldung:\nBei Kathrin Lenz (0176.426 01912) \n 
URL:https://jagstheim.de/event/kick-4-fit-ist-ein-fitmachprogramm/2028-08-23/
LOCATION:Jagstauenhalle\, Jagstheimer Hauptstraße 157\, Crailsheim\, Baden-Württemberg\, 74564\, Deutschland
CATEGORIES:Landfrauen,Sportliches,Verein
END:VEVENT
BEGIN:VEVENT
DTSTART;VALUE=DATE:20280824
DTEND;VALUE=DATE:20280825
DTSTAMP:20260422T191338
CREATED:20260308T105021Z
LAST-MODIFIED:20260308T105022Z
UID:10007881-1850688000-1850774399@jagstheim.de
SUMMARY:Gelber Sack und Papiertonne
DESCRIPTION:Crailsheim – Bezirk 4 \nAbfuhrtermine: Landkreis Schwäbisch Hall \n  \n 
URL:https://jagstheim.de/event/gelber-sack-und-papiertonne-10-2/2028-08-24/
CATEGORIES:Müllentsorgung
ATTACH;FMTTYPE=image/webp:https://jagstheim.de/wp-content/uploads/2023/07/GelbPapier.webp
END:VEVENT
BEGIN:VEVENT
DTSTART;VALUE=DATE:20280829
DTEND;VALUE=DATE:20280830
DTSTAMP:20260422T191338
CREATED:20250102T070320Z
LAST-MODIFIED:20250205T062354Z
UID:10005228-1851120000-1851206399@jagstheim.de
SUMMARY:Biomüll und Restmüll
DESCRIPTION:Crailsheim – Bezirk 4 \nAbfuhrtermine: Landkreis Schwäbisch Hall \n  \n 
URL:https://jagstheim.de/event/biomuell-und-restmuell-18/2028-08-29/
CATEGORIES:Müllentsorgung
ATTACH;FMTTYPE=image/webp:https://jagstheim.de/wp-content/uploads/2023/07/BioRest.webp
END:VEVENT
BEGIN:VEVENT
DTSTART;TZID=Europe/Helsinki:20280830T181500
DTEND;TZID=Europe/Helsinki:20280830T193000
DTSTAMP:20260422T191338
CREATED:20230825T194007Z
LAST-MODIFIED:20240107T123230Z
UID:10001061-1851272100-1851276600@jagstheim.de
SUMMARY:KICK 4 Fit ist ein Fitmachprogramm
DESCRIPTION:KICK 4 Fit ist ein Fitmachprogramm mit dynamischen Elementen aus der Kampfsportart Taekwondo.\nVöllig gewaltfrei trainieren wir mit Jung und Alt unsere Schnelligkeit\, Ausdauer\, Kraft und Koordination.\nWir verbessern unsere Reaktions- und Leistungsfähigkeit und stimulieren Nervensystem\, Muskeln\, Sehnen und Gelenke auf äußerst dynamische Art und Weise.\nNach den Sommerferien geht’s weiter — die perfekte Möglichkeit für dich\, um einzusteigen!\nMACH MIT! AB 13. SEPTEMBER 2023\, 18.15 – 19.30 UHR\nTrainer:\nPascal Mele\, 5. Dan TKD & Isabell Schäfer\, 3. Dan TKD\nBeginn:\nMittwoch 13. September 2023\, je 18.15 – 19.30 Uhr\nAblauf:\nKontinuierlich laufender Kurs\, Einstieg jederzeit möglich\nKursgebühr:\n8\,00 € pro Trainingseinheit + Mitgliedschaft bei den Landfrauen Jagstheim\nOrt:\nJagstauenhalle\, Jagstheimer Hauptstraße 157\, 74564 Crailsheim\nMitzubringen:\nBequeme Sportkleidung\, Getränk\nVerbindliche Anmeldung:\nBei Kathrin Lenz (0176.426 01912) \n 
URL:https://jagstheim.de/event/kick-4-fit-ist-ein-fitmachprogramm/2028-08-30/
LOCATION:Jagstauenhalle\, Jagstheimer Hauptstraße 157\, Crailsheim\, Baden-Württemberg\, 74564\, Deutschland
CATEGORIES:Landfrauen,Sportliches,Verein
END:VEVENT
END:VCALENDAR