BEGIN:VCALENDAR
VERSION:2.0
PRODID:-//Jagstheim - ECPv6.15.20//NONSGML v1.0//EN
CALSCALE:GREGORIAN
METHOD:PUBLISH
X-ORIGINAL-URL:https://jagstheim.de
X-WR-CALDESC:Veranstaltungen für Jagstheim
REFRESH-INTERVAL;VALUE=DURATION:PT1H
X-Robots-Tag:noindex
X-PUBLISHED-TTL:PT1H
BEGIN:VTIMEZONE
TZID:Europe/Helsinki
BEGIN:DAYLIGHT
TZOFFSETFROM:+0200
TZOFFSETTO:+0300
TZNAME:EEST
DTSTART:20270328T010000
END:DAYLIGHT
BEGIN:STANDARD
TZOFFSETFROM:+0300
TZOFFSETTO:+0200
TZNAME:EET
DTSTART:20271031T010000
END:STANDARD
BEGIN:DAYLIGHT
TZOFFSETFROM:+0200
TZOFFSETTO:+0300
TZNAME:EEST
DTSTART:20280326T010000
END:DAYLIGHT
BEGIN:STANDARD
TZOFFSETFROM:+0300
TZOFFSETTO:+0200
TZNAME:EET
DTSTART:20281029T010000
END:STANDARD
BEGIN:DAYLIGHT
TZOFFSETFROM:+0200
TZOFFSETTO:+0300
TZNAME:EEST
DTSTART:20290325T010000
END:DAYLIGHT
BEGIN:STANDARD
TZOFFSETFROM:+0300
TZOFFSETTO:+0200
TZNAME:EET
DTSTART:20291028T010000
END:STANDARD
END:VTIMEZONE
BEGIN:VEVENT
DTSTART;VALUE=DATE:20280704
DTEND;VALUE=DATE:20280705
DTSTAMP:20260423T063825
CREATED:20250102T070320Z
LAST-MODIFIED:20250205T062354Z
UID:10005224-1846281600-1846367999@jagstheim.de
SUMMARY:Biomüll und Restmüll
DESCRIPTION:Crailsheim – Bezirk 4 \nAbfuhrtermine: Landkreis Schwäbisch Hall \n  \n 
URL:https://jagstheim.de/event/biomuell-und-restmuell-18/2028-07-04/
CATEGORIES:Müllentsorgung
ATTACH;FMTTYPE=image/webp:https://jagstheim.de/wp-content/uploads/2023/07/BioRest.webp
END:VEVENT
BEGIN:VEVENT
DTSTART;TZID=Europe/Helsinki:20280705T181500
DTEND;TZID=Europe/Helsinki:20280705T193000
DTSTAMP:20260423T063825
CREATED:20230825T194007Z
LAST-MODIFIED:20240107T123230Z
UID:10001053-1846433700-1846438200@jagstheim.de
SUMMARY:KICK 4 Fit ist ein Fitmachprogramm
DESCRIPTION:KICK 4 Fit ist ein Fitmachprogramm mit dynamischen Elementen aus der Kampfsportart Taekwondo.\nVöllig gewaltfrei trainieren wir mit Jung und Alt unsere Schnelligkeit\, Ausdauer\, Kraft und Koordination.\nWir verbessern unsere Reaktions- und Leistungsfähigkeit und stimulieren Nervensystem\, Muskeln\, Sehnen und Gelenke auf äußerst dynamische Art und Weise.\nNach den Sommerferien geht’s weiter — die perfekte Möglichkeit für dich\, um einzusteigen!\nMACH MIT! AB 13. SEPTEMBER 2023\, 18.15 – 19.30 UHR\nTrainer:\nPascal Mele\, 5. Dan TKD & Isabell Schäfer\, 3. Dan TKD\nBeginn:\nMittwoch 13. September 2023\, je 18.15 – 19.30 Uhr\nAblauf:\nKontinuierlich laufender Kurs\, Einstieg jederzeit möglich\nKursgebühr:\n8\,00 € pro Trainingseinheit + Mitgliedschaft bei den Landfrauen Jagstheim\nOrt:\nJagstauenhalle\, Jagstheimer Hauptstraße 157\, 74564 Crailsheim\nMitzubringen:\nBequeme Sportkleidung\, Getränk\nVerbindliche Anmeldung:\nBei Kathrin Lenz (0176.426 01912) \n 
URL:https://jagstheim.de/event/kick-4-fit-ist-ein-fitmachprogramm/2028-07-05/
LOCATION:Jagstauenhalle\, Jagstheimer Hauptstraße 157\, Crailsheim\, Baden-Württemberg\, 74564\, Deutschland
CATEGORIES:Landfrauen,Sportliches,Verein
END:VEVENT
BEGIN:VEVENT
DTSTART;TZID=Europe/Helsinki:20280712T181500
DTEND;TZID=Europe/Helsinki:20280712T193000
DTSTAMP:20260423T063825
CREATED:20230825T194007Z
LAST-MODIFIED:20240107T123230Z
UID:10001054-1847038500-1847043000@jagstheim.de
SUMMARY:KICK 4 Fit ist ein Fitmachprogramm
DESCRIPTION:KICK 4 Fit ist ein Fitmachprogramm mit dynamischen Elementen aus der Kampfsportart Taekwondo.\nVöllig gewaltfrei trainieren wir mit Jung und Alt unsere Schnelligkeit\, Ausdauer\, Kraft und Koordination.\nWir verbessern unsere Reaktions- und Leistungsfähigkeit und stimulieren Nervensystem\, Muskeln\, Sehnen und Gelenke auf äußerst dynamische Art und Weise.\nNach den Sommerferien geht’s weiter — die perfekte Möglichkeit für dich\, um einzusteigen!\nMACH MIT! AB 13. SEPTEMBER 2023\, 18.15 – 19.30 UHR\nTrainer:\nPascal Mele\, 5. Dan TKD & Isabell Schäfer\, 3. Dan TKD\nBeginn:\nMittwoch 13. September 2023\, je 18.15 – 19.30 Uhr\nAblauf:\nKontinuierlich laufender Kurs\, Einstieg jederzeit möglich\nKursgebühr:\n8\,00 € pro Trainingseinheit + Mitgliedschaft bei den Landfrauen Jagstheim\nOrt:\nJagstauenhalle\, Jagstheimer Hauptstraße 157\, 74564 Crailsheim\nMitzubringen:\nBequeme Sportkleidung\, Getränk\nVerbindliche Anmeldung:\nBei Kathrin Lenz (0176.426 01912) \n 
URL:https://jagstheim.de/event/kick-4-fit-ist-ein-fitmachprogramm/2028-07-12/
LOCATION:Jagstauenhalle\, Jagstheimer Hauptstraße 157\, Crailsheim\, Baden-Württemberg\, 74564\, Deutschland
CATEGORIES:Landfrauen,Sportliches,Verein
END:VEVENT
BEGIN:VEVENT
DTSTART;VALUE=DATE:20280718
DTEND;VALUE=DATE:20280719
DTSTAMP:20260423T063825
CREATED:20250102T070320Z
LAST-MODIFIED:20250205T062354Z
UID:10005225-1847491200-1847577599@jagstheim.de
SUMMARY:Biomüll und Restmüll
DESCRIPTION:Crailsheim – Bezirk 4 \nAbfuhrtermine: Landkreis Schwäbisch Hall \n  \n 
URL:https://jagstheim.de/event/biomuell-und-restmuell-18/2028-07-18/
CATEGORIES:Müllentsorgung
ATTACH;FMTTYPE=image/webp:https://jagstheim.de/wp-content/uploads/2023/07/BioRest.webp
END:VEVENT
BEGIN:VEVENT
DTSTART;TZID=Europe/Helsinki:20280719T181500
DTEND;TZID=Europe/Helsinki:20280719T193000
DTSTAMP:20260423T063825
CREATED:20230825T194007Z
LAST-MODIFIED:20240107T123230Z
UID:10001055-1847643300-1847647800@jagstheim.de
SUMMARY:KICK 4 Fit ist ein Fitmachprogramm
DESCRIPTION:KICK 4 Fit ist ein Fitmachprogramm mit dynamischen Elementen aus der Kampfsportart Taekwondo.\nVöllig gewaltfrei trainieren wir mit Jung und Alt unsere Schnelligkeit\, Ausdauer\, Kraft und Koordination.\nWir verbessern unsere Reaktions- und Leistungsfähigkeit und stimulieren Nervensystem\, Muskeln\, Sehnen und Gelenke auf äußerst dynamische Art und Weise.\nNach den Sommerferien geht’s weiter — die perfekte Möglichkeit für dich\, um einzusteigen!\nMACH MIT! AB 13. SEPTEMBER 2023\, 18.15 – 19.30 UHR\nTrainer:\nPascal Mele\, 5. Dan TKD & Isabell Schäfer\, 3. Dan TKD\nBeginn:\nMittwoch 13. September 2023\, je 18.15 – 19.30 Uhr\nAblauf:\nKontinuierlich laufender Kurs\, Einstieg jederzeit möglich\nKursgebühr:\n8\,00 € pro Trainingseinheit + Mitgliedschaft bei den Landfrauen Jagstheim\nOrt:\nJagstauenhalle\, Jagstheimer Hauptstraße 157\, 74564 Crailsheim\nMitzubringen:\nBequeme Sportkleidung\, Getränk\nVerbindliche Anmeldung:\nBei Kathrin Lenz (0176.426 01912) \n 
URL:https://jagstheim.de/event/kick-4-fit-ist-ein-fitmachprogramm/2028-07-19/
LOCATION:Jagstauenhalle\, Jagstheimer Hauptstraße 157\, Crailsheim\, Baden-Württemberg\, 74564\, Deutschland
CATEGORIES:Landfrauen,Sportliches,Verein
END:VEVENT
BEGIN:VEVENT
DTSTART;TZID=Europe/Helsinki:20280726T181500
DTEND;TZID=Europe/Helsinki:20280726T193000
DTSTAMP:20260423T063825
CREATED:20230825T194007Z
LAST-MODIFIED:20240107T123230Z
UID:10001056-1848248100-1848252600@jagstheim.de
SUMMARY:KICK 4 Fit ist ein Fitmachprogramm
DESCRIPTION:KICK 4 Fit ist ein Fitmachprogramm mit dynamischen Elementen aus der Kampfsportart Taekwondo.\nVöllig gewaltfrei trainieren wir mit Jung und Alt unsere Schnelligkeit\, Ausdauer\, Kraft und Koordination.\nWir verbessern unsere Reaktions- und Leistungsfähigkeit und stimulieren Nervensystem\, Muskeln\, Sehnen und Gelenke auf äußerst dynamische Art und Weise.\nNach den Sommerferien geht’s weiter — die perfekte Möglichkeit für dich\, um einzusteigen!\nMACH MIT! AB 13. SEPTEMBER 2023\, 18.15 – 19.30 UHR\nTrainer:\nPascal Mele\, 5. Dan TKD & Isabell Schäfer\, 3. Dan TKD\nBeginn:\nMittwoch 13. September 2023\, je 18.15 – 19.30 Uhr\nAblauf:\nKontinuierlich laufender Kurs\, Einstieg jederzeit möglich\nKursgebühr:\n8\,00 € pro Trainingseinheit + Mitgliedschaft bei den Landfrauen Jagstheim\nOrt:\nJagstauenhalle\, Jagstheimer Hauptstraße 157\, 74564 Crailsheim\nMitzubringen:\nBequeme Sportkleidung\, Getränk\nVerbindliche Anmeldung:\nBei Kathrin Lenz (0176.426 01912) \n 
URL:https://jagstheim.de/event/kick-4-fit-ist-ein-fitmachprogramm/2028-07-26/
LOCATION:Jagstauenhalle\, Jagstheimer Hauptstraße 157\, Crailsheim\, Baden-Württemberg\, 74564\, Deutschland
CATEGORIES:Landfrauen,Sportliches,Verein
END:VEVENT
BEGIN:VEVENT
DTSTART;VALUE=DATE:20280727
DTEND;VALUE=DATE:20280728
DTSTAMP:20260423T063825
CREATED:20260308T105021Z
LAST-MODIFIED:20260308T105022Z
UID:10007880-1848268800-1848355199@jagstheim.de
SUMMARY:Gelber Sack und Papiertonne
DESCRIPTION:Crailsheim – Bezirk 4 \nAbfuhrtermine: Landkreis Schwäbisch Hall \n  \n 
URL:https://jagstheim.de/event/gelber-sack-und-papiertonne-10-2/2028-07-27/
CATEGORIES:Müllentsorgung
ATTACH;FMTTYPE=image/webp:https://jagstheim.de/wp-content/uploads/2023/07/GelbPapier.webp
END:VEVENT
END:VCALENDAR