BEGIN:VCALENDAR
VERSION:2.0
PRODID:-//Jagstheim - ECPv6.15.20//NONSGML v1.0//EN
CALSCALE:GREGORIAN
METHOD:PUBLISH
X-ORIGINAL-URL:https://jagstheim.de
X-WR-CALDESC:Veranstaltungen für Jagstheim
REFRESH-INTERVAL;VALUE=DURATION:PT1H
X-Robots-Tag:noindex
X-PUBLISHED-TTL:PT1H
BEGIN:VTIMEZONE
TZID:Europe/Helsinki
BEGIN:DAYLIGHT
TZOFFSETFROM:+0200
TZOFFSETTO:+0300
TZNAME:EEST
DTSTART:20220327T010000
END:DAYLIGHT
BEGIN:STANDARD
TZOFFSETFROM:+0300
TZOFFSETTO:+0200
TZNAME:EET
DTSTART:20221030T010000
END:STANDARD
BEGIN:DAYLIGHT
TZOFFSETFROM:+0200
TZOFFSETTO:+0300
TZNAME:EEST
DTSTART:20230326T010000
END:DAYLIGHT
BEGIN:STANDARD
TZOFFSETFROM:+0300
TZOFFSETTO:+0200
TZNAME:EET
DTSTART:20231029T010000
END:STANDARD
BEGIN:DAYLIGHT
TZOFFSETFROM:+0200
TZOFFSETTO:+0300
TZNAME:EEST
DTSTART:20240331T010000
END:DAYLIGHT
BEGIN:STANDARD
TZOFFSETFROM:+0300
TZOFFSETTO:+0200
TZNAME:EET
DTSTART:20241027T010000
END:STANDARD
END:VTIMEZONE
BEGIN:VEVENT
DTSTART;VALUE=DATE:20230804
DTEND;VALUE=DATE:20230805
DTSTAMP:20260424T070300
CREATED:20230525T180313Z
LAST-MODIFIED:20230711T142844Z
UID:10000014-1691107200-1691193599@jagstheim.de
SUMMARY:Gelber Sack und Papiertonne
DESCRIPTION:Crailsheim – Bezirk 4 \nLandkreis Schwäbisch Hall | Abfallkalender | (lrasha.de) \n 
URL:https://jagstheim.de/event/gelber-sack-und-papiertonne-3/
CATEGORIES:Müllentsorgung
ATTACH;FMTTYPE=image/webp:https://jagstheim.de/wp-content/uploads/2023/07/GelbPapier.webp
END:VEVENT
BEGIN:VEVENT
DTSTART;VALUE=DATE:20230808
DTEND;VALUE=DATE:20230809
DTSTAMP:20260424T070300
CREATED:20230525T180314Z
LAST-MODIFIED:20230711T143937Z
UID:10000015-1691452800-1691539199@jagstheim.de
SUMMARY:Biomüll und Restmüll
DESCRIPTION:Crailsheim – Bezirk 4 \nLandkreis Schwäbisch Hall | Abfallkalender | (lrasha.de) \n 
URL:https://jagstheim.de/event/biomuell-und-restmuell-6/
CATEGORIES:Müllentsorgung
ATTACH;FMTTYPE=image/webp:https://jagstheim.de/wp-content/uploads/2023/07/BioRest.webp
END:VEVENT
BEGIN:VEVENT
DTSTART;VALUE=DATE:20230819
DTEND;VALUE=DATE:20230826
DTSTAMP:20260424T070300
CREATED:20230706T075024Z
LAST-MODIFIED:20230706T082356Z
UID:10000237-1692403200-1693007999@jagstheim.de
SUMMARY:VfB
DESCRIPTION:Freizeitlager im Allgäu \n 
URL:https://jagstheim.de/event/vfb/
CATEGORIES:Verein
ATTACH;FMTTYPE=image/jpeg:https://jagstheim.de/wp-content/uploads/2023/07/campfire-896196_640.jpg
END:VEVENT
BEGIN:VEVENT
DTSTART;VALUE=DATE:20230822
DTEND;VALUE=DATE:20230823
DTSTAMP:20260424T070300
CREATED:20230525T180314Z
LAST-MODIFIED:20230711T143918Z
UID:10000016-1692662400-1692748799@jagstheim.de
SUMMARY:Biomüll und Restmüll
DESCRIPTION:Crailsheim – Bezirk 4 \nLandkreis Schwäbisch Hall | Abfallkalender | (lrasha.de) \n 
URL:https://jagstheim.de/event/biomuell-und-restmuell-7/
CATEGORIES:Müllentsorgung
ATTACH;FMTTYPE=image/webp:https://jagstheim.de/wp-content/uploads/2023/07/BioRest.webp
END:VEVENT
BEGIN:VEVENT
DTSTART;VALUE=DATE:20230826
DTEND;VALUE=DATE:20230828
DTSTAMP:20260424T070300
CREATED:20230706T080030Z
LAST-MODIFIED:20230706T080030Z
UID:10000242-1693008000-1693180799@jagstheim.de
SUMMARY:Feuerwehr
DESCRIPTION:Hocketse \n 
URL:https://jagstheim.de/event/feuerwehr/
LOCATION:Feuerwehrgerätehaus\, Feuerwehr u. LF / LK-Vereinsheim\, Crailsheim\, Baden-Württemberg\, 74564\, Deutschland
CATEGORIES:Feuerwehr
ATTACH;FMTTYPE=image/jpeg:https://jagstheim.de/wp-content/uploads/2023/07/people-110316_640.jpg
END:VEVENT
BEGIN:VEVENT
DTSTART;TZID=Europe/Helsinki:20230827T103000
DTEND;TZID=Europe/Helsinki:20230827T113000
DTSTAMP:20260424T070300
CREATED:20230706T080852Z
LAST-MODIFIED:20230706T080852Z
UID:10000247-1693132200-1693135800@jagstheim.de
SUMMARY:ev. Kirchengemeinde
DESCRIPTION:Gottesdienst \n 
URL:https://jagstheim.de/event/ev-kirchengemeinde-2/
LOCATION:Feuerwehrgerätehaus\, Feuerwehr u. LF / LK-Vereinsheim\, Crailsheim\, Baden-Württemberg\, 74564\, Deutschland
CATEGORIES:Kirche
ATTACH;FMTTYPE=image/jpeg:https://jagstheim.de/wp-content/uploads/2023/07/bible-5255924_640.jpg
END:VEVENT
END:VCALENDAR